BEGIN:VCALENDAR
VERSION:2.0
PRODID:-//イルチブレインヨガ公式サイト - ECPv6.15.16//NONSGML v1.0//EN
CALSCALE:GREGORIAN
METHOD:PUBLISH
X-WR-CALNAME:イルチブレインヨガ公式サイト
X-ORIGINAL-URL:https://ilchibrainyoga.com
X-WR-CALDESC:イルチブレインヨガ公式サイト のイベント
REFRESH-INTERVAL;VALUE=DURATION:PT1H
X-Robots-Tag:noindex
X-PUBLISHED-TTL:PT1H
BEGIN:VTIMEZONE
TZID:Asia/Tokyo
BEGIN:STANDARD
TZOFFSETFROM:+0900
TZOFFSETTO:+0900
TZNAME:JST
DTSTART:20250101T000000
END:STANDARD
END:VTIMEZONE
BEGIN:VEVENT
DTSTART;TZID=Asia/Tokyo:20260315T100000
DTEND;TZID=Asia/Tokyo:20260315T113000
DTSTAMP:20260422T103952
CREATED:20260307T024057Z
LAST-MODIFIED:20260307T024115Z
UID:86049-1773568800-1773574200@ilchibrainyoga.com
SUMMARY:【名古屋】【春の新しい自分発見! 瞑想&気功セミナー】〜ダイナミック瞑想 “3ボディー&7チャクラ”〜
DESCRIPTION:「チャクラ」とは、東洋の伝統的な考え方に基づく\n心と体のエネルギーバランスのポイントです。\n私たちの感情や思考、体の状態とも深く関わっていると考えられています。 \nこの体験会では、無理な動きや特別な感覚を求めることなく、\n呼吸・意識・やさしい誘導を通して、\n今のご自身の状態に気づきながら、心身のバランスを整えていきます。 \n日常の中で感じている、\n「なんとなく疲れが抜けない」\n「気持ちが落ち着かない」\n「頭が休まらない」\nそれは、知らず知らずのうちに力が入り続けているサインかもしれません。\nそんな日常的に感じている方におすすめです。 \n開催日：3月15日（日）\n時間：10:00~11:30（9:40~受付開始）\n会場名：オルバーズビル2階会議室A室\n会場住所：名古屋市中村区名駅南1-19-27\n参加費：2000円\n持ち物：動きやすい服装、タオル、お飲み物\n問合せ電話：052-453-7120（イルチブレインヨガ名古屋スタジオ） \nお申し込み、お問い合わせはこのラインからご連絡ください🙆\n\nhttps://lin.ee/IhC4NTNU \n\n\n  \n\n\n\n\n	\n	\n	 \n	\n		\n			\n				ご予約内容\n						（必須）\n						\n				 \n			\n			\n				体験レッスンイベント体験レッスン + オーラ撮影オーラ撮影問合せ\n　※ 入会予約はこちらからお申し込みください\n				 \n			\n		\n		\n			\n				お名前\n						（必須）\n						\n				 \n			\n			\n				\n				 \n			\n		\n		\n			\n				メールアドレス\n						（必須）\n						\n				 \n			\n			\n				\n※ 携帯電話のメールアドレスをご入力の際は、ドメイン指定の設定をされている場合”＠ilchibrainyoga.com”からのメールを受け取ることができるように設定してください。\n				 \n			\n		\n		\n			\n				お電話番号（携帯可）\n						（必須）\n						\n				 \n			\n			\n				イルチブレインヨガ各店舗からの連絡が可能な番号をご入力ください。\n\n				 \n			\n		\n		\n			\n				ご予約希望日時\n				 \n			\n			\n				ご予約希望日時をお選びください\n【希望日】タイムスケジュールに記載があるクラスからお選びください\n\n時間帯を選択してください10時台のクラス14時台のクラス18時台のクラス19時台のクラス午前のイベント午後のイベント夜のイベント\n				 \n				※ ご予約状況等によりご希望の日時に添えない場合もございます。その際は事前に調整を行う連絡をさせていただきますので予めご了承ください。\n\n				 \n			\n		\n		\n			\n				こちらのスタジオを何でお知りになりましたか？\n						 （必須）\n						\n				 \n			\n			\n				チラシ看板書籍雑誌紹介Yahoo検索Google検索口コミその他Webサイト\n				 \n			\n		\n		\n			\n				ご関心があること、習得したいこと（複数可）\n				 \n			\n			\n				自然治癒力アップ集中力アップダイエット体質改善ストレス軽減丹田強化呼吸法瞑想法その他（備考欄にご入力ください）\n				 \n			\n		\n		\n			\n				備考欄\n				 \n			\n			\n				\n				 \n			\n		\n	\n	個人情報の取扱い\n		について、同意の上送信します。\n※ ご入力頂いた情報は、株式会社DAHN WORLD JAPANからのご案内をさせて頂く以外の目的では使用致しません。\n		\n	 \n	\n	\n	 \n	※ 送信ボタンを押すとすぐ送信されます。このページで入力内容を確認してください。\n\n自動で完了メールが配信されます。\n	 \nΔ \n\n\n\n株式会社DAHN WORLD JAPAN　ダンワールドジャパン
URL:https://ilchibrainyoga.com/event/nagoya-34/
LOCATION:オルバーズビル2階会議室A室\, 名古屋市中村区名駅南1-19-27
CATEGORIES:中部,名古屋,愛知
END:VEVENT
BEGIN:VEVENT
DTSTART;TZID=Asia/Tokyo:20260318T193000
DTEND;TZID=Asia/Tokyo:20260318T210000
DTSTAMP:20260422T103952
CREATED:20260310T013206Z
LAST-MODIFIED:20260317T023701Z
UID:86222-1773862200-1773867600@ilchibrainyoga.com
SUMMARY:【岐阜】 【歌気功】我理朗（アリラン）歌気功体験会
DESCRIPTION:3ボディ7チャクラ・浄化トレーニング\n開催日：3月18日（水）\n時間：19:30〜21:00\n会場名：イルチブレインヨガ岐阜スタジオ\n会場住所：岐阜市長住町２－２，岐阜都ビル5階\n参加費：1\,000円\nトレーナー：川崎地域長先生\n持ち物：動ける服装、水、タオル\n問合せ電話：058-266-7270 \n\nLINEからのお申し込みはこちら⇒https://lin.ee/A7dXgIv \n\n\n  \n\n\n\n\n	\n	\n	 \n	\n		\n			\n				ご予約内容\n						（必須）\n						\n				 \n			\n			\n				体験レッスンイベント体験レッスン+オーラ撮影オーラ撮影問合せ\n				 \n				※ 入会予約はこちらからお申し込みください\n				 \n			\n		\n		\n			\n				お名前\n						（必須）\n						\n				 \n			\n			\n				\n				 \n			\n		\n		\n			\n				メールアドレス\n						（必須）\n						\n				 \n			\n			\n				\n※ 携帯電話のメールアドレスをご入力の際は、ドメイン指定の設定をされている場合”＠ilchibrainyoga.com”からのメールを受け取ることができるように設定してください。\n				 \n			\n		\n		\n			\n				お電話番号（携帯可）\n						（必須）\n						\n				 \n			\n			\n				イルチブレインヨガ各店舗からの連絡が可能な番号をご入力ください。\n\n				 \n			\n		\n		\n			\n				ご予約希望日時\n				 \n			\n			\n				ご予約希望日時をお選びください\n【希望日】タイムスケジュールに記載があるクラスからお選びください\n\n時間帯を選択してください10時台のクラス14時台のクラス19時台のクラス午前のイベント午後のイベント夜のイベント\n				 \n				※ ご予約状況等によりご希望の日時に添えない場合もございます。その際は事前に調整を行う連絡をさせていただきますので予めご了承ください。\n\n				 \n			\n		\n		\n			\n				こちらのスタジオを何でお知りになりましたか？\n						 （必須）\n						\n				 \n			\n			\n				チラシ看板書籍雑誌紹介Yahoo検索Google検索口コミその他Webサイト\n				 \n			\n		\n		\n			\n				ご関心があること、習得したいこと（複数可）\n				 \n			\n			\n				自然治癒力アップ集中力アップダイエット体質改善ストレス軽減丹田強化呼吸法瞑想法その他（備考欄にご入力ください）\n				 \n			\n		\n		\n			\n				備考欄\n				 \n			\n			\n				\n				 \n			\n		\n	\n	個人情報の取扱い\n		について、同意の上送信します。\n※ ご入力頂いた情報は、株式会社DAHN WORLD JAPANからのご案内をさせて頂く以外の目的では使用致しません。\n		\n	 \n	\n	\n	 \n	※ 送信ボタンを押すとすぐ送信されます。このページで入力内容を確認してください。\n\n自動で完了メールが配信されます。\n	 \nΔ \n\n\n\n株式会社DAHN WORLD JAPAN
URL:https://ilchibrainyoga.com/event/gifu-25/
LOCATION:イルチブレインヨガ岐阜スタジオ\, 岐阜市長住町２－２，岐阜都ビル5階
CATEGORIES:中部,岐阜,岐阜
ATTACH;FMTTYPE=image/jpeg:https://ilchibrainyoga.com/wp-content/uploads/2026/03/3881830_s.jpg
END:VEVENT
BEGIN:VEVENT
DTSTART;TZID=Asia/Tokyo:20260320T100000
DTEND;TZID=Asia/Tokyo:20260320T113000
DTSTAMP:20260422T103952
CREATED:20260305T064230Z
LAST-MODIFIED:20260306T075426Z
UID:85961-1774000800-1774006200@ilchibrainyoga.com
SUMMARY:【八事】春の新しい自分発見！瞑想&気功セミナー～生活気功 “アリラン気功”～
DESCRIPTION:簡単な動きで自分の感覚と生命のリズムを目覚めさせ、\n呼吸・意識・やさしい誘導を通して、心身の状態を整えていきます。 \n・疲れが抜けにくい\n・気持ちが落ち着かない\n・頭が休まらない \nそんな日常的な不調を感じている方におすすめです。 \n開催日：3月20日（金・祝）\n時間：10:00～11:30（9:40～受付開始）\n会場名：オルバーズビル2階会議室A室\n会場住所：名古屋市中村区名駅南1-19-27\n参加費：2000円\nトレーナー：エルガ・ラウラ\n持ち物：動きやすい服装、タオル、お飲み物\n問合せ電話：052-836-6567 \n\nLINEからのお申し込みはこちら⇒https://lin.ee/urzdos2 \n\n\n  \n\n\n\n\n	\n	\n	 \n	\n		\n			\n				ご予約内容\n						（必須）\n						\n				 \n			\n			\n				体験レッスンイベント体験レッスン+オーラ撮影オーラ撮影問合せ\n				 \n				※ 入会予約はこちらからお申し込みください\n				 \n			\n		\n		\n			\n				お名前\n						（必須）\n						\n				 \n			\n			\n				\n				 \n			\n		\n		\n			\n				メールアドレス\n						（必須）\n						\n				 \n			\n			\n				\n※ 携帯電話のメールアドレスをご入力の際は、ドメイン指定の設定をされている場合”＠ilchibrainyoga.com”からのメールを受け取ることができるように設定してください。\n				 \n			\n		\n		\n			\n				お電話番号（携帯可）\n						（必須）\n						\n				 \n			\n			\n				イルチブレインヨガ各店舗からの連絡が可能な番号をご入力ください。\n\n				 \n			\n		\n		\n			\n				ご予約希望日時\n				 \n			\n			\n				ご予約希望日時をお選びください\n【希望日】タイムスケジュールに記載があるクラスからお選びください\n\n時間帯を選択してください10時台のクラス14時台のクラス19時台のクラス午前のイベント午後のイベント夜のイベント\n				 \n				※ ご予約状況等によりご希望の日時に添えない場合もございます。その際は事前に調整を行う連絡をさせていただきますので予めご了承ください。\n\n				 \n			\n		\n		\n			\n				こちらのスタジオを何でお知りになりましたか？\n						 （必須）\n						\n				 \n			\n			\n				チラシ看板書籍雑誌紹介Yahoo検索Google検索口コミその他Webサイト\n				 \n			\n		\n		\n			\n				ご関心があること、習得したいこと（複数可）\n				 \n			\n			\n				自然治癒力アップ集中力アップダイエット体質改善ストレス軽減丹田強化呼吸法瞑想法その他（備考欄にご入力ください）\n				 \n			\n		\n		\n			\n				備考欄\n				 \n			\n			\n				\n				 \n			\n		\n	\n	個人情報の取扱い\n		について、同意の上送信します。\n※ ご入力頂いた情報は、株式会社DAHN WORLD JAPANからのご案内をさせて頂く以外の目的では使用致しません。\n		\n	 \n	\n	\n	 \n	※ 送信ボタンを押すとすぐ送信されます。このページで入力内容を確認してください。\n\n自動で完了メールが配信されます。\n	 \nΔ \n\n\n\n株式会社DAHN WORLD JAPAN　ダンワールドジャパン
URL:https://ilchibrainyoga.com/event/yagoto-40/
LOCATION:オルバーズビル2階会議室A室\, 名古屋市中村区名駅南1-19-27
CATEGORIES:中部,八事,愛知
ATTACH;FMTTYPE=image/png:https://ilchibrainyoga.com/wp-content/uploads/2025/11/気功-2人-新モデル.png
END:VEVENT
BEGIN:VEVENT
DTSTART;TZID=Asia/Tokyo:20260320T100000
DTEND;TZID=Asia/Tokyo:20260320T113000
DTSTAMP:20260422T103952
CREATED:20260307T024334Z
LAST-MODIFIED:20260307T024334Z
UID:86053-1774000800-1774006200@ilchibrainyoga.com
SUMMARY:【名古屋】【春の新しい自分発見! 瞑想&気功セミナー】〜生活気功 “アリラン気功”〜
DESCRIPTION:簡単な動きで自分の感覚と生命のリズムを目覚めさせ、\n呼吸・意識・やさしい誘導を通して、心身の状態を整えていきます。\n・疲れが抜けにくい\n・気持ちが落ち着かない\n・頭が休まらない\nそんな日常的に感じている方におすすめです。 \n開催日：3月20日（金・祝）\n時間：10:00～11:30（9:40～受付開始）\n会場名：オルバーズビル2階会議室A室\n会場住所：名古屋市中村区名駅南1-19-27\n参加費：2000円\nトレーナー：エルガ・ラウラ\n持ち物：動きやすい服装、タオル、お飲み物\n問合せ電話：052-453-7120 \nお申し込み、お問い合わせはこのラインからご連絡ください🙆\n\nhttps://lin.ee/IhC4NTNU \n\n\n  \n\n\n\n\n	\n	\n	 \n	\n		\n			\n				ご予約内容\n						（必須）\n						\n				 \n			\n			\n				体験レッスンイベント体験レッスン + オーラ撮影オーラ撮影問合せ\n　※ 入会予約はこちらからお申し込みください\n				 \n			\n		\n		\n			\n				お名前\n						（必須）\n						\n				 \n			\n			\n				\n				 \n			\n		\n		\n			\n				メールアドレス\n						（必須）\n						\n				 \n			\n			\n				\n※ 携帯電話のメールアドレスをご入力の際は、ドメイン指定の設定をされている場合”＠ilchibrainyoga.com”からのメールを受け取ることができるように設定してください。\n				 \n			\n		\n		\n			\n				お電話番号（携帯可）\n						（必須）\n						\n				 \n			\n			\n				イルチブレインヨガ各店舗からの連絡が可能な番号をご入力ください。\n\n				 \n			\n		\n		\n			\n				ご予約希望日時\n				 \n			\n			\n				ご予約希望日時をお選びください\n【希望日】タイムスケジュールに記載があるクラスからお選びください\n\n時間帯を選択してください10時台のクラス14時台のクラス18時台のクラス19時台のクラス午前のイベント午後のイベント夜のイベント\n				 \n				※ ご予約状況等によりご希望の日時に添えない場合もございます。その際は事前に調整を行う連絡をさせていただきますので予めご了承ください。\n\n				 \n			\n		\n		\n			\n				こちらのスタジオを何でお知りになりましたか？\n						 （必須）\n						\n				 \n			\n			\n				チラシ看板書籍雑誌紹介Yahoo検索Google検索口コミその他Webサイト\n				 \n			\n		\n		\n			\n				ご関心があること、習得したいこと（複数可）\n				 \n			\n			\n				自然治癒力アップ集中力アップダイエット体質改善ストレス軽減丹田強化呼吸法瞑想法その他（備考欄にご入力ください）\n				 \n			\n		\n		\n			\n				備考欄\n				 \n			\n			\n				\n				 \n			\n		\n	\n	個人情報の取扱い\n		について、同意の上送信します。\n※ ご入力頂いた情報は、株式会社DAHN WORLD JAPANからのご案内をさせて頂く以外の目的では使用致しません。\n		\n	 \n	\n	\n	 \n	※ 送信ボタンを押すとすぐ送信されます。このページで入力内容を確認してください。\n\n自動で完了メールが配信されます。\n	 \nΔ \n\n\n\n株式会社DAHN WORLD JAPAN　ダンワールドジャパン
URL:https://ilchibrainyoga.com/event/nagoya-35/
LOCATION:オルバーズビル2階会議室A室\, 名古屋市中村区名駅南1-19-27
CATEGORIES:中部,名古屋,愛知
END:VEVENT
BEGIN:VEVENT
DTSTART;TZID=Asia/Tokyo:20260320T100000
DTEND;TZID=Asia/Tokyo:20260320T120000
DTSTAMP:20260422T103952
CREATED:20260310T045514Z
LAST-MODIFIED:20260310T045514Z
UID:86259-1774000800-1774008000@ilchibrainyoga.com
SUMMARY:【金山】3/20（金）㊗️ 我理朗（アリラン）ARIRANG　気功　体験会
DESCRIPTION:我理朗気功の効果\n我理朗（アリラン）気功でほんとうの自分に出会う体験を一緒にしませんか？\n我理朗気功トレーニング \n3/20（金）㊗️10:00〜\n野外トレーニング\n岐阜公園\n無料\nトレーナー…川村優奈 \n問合せ電話：052-682-1707 \n\nLINEからのお申し込みはこちら⇒https://lin.ee/z81rxIR \n\n\n  \n\n\n\n\n	\n	\n	 \n	\n		\n			\n				ご予約内容\n						（必須）\n						\n				 \n			\n			\n				体験レッスンイベント体験レッスン+オーラ撮影オーラ撮影問合せ\n　※ 入会予約はこちらからお申し込みください\n				 \n			\n		\n		\n			\n				お名前\n						（必須）\n						\n				 \n			\n			\n				\n				 \n			\n		\n		\n			\n				メールアドレス\n						（必須）\n						\n				 \n			\n			\n				\n※ 携帯電話のメールアドレスをご入力の際は、ドメイン指定の設定をされている場合”＠ilchibrainyoga.com”からのメールを受け取ることができるように設定してください。\n				 \n			\n		\n		\n			\n				お電話番号（携帯可）\n						（必須）\n						\n				 \n			\n			\n				イルチブレインヨガ各店舗からの連絡が可能な番号をご入力ください。\n\n				 \n			\n		\n		\n			\n				ご予約希望日時\n				 \n			\n			\n				ご予約希望日時をお選びください\n【希望日】タイムスケジュールに記載があるクラスからお選びください\n\n時間帯を選択してください10時台のクラス14時台のクラス19時台のクラス午前のイベント午後のイベント夜のイベント\n				 \n				※ ご予約状況等によりご希望の日時に添えない場合もございます。その際は事前に調整を行う連絡をさせていただきますので予めご了承ください。\n\n				 \n			\n		\n		\n			\n				こちらのスタジオを何でお知りになりましたか？\n						 （必須）\n						\n				 \n			\n			\n				チラシ看板書籍雑誌紹介Yahoo検索Google検索口コミその他Webサイト\n				 \n			\n		\n		\n			\n				ご関心があること、習得したいこと（複数可）\n				 \n			\n			\n				自然治癒力アップ集中力アップダイエット体質改善ストレス軽減丹田強化呼吸法瞑想法その他（備考欄にご入力ください）\n				 \n			\n		\n		\n			\n				備考欄\n				 \n			\n			\n				\n				 \n			\n		\n	\n	個人情報の取扱い\n		について、同意の上送信します。\n\n※ ご入力頂いた情報は、株式会社DAHN WORLD JAPANからのご案内をさせて頂く以外の目的では使用致しません。\n		\n	 \n	\n	\n	 \n	※ 送信ボタンを押すとすぐ送信されます。このページで入力内容を確認してください。\n\n自動で完了メールが配信されます。\n	 \nΔ \n\n\n\n株式会社DAHN WORLD JAPAN（ダンワールドジャパン）
URL:https://ilchibrainyoga.com/event/kanayama-51/
LOCATION:岐阜公園\, 岐阜県岐阜市大宮町1丁目
CATEGORIES:中部,愛知,金山
ATTACH;FMTTYPE=image/png:https://ilchibrainyoga.com/wp-content/uploads/2025/11/気功-2人-新モデル.png
END:VEVENT
BEGIN:VEVENT
DTSTART;TZID=Asia/Tokyo:20260320T140000
DTEND;TZID=Asia/Tokyo:20260320T153000
DTSTAMP:20260422T103952
CREATED:20260314T044736Z
LAST-MODIFIED:20260314T044736Z
UID:86675-1774015200-1774020600@ilchibrainyoga.com
SUMMARY:【豊田】我理朗（アリラン）ARIRANG　気功と呼吸瞑想　体験会
DESCRIPTION:「我理朗(アリラン)」という意味\n「我」＝わたし\n「理」＝知る\n「朗」＝喜び \nつまり、本当の自分を知る喜び、本来の自分を悟る喜びという意味が込められています。 \n我理朗(アリラン)気功、瞑想を通してほんとうの自分に出会う体験をしてみませんか？ \n開催日：3月20日(金)\n時間：14:00〜15:30\n会場名：イルチブレインヨガ豊田スタジオ\n会場住所：愛知県豊田市小坂本町1-8-7 ベルトピア豊田Iビル6階\n参加費：1000円\nトレーナー：根本朱美\n持ち物：タオル、お茶 \n問合せ電話：0565-34-5556 \n\nLINEからのお申し込みはこちら⇒https://lin.ee/xdHuY5F \n\n\n  \n\n\n\n\n	\n	\n	 \n	\n		\n			\n				ご予約内容\n						（必須）\n						\n				 \n			\n			\n				体験レッスンイベント体験レッスン+オーラ撮影オーラ撮影問合せ\n　※ 入会予約はこちらからお申し込みください\n				 \n			\n		\n		\n			\n				お名前\n						（必須）\n						\n				 \n			\n			\n				\n				 \n			\n		\n		\n			\n				メールアドレス\n						（必須）\n						\n				 \n			\n			\n				\n※ 携帯電話のメールアドレスをご入力の際は、ドメイン指定の設定をされている場合”＠ilchibrainyoga.com”からのメールを受け取ることができるように設定してください。\n				 \n			\n		\n		\n			\n				お電話番号（携帯可）\n						（必須）\n						\n				 \n			\n			\n				イルチブレインヨガ各店舗からの連絡が可能な番号をご入力ください。\n\n				 \n			\n		\n		\n			\n				ご予約希望日時\n				 \n			\n			\n				ご予約希望日時をお選びください\n【希望日】タイムスケジュールに記載があるクラスからお選びください\n\n時間帯を選択してください10時台のクラス14時台のクラス19時台のクラス午前のイベント午後のイベント夜のイベント\n				 \n				※ ご予約状況等によりご希望の日時に添えない場合もございます。その際は事前に調整を行う連絡をさせていただきますので予めご了承ください。\n\n				 \n			\n		\n		\n			\n				こちらのスタジオを何でお知りになりましたか？\n						 （必須）\n						\n				 \n			\n			\n				チラシ看板書籍雑誌紹介Yahoo検索Google検索口コミその他Webサイト\n				 \n			\n		\n		\n			\n				ご関心があること、習得したいこと（複数可）\n				 \n			\n			\n				自然治癒力アップ集中力アップダイエット体質改善ストレス軽減丹田強化呼吸法瞑想法その他（備考欄にご入力ください）\n				 \n			\n		\n		\n			\n				備考欄\n				 \n			\n			\n				\n				 \n			\n		\n	\n	個人情報の取扱い\n		について、同意の上送信します。\n※ ご入力頂いた情報は、株式会社DAHN WORLD JAPANからのご案内をさせて頂く以外の目的では使用致しません。\n		\n	 \n	\n	\n	 \n	※ 送信ボタンを押すとすぐ送信されます。このページで入力内容を確認してください。\n\n自動で完了メールが配信されます。\n	 \nΔ \n\n\n\n株式会社DAHN WORLD JAPAN　ダンワールドジャパン
URL:https://ilchibrainyoga.com/event/toyota-9/
LOCATION:イルチブレインヨガ豊田スタジオ\, 愛知県豊田市小坂本町 1-8-7 ベルトピア豊田I ビル6F
CATEGORIES:中部,愛知,豊田
ATTACH;FMTTYPE=image/jpeg:https://ilchibrainyoga.com/wp-content/uploads/2026/03/ok_20240114JP-広報用写真撮影_DSC0401-scaled.jpg
END:VEVENT
BEGIN:VEVENT
DTSTART;TZID=Asia/Tokyo:20260321T123000
DTEND;TZID=Asia/Tokyo:20260321T143000
DTSTAMP:20260422T103952
CREATED:20260310T012647Z
LAST-MODIFIED:20260310T012647Z
UID:86216-1774096200-1774103400@ilchibrainyoga.com
SUMMARY:【岐阜】 春から始める！生活気功 “アリラン気功”体験会
DESCRIPTION:ブレイン体操、呼吸瞑想、アリラン気功\n開催日：3月21日（土）\n時間：12:30〜14:30\n会場名：みんなの森ぎふメデイアコスモス　あつまるスタジオ\n会場住所：岐阜市司町40番地5\n参加費：1\,000円\nトレーナー：小石民代\n持ち物：動ける服装、水、タオル\n問合せ電話：058-266-7270 \n\nLINEからのお申し込みはこちら⇒https://lin.ee/A7dXgIv \n\n\n  \n\n\n\n\n	\n	\n	 \n	\n		\n			\n				ご予約内容\n						（必須）\n						\n				 \n			\n			\n				体験レッスンイベント体験レッスン+オーラ撮影オーラ撮影問合せ\n				 \n				※ 入会予約はこちらからお申し込みください\n				 \n			\n		\n		\n			\n				お名前\n						（必須）\n						\n				 \n			\n			\n				\n				 \n			\n		\n		\n			\n				メールアドレス\n						（必須）\n						\n				 \n			\n			\n				\n※ 携帯電話のメールアドレスをご入力の際は、ドメイン指定の設定をされている場合”＠ilchibrainyoga.com”からのメールを受け取ることができるように設定してください。\n				 \n			\n		\n		\n			\n				お電話番号（携帯可）\n						（必須）\n						\n				 \n			\n			\n				イルチブレインヨガ各店舗からの連絡が可能な番号をご入力ください。\n\n				 \n			\n		\n		\n			\n				ご予約希望日時\n				 \n			\n			\n				ご予約希望日時をお選びください\n【希望日】タイムスケジュールに記載があるクラスからお選びください\n\n時間帯を選択してください10時台のクラス14時台のクラス19時台のクラス午前のイベント午後のイベント夜のイベント\n				 \n				※ ご予約状況等によりご希望の日時に添えない場合もございます。その際は事前に調整を行う連絡をさせていただきますので予めご了承ください。\n\n				 \n			\n		\n		\n			\n				こちらのスタジオを何でお知りになりましたか？\n						 （必須）\n						\n				 \n			\n			\n				チラシ看板書籍雑誌紹介Yahoo検索Google検索口コミその他Webサイト\n				 \n			\n		\n		\n			\n				ご関心があること、習得したいこと（複数可）\n				 \n			\n			\n				自然治癒力アップ集中力アップダイエット体質改善ストレス軽減丹田強化呼吸法瞑想法その他（備考欄にご入力ください）\n				 \n			\n		\n		\n			\n				備考欄\n				 \n			\n			\n				\n				 \n			\n		\n	\n	個人情報の取扱い\n		について、同意の上送信します。\n※ ご入力頂いた情報は、株式会社DAHN WORLD JAPANからのご案内をさせて頂く以外の目的では使用致しません。\n		\n	 \n	\n	\n	 \n	※ 送信ボタンを押すとすぐ送信されます。このページで入力内容を確認してください。\n\n自動で完了メールが配信されます。\n	 \nΔ \n\n\n\n株式会社DAHN WORLD JAPAN
URL:https://ilchibrainyoga.com/event/gifu-23/
LOCATION:みんなの森ぎふメデイアコスモス　あつまるスタジオ\, 岐阜市司町40番地5
CATEGORIES:中部,岐阜,岐阜
ATTACH;FMTTYPE=image/png:https://ilchibrainyoga.com/wp-content/uploads/2025/11/気功-2人-新モデル.png
END:VEVENT
BEGIN:VEVENT
DTSTART;TZID=Asia/Tokyo:20260324T140000
DTEND;TZID=Asia/Tokyo:20260324T153000
DTSTAMP:20260422T103952
CREATED:20260314T060919Z
LAST-MODIFIED:20260314T060919Z
UID:86683-1774360800-1774366200@ilchibrainyoga.com
SUMMARY:【新瑞橋】我理朗（アリラン）ARIRANG　気功と呼吸瞑想　
DESCRIPTION:「我理朗(アリラン)」という意味\n「我」＝わたし\n「理」＝知る\n「朗」＝喜び \nつまり、本当の自分を知る喜び、本来の自分を悟る喜びという意味が込められています。 \n我理朗(アリラン)気功、瞑想を通してほんとうの自分に出会う体験をしてみませんか？ \n開催日：3月24日（火）\n時間：14:00〜15:30\n会場名：イルチブレインヨガ新瑞橋教室\n会場住所：愛知県瑞穂区瑞穂通り8-7-3\n参加費：1000円\nトレーナー：\n持ち物：タオル、お茶\n問合せ電話：0565-34-5556 \n\nLINEからのお申し込みはこちら⇒https://lin.ee/haweZvW \n\n\n  \n\n\n\n\n	\n	\n	 \n	\n		\n			\n				ご予約内容\n						（必須）\n						\n				 \n			\n			\n				体験レッスンイベント体験レッスン+オーラ撮影オーラ撮影問合せ\n※ 入会予約はこちらからお申し込みください\n				 \n			\n		\n		\n			\n				お名前\n						（必須）\n						\n				 \n			\n			\n				\n				 \n			\n		\n		\n			\n				メールアドレス\n						（必須）\n						\n				 \n			\n			\n				\n※ 携帯電話のメールアドレスをご入力の際は、ドメイン指定の設定をされている場合”＠ilchibrainyoga.com”からのメールを受け取ることができるように設定してください。\n				 \n			\n		\n		\n			\n				お電話番号（携帯可）\n						（必須）\n						\n				 \n			\n			\n				イルチブレインヨガ各店舗からの連絡が可能な番号をご入力ください。\n\n				 \n			\n		\n		\n			\n				ご予約希望日時\n				 \n			\n			\n				ご予約希望日時をお選びください\n【希望日】タイムスケジュールに記載があるクラスからお選びください\n\n時間帯を選択してください10時台のクラス14時台のクラス19時台のクラス午前のイベント午後のイベント夜のイベント\n				 \n				※ ご予約状況等によりご希望の日時に添えない場合もございます。その際は事前に調整を行う連絡をさせていただきますので予めご了承ください。\n\n				 \n			\n		\n		\n			\n				こちらのスタジオを何でお知りになりましたか？\n						 （必須）\n						\n				 \n			\n			\n				チラシ看板書籍雑誌紹介Yahoo検索Google検索口コミその他Webサイト\n				 \n			\n		\n		\n			\n				ご関心があること、習得したいこと（複数可）\n				 \n			\n			\n				自然治癒力アップ集中力アップダイエット体質改善ストレス軽減丹田強化呼吸法瞑想法その他（備考欄にご入力ください）\n				 \n			\n		\n		\n			\n				備考欄\n				 \n			\n			\n				\n				 \n			\n		\n	\n	個人情報の取扱い\n		について、同意の上送信します。\n※ ご入力頂いた情報は、株式会社DAHN WORLD JAPANからのご案内をさせて頂く以外の目的では使用致しません。\n		\n	 \n	\n	\n	 \n	※ 送信ボタンを押すとすぐ送信されます。このページで入力内容を確認してください。\n\n自動で完了メールが配信されます。\n	 \nΔ \n\n\n\n株式会社DAHN WORLD JAPAN　ダンワールドジャパン
URL:https://ilchibrainyoga.com/event/aratamabashi-9/
LOCATION:イルチブレインヨガ新瑞橋スタジオ\, 愛知県名古屋市瑞穂区瑞穂通 8-7-3 新瑞野村ビル3F\, Japan
CATEGORIES:中部,愛知,新瑞橋
ATTACH;FMTTYPE=image/jpeg:https://ilchibrainyoga.com/wp-content/uploads/2026/03/20240114JP-広報用写真撮影_DSC0380--scaled.jpg
END:VEVENT
END:VCALENDAR