BEGIN:VCALENDAR
VERSION:2.0
PRODID:-//イルチブレインヨガ公式サイト - ECPv6.15.16//NONSGML v1.0//EN
CALSCALE:GREGORIAN
METHOD:PUBLISH
X-WR-CALNAME:イルチブレインヨガ公式サイト
X-ORIGINAL-URL:https://ilchibrainyoga.com
X-WR-CALDESC:イルチブレインヨガ公式サイト のイベント
REFRESH-INTERVAL;VALUE=DURATION:PT1H
X-Robots-Tag:noindex
X-PUBLISHED-TTL:PT1H
BEGIN:VTIMEZONE
TZID:Asia/Tokyo
BEGIN:STANDARD
TZOFFSETFROM:+0900
TZOFFSETTO:+0900
TZNAME:JST
DTSTART:20240101T000000
END:STANDARD
END:VTIMEZONE
BEGIN:VEVENT
DTSTART;TZID=Asia/Tokyo:20260328T100000
DTEND;TZID=Asia/Tokyo:20260328T170000
DTSTAMP:20260422T064805
CREATED:20260301T041746Z
LAST-MODIFIED:20260311T013205Z
UID:85735-1774692000-1774717200@ilchibrainyoga.com
SUMMARY:【天神】3月FAVOオーラ撮影イベント
DESCRIPTION:🍀今のあなたを、そっと知る時間✨\n色と数値で、心と体の声を聴いてみませんか❣️ \n・ 理由はわからないけど、疲れている。\n・ がんばってるのに、元気が出ない。\n・ ちゃんと寝てるのに、しんどい。\n　などなど… \n今の心と体の状態をチェック。\nオーラ撮影でエネルギーバランスをわかりやすくお伝えします。\n知るだけで、少し楽になる。 \n3月28日（土）10:00～17:00  \n会場名：新天町ファーボ\n会場住所：福岡市中央区天神2−9 \n参加費：通常価格2\,200円→特別価格1\,100円\n更にLINEお友達登録で　1\,000円 \n問合せ電話：092−714−1883(イルチブレインヨガ天神スタジオ） \n\nLINEからのお申し込みはこちら⇒https://lin.ee/VQ139go \n\n\n  \n\n\n\n\n	\n	\n	 \n	\n		\n			\n				ご予約内容\n						（必須）\n						\n				 \n			\n			\n				体験レッスンイベント体験レッスン+オーラ撮影オーラ撮影問合せ\n				 \n				※ 入会予約はこちらからお申し込みください\n				 \n			\n		\n		\n			\n				お名前\n						（必須）\n						\n				 \n			\n			\n				\n				 \n			\n		\n		\n			\n				メールアドレス\n						（必須）\n						\n				 \n			\n			\n				\n※ 携帯電話のメールアドレスをご入力の際は、ドメイン指定の設定をされている場合”＠ilchibrainyoga.com”からのメールを受け取ることができるように設定してください。\n				 \n			\n		\n		\n			\n				お電話番号（携帯可）\n						（必須）\n						\n				 \n			\n			\n				イルチブレインヨガ各店舗からの連絡が可能な番号をご入力ください。\n\n				 \n			\n		\n		\n			\n				ご予約希望日時\n				 \n			\n			\n				ご予約希望日時をお選びください\n【希望日】タイムスケジュールに記載があるクラスからお選びください\n\n時間帯を選択してください10時台のクラス14時台のクラス19時台のクラス午前のイベント午後のイベント夜のイベント\n				 \n				※ ご予約状況等によりご希望の日時に添えない場合もございます。その際は事前に調整を行う連絡をさせていただきますので予めご了承ください。\n\n				 \n			\n		\n		\n			\n				こちらのスタジオを何でお知りになりましたか？\n						 （必須）\n						\n				 \n			\n			\n				チラシ看板書籍雑誌紹介Yahoo検索Google検索口コミその他Webサイト\n				 \n			\n		\n		\n			\n				ご関心があること、習得したいこと（複数可）\n				 \n			\n			\n				自然治癒力アップ集中力アップダイエット体質改善ストレス軽減丹田強化呼吸法瞑想法その他（備考欄にご入力ください）\n				 \n			\n		\n		\n			\n				備考欄\n				 \n			\n			\n				\n				 \n			\n		\n	\n	個人情報の取扱い\n		について、同意の上送信します。\n※ ご入力頂いた情報は、株式会社DAHN WORLD JAPANからのご案内をさせて頂く以外の目的では使用致しません。\n		\n	 \n	\n	\n	 \n	※ 送信ボタンを押すとすぐ送信されます。このページで入力内容を確認してください。\n\n自動で完了メールが配信されます。\n	 \nΔ \n\n\n\n株式会社DAHN WORLD JAPAN　ダンワールドジャパン
URL:https://ilchibrainyoga.com/event/tenjin-40/
LOCATION:新天町ファーボ\, 福岡市中央区天神2−9
CATEGORIES:天神,福岡,長寿スクール説明会・ワークショップ
ATTACH;FMTTYPE=image/jpeg:https://ilchibrainyoga.com/wp-content/uploads/2025/08/横浜２.jpg
END:VEVENT
BEGIN:VEVENT
DTSTART;TZID=Asia/Tokyo:20260327T160000
DTEND;TZID=Asia/Tokyo:20260327T164000
DTSTAMP:20260422T064805
CREATED:20260310T065313Z
LAST-MODIFIED:20260327T064227Z
UID:86286-1774627200-1774629600@ilchibrainyoga.com
SUMMARY:【天神】5分で心と体の中心に戻る気功〜ARIRANG気功〜
DESCRIPTION:どなたでもお気軽に、初めての方でも大丈夫です✨ \n気功って何だろう？\n気を感じてみたい！\n体が硬いけど大丈夫かな💦\n少し動きたい！そんな方にもぴったりです。 \n誰でも簡単にできる動作で、ゆっくりした呼吸をしながら、\nエネルギーの循環を感じてみましょう。\n曲にのせて、全身のエネルギーをまわし、\n内気を感じて、心身共に充電する、そんな素敵な時間をお過ごしいただけます。\n気になる方はぜひご参加ください。\nまた、気功をより詳しく知りたい方は『気功』と送ってください。 \n日程：3月27日\n時間：16時〜40分程度\n参加費：500円 \n動きやすい服装でご参加ください（更衣室もあります）\n飲物とタオルもご持参ください。\n会場：イルチブレインヨガ天神スタジオ\n住所：福岡市中央区天神3−4−2、高橋天神ビル6F\n問合せ電話：092−714−1883 \n\nLINEからのお申し込みはこちら⇒https://lin.ee/VQ139go \n\n\n  \n\n\n\n\n	\n	\n	 \n	\n		\n			\n				ご予約内容\n						（必須）\n						\n				 \n			\n			\n				体験レッスンイベント体験レッスン+オーラ撮影オーラ撮影問合せ\n				 \n				※ 入会予約はこちらからお申し込みください\n				 \n			\n		\n		\n			\n				お名前\n						（必須）\n						\n				 \n			\n			\n				\n				 \n			\n		\n		\n			\n				メールアドレス\n						（必須）\n						\n				 \n			\n			\n				\n※ 携帯電話のメールアドレスをご入力の際は、ドメイン指定の設定をされている場合”＠ilchibrainyoga.com”からのメールを受け取ることができるように設定してください。\n				 \n			\n		\n		\n			\n				お電話番号（携帯可）\n						（必須）\n						\n				 \n			\n			\n				イルチブレインヨガ各店舗からの連絡が可能な番号をご入力ください。\n\n				 \n			\n		\n		\n			\n				ご予約希望日時\n				 \n			\n			\n				ご予約希望日時をお選びください\n【希望日】タイムスケジュールに記載があるクラスからお選びください\n\n時間帯を選択してください10時台のクラス14時台のクラス19時台のクラス午前のイベント午後のイベント夜のイベント\n				 \n				※ ご予約状況等によりご希望の日時に添えない場合もございます。その際は事前に調整を行う連絡をさせていただきますので予めご了承ください。\n\n				 \n			\n		\n		\n			\n				こちらのスタジオを何でお知りになりましたか？\n						 （必須）\n						\n				 \n			\n			\n				チラシ看板書籍雑誌紹介Yahoo検索Google検索口コミその他Webサイト\n				 \n			\n		\n		\n			\n				ご関心があること、習得したいこと（複数可）\n				 \n			\n			\n				自然治癒力アップ集中力アップダイエット体質改善ストレス軽減丹田強化呼吸法瞑想法その他（備考欄にご入力ください）\n				 \n			\n		\n		\n			\n				備考欄\n				 \n			\n			\n				\n				 \n			\n		\n	\n	個人情報の取扱い\n		について、同意の上送信します。\n※ ご入力頂いた情報は、株式会社DAHN WORLD JAPANからのご案内をさせて頂く以外の目的では使用致しません。\n		\n	 \n	\n	\n	 \n	※ 送信ボタンを押すとすぐ送信されます。このページで入力内容を確認してください。\n\n自動で完了メールが配信されます。\n	 \nΔ \n\n\n\n株式会社DAHN WORLD JAPAN　ダンワールドジャパン
URL:https://ilchibrainyoga.com/event/tenjin-43/
LOCATION:イルチブレインヨガ天神スタジオ\, 福岡市中央区天神3-4-2 高橋天神ビル6F
CATEGORIES:九州,天神,福岡,長寿スクール説明会・ワークショップ
ATTACH;FMTTYPE=image/jpeg:https://ilchibrainyoga.com/wp-content/uploads/2026/03/天神-1.jpg
END:VEVENT
BEGIN:VEVENT
DTSTART;TZID=Asia/Tokyo:20260324T134000
DTEND;TZID=Asia/Tokyo:20260329T214000
DTSTAMP:20260422T064805
CREATED:20260308T045754Z
LAST-MODIFIED:20260319T232255Z
UID:86154-1774359600-1774820400@ilchibrainyoga.com
SUMMARY:【天神】3月24日(火）29日（日）Three Bodies & Seven Chakra 癒しのその先に本当の自分が待っている💗 〜本物を知る大人のための、意識進化プログラム〜
DESCRIPTION:人体にもともと備わっているシステムを取り戻し、\nあなた本来の輝きを取り戻す、新感覚YOGA \n忙しさに追われ、いつの間にか置き去りにしてきた心の声と、本来の感覚。3つの大きなプログラムを通してチャクラ調整と深層意識へのアプローチ、心・体・意識を統合的に整えます。 \n多くの方が「深い安心感」「本来の自分に戻った感覚」を体験されています。これからの人生をより軽やかに、より自由に生きたい方へ。 \n4th Chakra\n本当のわたしに出会う\n人生という大きな航海において\n灯台のような”わたし”に出会えば\nどんな瞬間も生き抜く力になります。 \n🪷4番チャクラに眠っている本当の私に出会うプログラム\n人間的な愛が咲く場所💛\n第4チャクラの状態は私たちの心の在り方に密接に関連しています。 \n6th Chakra\n私に光を向ける時間\n自分自身を正しく見る光を取り戻し本来のバランスを取り戻す..。\n6番チャクラに光が灯りゼロ点に還ります。 \n🪷チャクラ全体を強化し、第6チャクラに眠っている神性に出会うプログラ\n直感、洞察力が開く場所💙\n第6チャクラの状態は、物事の本質を捉える力と深く関わっています。 \nAll Chakra\nもう一段上の自分を生きる\n7つのチャクラが目覚めて\nどんな環境でも自分の価値を忘れず\n愛と共感に基づいて行動できる人になります。 \n🪷全てのチャクラが活性化し、人生全体を再設計する統合プログラム\n健康・幸せ・平和を創造💜\nチャクラは体と脳をつなぐ\nエネルギーの中心 \n⭐️Finding Your True Self コース　211\,000円\n　1th Chakra〜4th Chakra (本当の自分に出会います) \n⭐️Get Brightコース　361\,000円\n　1th Chakra〜6th Chakra （自己省察能力を開きます） \n⭐️もっと詳しく知りたい方へ\n説明＆体験会にご参加ください。\n日時：3月24日(火）29日（日）\n　　　13：40〜/ 18：40〜（所要時間180分）\n参加費：3\,000円\n場所：イルチブレインヨガ天神スタジオ\n住所：福岡市中央区天神3−4−2高橋天神ビル6F \n問合せ電話：092−714−1883 \n\nLINEからのお申し込みはこちら⇒https://lin.ee/VQ139go \n\n\n  \n\n\n\n\n	\n	\n	 \n	\n		\n			\n				ご予約内容\n						（必須）\n						\n				 \n			\n			\n				体験レッスンイベント体験レッスン+オーラ撮影オーラ撮影問合せ\n				 \n				※ 入会予約はこちらからお申し込みください\n				 \n			\n		\n		\n			\n				お名前\n						（必須）\n						\n				 \n			\n			\n				\n				 \n			\n		\n		\n			\n				メールアドレス\n						（必須）\n						\n				 \n			\n			\n				\n※ 携帯電話のメールアドレスをご入力の際は、ドメイン指定の設定をされている場合”＠ilchibrainyoga.com”からのメールを受け取ることができるように設定してください。\n				 \n			\n		\n		\n			\n				お電話番号（携帯可）\n						（必須）\n						\n				 \n			\n			\n				イルチブレインヨガ各店舗からの連絡が可能な番号をご入力ください。\n\n				 \n			\n		\n		\n			\n				ご予約希望日時\n				 \n			\n			\n				ご予約希望日時をお選びください\n【希望日】タイムスケジュールに記載があるクラスからお選びください\n\n時間帯を選択してください10時台のクラス14時台のクラス19時台のクラス午前のイベント午後のイベント夜のイベント\n				 \n				※ ご予約状況等によりご希望の日時に添えない場合もございます。その際は事前に調整を行う連絡をさせていただきますので予めご了承ください。\n\n				 \n			\n		\n		\n			\n				こちらのスタジオを何でお知りになりましたか？\n						 （必須）\n						\n				 \n			\n			\n				チラシ看板書籍雑誌紹介Yahoo検索Google検索口コミその他Webサイト\n				 \n			\n		\n		\n			\n				ご関心があること、習得したいこと（複数可）\n				 \n			\n			\n				自然治癒力アップ集中力アップダイエット体質改善ストレス軽減丹田強化呼吸法瞑想法その他（備考欄にご入力ください）\n				 \n			\n		\n		\n			\n				備考欄\n				 \n			\n			\n				\n				 \n			\n		\n	\n	個人情報の取扱い\n		について、同意の上送信します。\n※ ご入力頂いた情報は、株式会社DAHN WORLD JAPANからのご案内をさせて頂く以外の目的では使用致しません。\n		\n	 \n	\n	\n	 \n	※ 送信ボタンを押すとすぐ送信されます。このページで入力内容を確認してください。\n\n自動で完了メールが配信されます。\n	 \nΔ \n\n\n\n株式会社DAHN WORLD JAPAN　ダンワールドジャパン
URL:https://ilchibrainyoga.com/event/tenjin-42/
LOCATION:イルチブレインヨガ天神スタジオ\, 福岡市中央区天神3-4-2 高橋天神ビル6F
CATEGORIES:天神,福岡,長寿スクール説明会・ワークショップ
ATTACH;FMTTYPE=image/jpeg:https://ilchibrainyoga.com/wp-content/uploads/2026/03/天神.jpg
END:VEVENT
BEGIN:VEVENT
DTSTART;TZID=Asia/Tokyo:20260304T095000
DTEND;TZID=Asia/Tokyo:20260329T210000
DTSTAMP:20260422T064805
CREATED:20260228T020312Z
LAST-MODIFIED:20260228T020312Z
UID:85696-1772617800-1774818000@ilchibrainyoga.com
SUMMARY:【天神】3月29日（日）まで　💐第ニの人生 ワークショップ
DESCRIPTION:こんなお悩み解決します☺️\n・家族や仕事を優先してきた…\n・気がつけば自分が何を望んでいるのか分からない…\n・体力気力が衰え、この先の希望が見えない…などなど…\n・あなたの問題は「性格」でも「努力不足」でもありません。 \n人生は何歳からでも新しく始められます。\n自分の体をケアしてする感覚\n自分が本当にやりたいことを感じる感覚\nそして、物事の本質を感じる感覚を思い出すだけ… \n開催日:\n3/4(水)・6(金)・12(木)・13(金)・15(日)\n19(木)・20(金)・26（木）・27(金)・29（日） \n⭐︎上記以外のご希望はお問合せください。 \n時間：9：50〜/  13：50〜　/   18：50〜\n会場名：イルチブレインヨガ天神スタジオ \n会場住所：福岡市中央区天神3−4−2高橋天神ビル6F \n参加費：1\,000円 \n問合せ電話：092−714−1883 \n\nLINEからのお申し込みはこちら⇒https://lin.ee/VQ139go \n\n\n  \n\n\n\n\n	\n	\n	 \n	\n		\n			\n				ご予約内容\n						（必須）\n						\n				 \n			\n			\n				体験レッスンイベント体験レッスン+オーラ撮影オーラ撮影問合せ\n				 \n				※ 入会予約はこちらからお申し込みください\n				 \n			\n		\n		\n			\n				お名前\n						（必須）\n						\n				 \n			\n			\n				\n				 \n			\n		\n		\n			\n				メールアドレス\n						（必須）\n						\n				 \n			\n			\n				\n※ 携帯電話のメールアドレスをご入力の際は、ドメイン指定の設定をされている場合”＠ilchibrainyoga.com”からのメールを受け取ることができるように設定してください。\n				 \n			\n		\n		\n			\n				お電話番号（携帯可）\n						（必須）\n						\n				 \n			\n			\n				イルチブレインヨガ各店舗からの連絡が可能な番号をご入力ください。\n\n				 \n			\n		\n		\n			\n				ご予約希望日時\n				 \n			\n			\n				ご予約希望日時をお選びください\n【希望日】タイムスケジュールに記載があるクラスからお選びください\n\n時間帯を選択してください10時台のクラス14時台のクラス19時台のクラス午前のイベント午後のイベント夜のイベント\n				 \n				※ ご予約状況等によりご希望の日時に添えない場合もございます。その際は事前に調整を行う連絡をさせていただきますので予めご了承ください。\n\n				 \n			\n		\n		\n			\n				こちらのスタジオを何でお知りになりましたか？\n						 （必須）\n						\n				 \n			\n			\n				チラシ看板書籍雑誌紹介Yahoo検索Google検索口コミその他Webサイト\n				 \n			\n		\n		\n			\n				ご関心があること、習得したいこと（複数可）\n				 \n			\n			\n				自然治癒力アップ集中力アップダイエット体質改善ストレス軽減丹田強化呼吸法瞑想法その他（備考欄にご入力ください）\n				 \n			\n		\n		\n			\n				備考欄\n				 \n			\n			\n				\n				 \n			\n		\n	\n	個人情報の取扱い\n		について、同意の上送信します。\n※ ご入力頂いた情報は、株式会社DAHN WORLD JAPANからのご案内をさせて頂く以外の目的では使用致しません。\n		\n	 \n	\n	\n	 \n	※ 送信ボタンを押すとすぐ送信されます。このページで入力内容を確認してください。\n\n自動で完了メールが配信されます。\n	 \nΔ \n\n\n\n株式会社DAHN WORLD JAPAN　ダンワールドジャパン
URL:https://ilchibrainyoga.com/event/tenjin-39/
LOCATION:イルチブレインヨガ天神スタジオ\, 福岡市中央区天神3-4-2 高橋天神ビル6F
CATEGORIES:天神,福岡,長寿スクール説明会・ワークショップ
END:VEVENT
BEGIN:VEVENT
DTSTART;TZID=Asia/Tokyo:20260204T095000
DTEND;TZID=Asia/Tokyo:20260227T210000
DTSTAMP:20260422T064805
CREATED:20260131T061755Z
LAST-MODIFIED:20260131T061755Z
UID:85005-1770198600-1772226000@ilchibrainyoga.com
SUMMARY:【天神】2月27日（金）まで　💐第ニの人生 ワークショップ
DESCRIPTION:人生120年時代！\n望む通りの人生をイキイキと過ごすための\n健康・幸せ・平和を自給自足する\nワークショップです。\n40代の方も予習のために是非どうぞ！ \n自分の体を自分で守ること。\nそのためにひつようなのは、健康管理と夢と生きがいです。 \n自分の健康は自分で守る！\nお待ちしています☺️ \n開催日:  2/4(水)・5(木)・10（火）・12(木)・13(金)・20(金)・22(日)・25(水)・26(木)・27（金） \n⭐︎上記以外の日程はお問合せください。 \n時間：9：50〜/  13：50〜　/   18：50〜\n会場名：イルチブレインヨガ天神スタジオ \n会場住所：福岡市中央区天神3−4−2高橋天神ビル6F \n参加費：1\,000円 \n問合せ電話：092−714−1883 \n\nLINEからのお申し込みはこちら⇒https://lin.ee/VQ139go \n\n\n  \n\n\n\n\n	\n	\n	 \n	\n		\n			\n				ご予約内容\n						（必須）\n						\n				 \n			\n			\n				体験レッスンイベント体験レッスン+オーラ撮影オーラ撮影問合せ\n				 \n				※ 入会予約はこちらからお申し込みください\n				 \n			\n		\n		\n			\n				お名前\n						（必須）\n						\n				 \n			\n			\n				\n				 \n			\n		\n		\n			\n				メールアドレス\n						（必須）\n						\n				 \n			\n			\n				\n※ 携帯電話のメールアドレスをご入力の際は、ドメイン指定の設定をされている場合”＠ilchibrainyoga.com”からのメールを受け取ることができるように設定してください。\n				 \n			\n		\n		\n			\n				お電話番号（携帯可）\n						（必須）\n						\n				 \n			\n			\n				イルチブレインヨガ各店舗からの連絡が可能な番号をご入力ください。\n\n				 \n			\n		\n		\n			\n				ご予約希望日時\n				 \n			\n			\n				ご予約希望日時をお選びください\n【希望日】タイムスケジュールに記載があるクラスからお選びください\n\n時間帯を選択してください10時台のクラス14時台のクラス19時台のクラス午前のイベント午後のイベント夜のイベント\n				 \n				※ ご予約状況等によりご希望の日時に添えない場合もございます。その際は事前に調整を行う連絡をさせていただきますので予めご了承ください。\n\n				 \n			\n		\n		\n			\n				こちらのスタジオを何でお知りになりましたか？\n						 （必須）\n						\n				 \n			\n			\n				チラシ看板書籍雑誌紹介Yahoo検索Google検索口コミその他Webサイト\n				 \n			\n		\n		\n			\n				ご関心があること、習得したいこと（複数可）\n				 \n			\n			\n				自然治癒力アップ集中力アップダイエット体質改善ストレス軽減丹田強化呼吸法瞑想法その他（備考欄にご入力ください）\n				 \n			\n		\n		\n			\n				備考欄\n				 \n			\n			\n				\n				 \n			\n		\n	\n	個人情報の取扱い\n		について、同意の上送信します。\n※ ご入力頂いた情報は、株式会社DAHN WORLD JAPANからのご案内をさせて頂く以外の目的では使用致しません。\n		\n	 \n	\n	\n	 \n	※ 送信ボタンを押すとすぐ送信されます。このページで入力内容を確認してください。\n\n自動で完了メールが配信されます。\n	 \nΔ \n\n\n\n株式会社DAHN WORLD JAPAN　ダンワールドジャパン
URL:https://ilchibrainyoga.com/event/tenjin-37/
LOCATION:イルチブレインヨガ天神スタジオ\, 福岡市中央区天神3-4-2 高橋天神ビル6F
CATEGORIES:天神,福岡,長寿スクール説明会・ワークショップ
ATTACH;FMTTYPE=image/jpeg:https://ilchibrainyoga.com/wp-content/uploads/2026/01/人生.jpg
END:VEVENT
BEGIN:VEVENT
DTSTART;TZID=Asia/Tokyo:20260108T095000
DTEND;TZID=Asia/Tokyo:20260131T210000
DTSTAMP:20260422T064805
CREATED:20251226T044738Z
LAST-MODIFIED:20251226T044738Z
UID:84463-1767865800-1769893200@ilchibrainyoga.com
SUMMARY:【天神】1/8(木)・15(木)・16（金）18(日)・20(火)・22(木)・23(金)・25(日)・28(水)・29（木）・31(土)　💐第ニの人生 ワークショップ
DESCRIPTION:人生120年時代！\n望む通りの人生をイキイキと過ごすための\n健康・幸せ・平和を自給自足する\nワークショップです。\n40代の方も予習のために是非どうぞ！ \n自分の体を自分で守ること。\nそのためにひつようなのは、健康管理と夢と生きがいです。 \n自分の健康は自分で守る！\nお待ちしています☺️ \n開催日:  1/8(木)・15(木)・16（金）18(日)・20(火)・22(木)・23(金)・25(日)・28(水)・29（木）・31(土) \n⭐︎上記以外の日程はお問合せください。 \n時間：9：50〜/  13：50〜　/   18：50〜\n会場名：イルチブレインヨガ天神スタジオ \n会場住所：福岡市中央区天神3−4−2高橋天神ビル6F \n参加費：1\,000円 \n問合せ電話：092−714−1883 \n\nLINEからのお申し込みはこちら⇒https://lin.ee/VQ139go \n\n\n  \n\n\n\n\n	\n	\n	 \n	\n		\n			\n				ご予約内容\n						（必須）\n						\n				 \n			\n			\n				体験レッスンイベント体験レッスン+オーラ撮影オーラ撮影問合せ\n				 \n				※ 入会予約はこちらからお申し込みください\n				 \n			\n		\n		\n			\n				お名前\n						（必須）\n						\n				 \n			\n			\n				\n				 \n			\n		\n		\n			\n				メールアドレス\n						（必須）\n						\n				 \n			\n			\n				\n※ 携帯電話のメールアドレスをご入力の際は、ドメイン指定の設定をされている場合”＠ilchibrainyoga.com”からのメールを受け取ることができるように設定してください。\n				 \n			\n		\n		\n			\n				お電話番号（携帯可）\n						（必須）\n						\n				 \n			\n			\n				イルチブレインヨガ各店舗からの連絡が可能な番号をご入力ください。\n\n				 \n			\n		\n		\n			\n				ご予約希望日時\n				 \n			\n			\n				ご予約希望日時をお選びください\n【希望日】タイムスケジュールに記載があるクラスからお選びください\n\n時間帯を選択してください10時台のクラス14時台のクラス19時台のクラス午前のイベント午後のイベント夜のイベント\n				 \n				※ ご予約状況等によりご希望の日時に添えない場合もございます。その際は事前に調整を行う連絡をさせていただきますので予めご了承ください。\n\n				 \n			\n		\n		\n			\n				こちらのスタジオを何でお知りになりましたか？\n						 （必須）\n						\n				 \n			\n			\n				チラシ看板書籍雑誌紹介Yahoo検索Google検索口コミその他Webサイト\n				 \n			\n		\n		\n			\n				ご関心があること、習得したいこと（複数可）\n				 \n			\n			\n				自然治癒力アップ集中力アップダイエット体質改善ストレス軽減丹田強化呼吸法瞑想法その他（備考欄にご入力ください）\n				 \n			\n		\n		\n			\n				備考欄\n				 \n			\n			\n				\n				 \n			\n		\n	\n	個人情報の取扱い\n		について、同意の上送信します。\n※ ご入力頂いた情報は、株式会社DAHN WORLD JAPANからのご案内をさせて頂く以外の目的では使用致しません。\n		\n	 \n	\n	\n	 \n	※ 送信ボタンを押すとすぐ送信されます。このページで入力内容を確認してください。\n\n自動で完了メールが配信されます。\n	 \nΔ \n\n\n\n株式会社DAHN WORLD JAPAN　ダンワールドジャパン
URL:https://ilchibrainyoga.com/event/tenjin-33/
LOCATION:イルチブレインヨガ天神スタジオ\, 福岡市中央区天神3-4-2 高橋天神ビル6F
CATEGORIES:天神,福岡,長寿スクール説明会・ワークショップ
END:VEVENT
BEGIN:VEVENT
DTSTART;TZID=Asia/Tokyo:20251205T095000
DTEND;TZID=Asia/Tokyo:20251231T160000
DTSTAMP:20260422T064805
CREATED:20251202T021232Z
LAST-MODIFIED:20251202T075252Z
UID:84018-1764928200-1767196800@ilchibrainyoga.com
SUMMARY:【天神】12/5(金)・6(土)・10(水)・11(木)・18(木)・21(日)・23(火)・25(木)・28（日）・31(水)　💐第ニの人生 ワークショップ
DESCRIPTION:第2の人生もいきいきと！\n〜60代(後半)からの体力、心力、脳力アップ〜 \n健康寿命を延ばす秘訣は！\n自分の体を自分で守ること。\nそのためにひつようなのは、健康管理と夢と生きがいです。 \n自分の健康は自分で守る！\nお待ちしています☺️ \n日時：12/5(金)・6(土)・10(水)・11(木)・18(木)・21(日)・23(火)・25(木)・28（日）・31(水)\n⭐︎上記以外の日程はお問合せください。 \n時間：9：50〜/  13：50〜　/   18：50〜\n会場名：イルチブレインヨガ天神スタジオ \n会場住所：福岡市中央区天神3−4−2高橋天神ビル6F \n参加費：1\,000円 \n問合せ電話：092−714−1883 \n\nLINEからのお申し込みはこちら⇒https://lin.ee/VQ139go \n\n\n  \n\n\n\n\n	\n	\n	 \n	\n		\n			\n				ご予約内容\n						（必須）\n						\n				 \n			\n			\n				体験レッスンイベント体験レッスン+オーラ撮影オーラ撮影問合せ\n				 \n				※ 入会予約はこちらからお申し込みください\n				 \n			\n		\n		\n			\n				お名前\n						（必須）\n						\n				 \n			\n			\n				\n				 \n			\n		\n		\n			\n				メールアドレス\n						（必須）\n						\n				 \n			\n			\n				\n※ 携帯電話のメールアドレスをご入力の際は、ドメイン指定の設定をされている場合”＠ilchibrainyoga.com”からのメールを受け取ることができるように設定してください。\n				 \n			\n		\n		\n			\n				お電話番号（携帯可）\n						（必須）\n						\n				 \n			\n			\n				イルチブレインヨガ各店舗からの連絡が可能な番号をご入力ください。\n\n				 \n			\n		\n		\n			\n				ご予約希望日時\n				 \n			\n			\n				ご予約希望日時をお選びください\n【希望日】タイムスケジュールに記載があるクラスからお選びください\n\n時間帯を選択してください10時台のクラス14時台のクラス19時台のクラス午前のイベント午後のイベント夜のイベント\n				 \n				※ ご予約状況等によりご希望の日時に添えない場合もございます。その際は事前に調整を行う連絡をさせていただきますので予めご了承ください。\n\n				 \n			\n		\n		\n			\n				こちらのスタジオを何でお知りになりましたか？\n						 （必須）\n						\n				 \n			\n			\n				チラシ看板書籍雑誌紹介Yahoo検索Google検索口コミその他Webサイト\n				 \n			\n		\n		\n			\n				ご関心があること、習得したいこと（複数可）\n				 \n			\n			\n				自然治癒力アップ集中力アップダイエット体質改善ストレス軽減丹田強化呼吸法瞑想法その他（備考欄にご入力ください）\n				 \n			\n		\n		\n			\n				備考欄\n				 \n			\n			\n				\n				 \n			\n		\n	\n	個人情報の取扱い\n		について、同意の上送信します。\n※ ご入力頂いた情報は、株式会社DAHN WORLD JAPANからのご案内をさせて頂く以外の目的では使用致しません。\n		\n	 \n	\n	\n	 \n	※ 送信ボタンを押すとすぐ送信されます。このページで入力内容を確認してください。\n\n自動で完了メールが配信されます。\n	 \nΔ \n\n\n\n株式会社DAHN WORLD JAPAN　ダンワールドジャパン
URL:https://ilchibrainyoga.com/event/tenjin-31/
LOCATION:イルチブレインヨガ天神スタジオ\, 福岡市中央区天神3-4-2 高橋天神ビル6F
CATEGORIES:天神,福岡,長寿スクール説明会・ワークショップ
END:VEVENT
BEGIN:VEVENT
DTSTART;TZID=Asia/Tokyo:20251106T095000
DTEND;TZID=Asia/Tokyo:20251127T160000
DTSTAMP:20260422T064805
CREATED:20251023T075440Z
LAST-MODIFIED:20251113T140120Z
UID:83189-1762422600-1764259200@ilchibrainyoga.com
SUMMARY:【天神】11/6・ 13・20・27(木)　💐第ニの人生 ワークショップ
DESCRIPTION:第2の人生もいきいきと！\n〜60代(後半)からの体力、心力、脳力アップ〜 \n健康寿命を延ばす秘訣は！\n自分の体を自分で守ること。\nそのためにひつようなのは、健康管理と夢と生きがいです。 \n自分の健康は自分で守る！\nお待ちしています☺️ \n日時：毎週木曜日 11/6・ 13・20・27(木)\n9：50〜/ 13:50〜 \n会場名：イルチブレインヨガ天神スタジオ \n会場住所：福岡市中央区天神3−4−2高橋天神ビル6F \n参加費：1\,000円 \n担当：\n指導歴12年\n何歳からでも始められる，体質を整えるトレーナー\n田中庸子\n問合せ電話：092−714−1883 \n\nLINEからのお申し込みはこちら⇒https://lin.ee/VQ139go \n\n\n  \n\n\n\n\n	\n	\n	 \n	\n		\n			\n				ご予約内容\n						（必須）\n						\n				 \n			\n			\n				体験レッスンイベント体験レッスン+オーラ撮影オーラ撮影問合せ\n				 \n				※ 入会予約はこちらからお申し込みください\n				 \n			\n		\n		\n			\n				お名前\n						（必須）\n						\n				 \n			\n			\n				\n				 \n			\n		\n		\n			\n				メールアドレス\n						（必須）\n						\n				 \n			\n			\n				\n※ 携帯電話のメールアドレスをご入力の際は、ドメイン指定の設定をされている場合”＠ilchibrainyoga.com”からのメールを受け取ることができるように設定してください。\n				 \n			\n		\n		\n			\n				お電話番号（携帯可）\n						（必須）\n						\n				 \n			\n			\n				イルチブレインヨガ各店舗からの連絡が可能な番号をご入力ください。\n\n				 \n			\n		\n		\n			\n				ご予約希望日時\n				 \n			\n			\n				ご予約希望日時をお選びください\n【希望日】タイムスケジュールに記載があるクラスからお選びください\n\n時間帯を選択してください10時台のクラス14時台のクラス19時台のクラス午前のイベント午後のイベント夜のイベント\n				 \n				※ ご予約状況等によりご希望の日時に添えない場合もございます。その際は事前に調整を行う連絡をさせていただきますので予めご了承ください。\n\n				 \n			\n		\n		\n			\n				こちらのスタジオを何でお知りになりましたか？\n						 （必須）\n						\n				 \n			\n			\n				チラシ看板書籍雑誌紹介Yahoo検索Google検索口コミその他Webサイト\n				 \n			\n		\n		\n			\n				ご関心があること、習得したいこと（複数可）\n				 \n			\n			\n				自然治癒力アップ集中力アップダイエット体質改善ストレス軽減丹田強化呼吸法瞑想法その他（備考欄にご入力ください）\n				 \n			\n		\n		\n			\n				備考欄\n				 \n			\n			\n				\n				 \n			\n		\n	\n	個人情報の取扱い\n		について、同意の上送信します。\n※ ご入力頂いた情報は、株式会社DAHN WORLD JAPANからのご案内をさせて頂く以外の目的では使用致しません。\n		\n	 \n	\n	\n	 \n	※ 送信ボタンを押すとすぐ送信されます。このページで入力内容を確認してください。\n\n自動で完了メールが配信されます。\n	 \nΔ \n\n\n\n株式会社DAHN WORLD JAPAN　ダンワールドジャパン
URL:https://ilchibrainyoga.com/event/tenjin-28/
LOCATION:イルチブレインヨガ天神スタジオ\, 福岡市中央区天神3-4-2 高橋天神ビル6F
CATEGORIES:天神,福岡,長寿スクール説明会・ワークショップ
END:VEVENT
BEGIN:VEVENT
DTSTART;TZID=Asia/Tokyo:20251022T133000
DTEND;TZID=Asia/Tokyo:20251126T153000
DTSTAMP:20260422T064805
CREATED:20251021T020136Z
LAST-MODIFIED:20251113T140051Z
UID:83119-1761139800-1764171000@ilchibrainyoga.com
SUMMARY:【下曽根】10月22日・29日・11月5日・12日・26日🌿 脳と心を若々しく保つ「長寿の秘訣」体験会
DESCRIPTION:人生100年時代。\n「健康で長生き」だけでなく、元気に・笑顔で・自分らしく過ごすことが大切です。 \nこの体験会では、無理なく楽しみながらできる\n🧠 心と体をリフレッシュする、やさしい体操\n🌿 気持ちが落ち着くリラックス呼吸法\n🍀 今日からできる生活習慣のコツ \nを体験していただけます。 \n「気持ちが軽くなった」「よく眠れるようになった」など、参加された方から喜びの声も届いています。\n体力に自信のない方でも安心です。 \n✨「年を重ねることが楽しみになる」時間をご一緒しましょう。 \n📅 日程\n10月22日・29日\n11月5日・12日・26日\n（水）13:30〜15:30 \n📍 会場\nイルチブレインヨガ下曽根スタジオ\n（北九州市小倉南区田原3-1-18 102）\n参加費：1\,000円 \n📞 ご予約・お問合せ\n📱08030983945 \n\nLINEからのお申し込みはこちら⇒https://lin.ee/dN980St \n\n\n  \n\n\n\n\n	\n	\n	 \n	\n		\n			\n				ご予約内容\n						（必須）\n						\n				 \n			\n			\n				体験レッスンイベント体験レッスン+オーラ撮影オーラ撮影問合せ\n※ 入会予約はこちらからお申し込みください\n				 \n			\n		\n		\n			\n				お名前\n						（必須）\n						\n				 \n			\n			\n				\n				 \n			\n		\n		\n			\n				メールアドレス\n						（必須）\n						\n				 \n			\n			\n				\n※ 携帯電話のメールアドレスをご入力の際は、ドメイン指定の設定をされている場合”＠ilchibrainyoga.com”からのメールを受け取ることができるように設定してください。\n				 \n			\n		\n		\n			\n				お電話番号（携帯可）\n						（必須）\n						\n				 \n			\n			\n				イルチブレインヨガ各店舗からの連絡が可能な番号をご入力ください。\n\n				 \n			\n		\n		\n			\n				ご予約希望日時\n				 \n			\n			\n				ご予約希望日時をお選びください\n【希望日】タイムスケジュールに記載があるクラスからお選びください\n\n時間帯を選択してください10時台のクラス19時台のクラスこどもクラス午前のイベント午後のイベント夜のイベント\n				 \n				※ ご予約状況等によりご希望の日時に添えない場合もございます。その際は事前に調整を行う連絡をさせていただきますので予めご了承ください。\n\n				 \n			\n		\n		\n			\n				こちらのスタジオを何でお知りになりましたか？\n						 （必須）\n						\n				 \n			\n			\n				チラシ看板書籍雑誌紹介Yahoo検索Google検索口コミその他Webサイト\n				 \n			\n		\n		\n			\n				ご関心があること、習得したいこと（複数可）\n				 \n			\n			\n				自然治癒力アップ集中力アップダイエット体質改善ストレス軽減丹田強化呼吸法瞑想法その他（備考欄にご入力ください）\n				 \n			\n		\n		\n			\n				備考欄\n				 \n			\n			\n				\n				 \n			\n		\n	\n	個人情報の取扱い\n		について、同意の上送信します。\n※ ご入力頂いた情報は、株式会社DAHN WORLD JAPANからのご案内をさせて頂く以外の目的では使用致しません。\n		\n	 \n	\n	\n	 \n	※ 送信ボタンを押すとすぐ送信されます。このページで入力内容を確認してください。\n\n自動で完了メールが配信されます。\n	 \nΔ \n\n\n\n株式会社DAHN WORLD JAPAN　ダンワールドジャパン
URL:https://ilchibrainyoga.com/event/shimosone-11/
LOCATION:イルチブレインヨガ下曽根スタジオ\, 福岡県北九州市小倉南区田原 3丁目1-18 ルポ田原24 102\, Japan
CATEGORIES:下曽根,福岡,長寿スクール説明会・ワークショップ
ATTACH;FMTTYPE=image/jpeg:https://ilchibrainyoga.com/wp-content/uploads/2025/08/高齢者-体操.jpg
END:VEVENT
END:VCALENDAR