BEGIN:VCALENDAR
VERSION:2.0
PRODID:-//イルチブレインヨガ公式サイト - ECPv6.15.16//NONSGML v1.0//EN
CALSCALE:GREGORIAN
METHOD:PUBLISH
X-WR-CALNAME:イルチブレインヨガ公式サイト
X-ORIGINAL-URL:https://ilchibrainyoga.com
X-WR-CALDESC:イルチブレインヨガ公式サイト のイベント
REFRESH-INTERVAL;VALUE=DURATION:PT1H
X-Robots-Tag:noindex
X-PUBLISHED-TTL:PT1H
BEGIN:VTIMEZONE
TZID:Asia/Tokyo
BEGIN:STANDARD
TZOFFSETFROM:+0900
TZOFFSETTO:+0900
TZNAME:JST
DTSTART:20250101T000000
END:STANDARD
END:VTIMEZONE
BEGIN:VEVENT
DTSTART;TZID=Asia/Tokyo:20260325T140000
DTEND;TZID=Asia/Tokyo:20260325T160000
DTSTAMP:20260425T213528
CREATED:20260311T053045Z
LAST-MODIFIED:20260311T053045Z
UID:86444-1774447200-1774454400@ilchibrainyoga.com
SUMMARY:【橿原】はじめてのアリラン気功体験会
DESCRIPTION:最近こんなことありませんか？\n・体が疲れやすい\n・呼吸が浅い\n・体を整えたい\n・気持ちをスッキリさせたい \nそんな方におすすめの\nアリラン気功体験会を開催します。 \nARIRANG（アリラン）気功は\n簡単な動き・呼吸を通して\n体・心・エネルギーを整える新しい気功トレーニングです。 \n運動が苦手な方でもできる\nやさしいトレーニングなので\n初心者の方も安心してご参加いただけます。 \n体験後には\n✨体が軽くなる\n✨呼吸が深くなる\n✨気持ちがスッキリする\nと感じる方も多いです。 \n「気功ってどんな感じ？」\nという方もぜひ体験してみてください😊 \n開催日：3月25日（水）\n時間：14:00～16:00\n会場名：イルチブレインヨガ橿原スタジオ\n会場住所：橿原市内膳町5-2-33 中和八木ビル4階\n参加費：1500円\nトレーナー：滝澤真実\n持ち物：動きやすい服装\n問合せ電話：0744-21-0330 \n\nLINEからのお申し込みはこちら⇒https://lin.ee/snwzMQqw \n\n\n  \n\n\n\n\n	\n	\n	 \n	\n		\n			\n				ご予約内容\n						（必須）\n						\n				 \n			\n			\n				体験レッスンイベント体験レッスン+オーラ撮影オーラ撮影問合せ\n				 \n				　※ 入会予約はこちらからお申し込みください\n				 \n			\n		\n		\n			\n				お名前\n						（必須）\n						\n				 \n			\n			\n				\n				 \n			\n		\n		\n			\n				メールアドレス\n						（必須）\n						\n				 \n			\n			\n				\n※ 携帯電話のメールアドレスをご入力の際は、ドメイン指定の設定をされている場合”＠ilchibrainyoga.com”からのメールを受け取ることができるように設定してください。\n				 \n			\n		\n		\n			\n				お電話番号（携帯可）\n						（必須）\n						\n				 \n			\n			\n				イルチブレインヨガ各店舗からの連絡が可能な番号をご入力ください。\n\n				 \n			\n		\n		\n			\n				ご予約希望日時\n				 \n			\n			\n				ご予約希望日時をお選びください\n【希望日】タイムスケジュールに記載があるクラスからお選びください\n\n時間帯を選択してください10時台のクラス13時台のクラス19時台のクラス午前のイベント午後のイベント夜のイベント台のクラス\n				 \n				※ ご予約状況等によりご希望の日時に添えない場合もございます。その際は事前に調整を行う連絡をさせていただきますので予めご了承ください。\n\n				 \n			\n		\n		\n			\n				こちらのスタジオを何でお知りになりましたか？\n						 （必須）\n						\n				 \n			\n			\n				チラシ看板書籍雑誌紹介Yahoo検索Google検索口コミその他Webサイト\n				 \n			\n		\n		\n			\n				ご関心があること、習得したいこと（複数可）\n				 \n			\n			\n				自然治癒力アップ集中力アップダイエット体質改善ストレス軽減丹田強化呼吸法瞑想法その他（備考欄にご入力ください）\n				 \n			\n		\n		\n			\n				備考欄\n				 \n			\n			\n				\n				 \n			\n		\n	\n	個人情報の取扱い\n		について、同意の上送信します。\n※ ご入力頂いた情報は、株式会社DAHN WORLD JAPANからのご案内をさせて頂く以外の目的では使用致しません。\n		\n	 \n	\n	\n	 \n	※ 送信ボタンを押すとすぐ送信されます。このページで入力内容を確認してください。\n\n自動で完了メールが配信されます。\n	 \nΔ \n\n\n\n株式会社DAHN WORLD JAPAN（ダンワールドジャパン）
URL:https://ilchibrainyoga.com/event/kashihara-23/
LOCATION:イルチブレインヨガ橿原スタジオ\, 橿原市内膳町5-2-33中和八木ビル4階\, 日本
CATEGORIES:奈良,橿原,関西
ATTACH;FMTTYPE=image/png:https://ilchibrainyoga.com/wp-content/uploads/2026/03/気功-2人-新モデル.png
END:VEVENT
BEGIN:VEVENT
DTSTART;TZID=Asia/Tokyo:20260324T140000
DTEND;TZID=Asia/Tokyo:20260324T160000
DTSTAMP:20260425T213528
CREATED:20260315T000922Z
LAST-MODIFIED:20260315T000922Z
UID:86708-1774360800-1774368000@ilchibrainyoga.com
SUMMARY:【枚方】🌸ARIRANG気功で整える、心と体の土台作り体験会～お腹を温め、下半身を鍛えて「ぶれない自分」へ~
DESCRIPTION:【こんなお悩みはありませんか？】\n・疲れが抜けにくく、気力が続かない\n・感情の波があり、なんとなく不安定\n・考えごとが多くて頭が重い \n【体験会のポイント】\n・腸をほぐす：お腹を柔らかく温め、全身の巡りをスムーズに。\n・下半身の強化：第1・第2チャクラ（生命力・安心感の中心)を活性化\n・マインドフルネス：「地に足のついた感覚」を取り戻し、思考をスッキリ。\n足元が安定すると、心は驚くほど軽くなります。\n初心者の方でも安心してご参加いただける、ゆったりとしたプログラムです。 \n開催日：3月24日（火）\n時間：14:00～16:00\n会場名：イルチブレインヨガ枚方スタジオ\n会場住所：枚方市岡東町18-23\n枚方近畿ビル6階\n参加費： 1000円\nトレーナー：丹下いづみ、藤本久美子\n持ち物：動きやすい服装、水\nお申し込み・お問い合わせ：☎️072-841-5801\n\nスタジオLINE：https://lin.ee/2uxAQaZ \n\n\n  \n\n\n\n\n	\n	\n	 \n	\n		\n			\n				ご予約内容\n						（必須）\n						\n				 \n			\n			\n				体験レッスンイベント体験レッスン+オーラ撮影オーラ撮影問合せ\n※ 入会予約はこちらからお申し込みください\n				 \n			\n		\n		\n			\n				お名前\n						（必須）\n						\n				 \n			\n			\n				\n				 \n			\n		\n		\n			\n				メールアドレス\n						（必須）\n						\n				 \n			\n			\n				\n※ 携帯電話のメールアドレスをご入力の際は、ドメイン指定の設定をされている場合”＠ilchibrainyoga.com”からのメールを受け取ることができるように設定してください。\n				 \n			\n		\n		\n			\n				お電話番号（携帯可）\n						（必須）\n						\n				 \n			\n			\n				イルチブレインヨガ各店舗からの連絡が可能な番号をご入力ください。\n\n				 \n			\n		\n		\n			\n				ご予約希望日時\n				 \n			\n			\n				ご予約希望日時をお選びください\n【希望日】タイムスケジュールに記載があるクラスからお選びください\n\n				 \n				時間帯を選択してください10時台のクラス14時台のクラス19時台のクラス午前のイベント午後のイベント夜のイベント\n				 \n				※ ご予約状況等によりご希望の日時に添えない場合もございます。その際は事前に調整を行う連絡をさせていただきますので予めご了承ください。\n\n				 \n			\n		\n		\n			\n				こちらのスタジオを何でお知りになりましたか？\n						 （必須）\n						\n				 \n			\n			\n				チラシ看板書籍雑誌紹介Yahoo検索Google検索口コミその他Webサイト\n				 \n			\n		\n		\n			\n				ご関心があること、習得したいこと（複数可）\n				 \n			\n			\n				自然治癒力アップ集中力アップダイエット体質改善ストレス軽減丹田強化呼吸法瞑想法その他（備考欄にご入力ください）\n				 \n			\n		\n		\n			\n				備考欄\n				 \n			\n			\n				\n				 \n			\n		\n	\n	個人情報の取扱い\n		について、同意の上送信します。\n※ ご入力頂いた情報は、株式会社DAHN WORLD JAPANからのご案内をさせて頂く以外の目的では使用致しません。\n		\n	 \n	\n	\n	 \n	※ 送信ボタンを押すとすぐ送信されます。このページで入力内容を確認してください。\n\n自動で完了メールが配信されます。\n	 \nΔ \n\n\n\n株式会社DAHN WORLD JAPAN（ダンワールドジャパン）
URL:https://ilchibrainyoga.com/event/hirakata-41/
LOCATION:イルチブレインヨガ枚方スタジオ\, 大阪府枚方市岡東町 18-23 枚方近畿ビル6階\, Japan
CATEGORIES:大阪,枚方,関西
ATTACH;FMTTYPE=image/jpeg:https://ilchibrainyoga.com/wp-content/uploads/2026/03/ok_20240114JP-広報用写真撮影_DSC0401-scaled.jpg
END:VEVENT
BEGIN:VEVENT
DTSTART;TZID=Asia/Tokyo:20260320T140000
DTEND;TZID=Asia/Tokyo:20260320T153000
DTSTAMP:20260425T213528
CREATED:20260314T061228Z
LAST-MODIFIED:20260314T061228Z
UID:86685-1774015200-1774020600@ilchibrainyoga.com
SUMMARY:【寝屋川】 体が軽くなる♪気功体験〜ゆっくり動くだけで体も心もスッキリ！アリラン（Arirang）気功〜
DESCRIPTION:最近、なんとなく体が重い、疲れが抜けにくい、ストレスが溜まっている、体が硬くなってきた…そんなふうに感じることはありませんか？\nアリラン気功は、ゆったりと体を動かしながら気（エネルギー）の巡りを整えるやさしいトレーニングです。続けることで、心と体のバランスが整い、ストレスが軽くなり、体が柔らかく軽く感じられるようになります。初めての方でも大丈夫。楽しく体を動かしながら、心も体もスッキリする時間を体験してみませんか？ \n開催日：3月20日（金祝）\n時間：14：00～15：30\n会場名：イルチブレインヨガ寝屋川スタジオ\n会場住所：寝屋川市八坂町12-13旭八坂ビル2階\n参加費：1000円\nトレーナー：西　真由美\n持ち物：動きやすい服装、水分補給用のお飲み物\n問合せ電話：072-821-0338  \n\nLINEからのお申し込みはこちら⇒https://lin.ee/Xzo5qj0 \n\n\n  \n\n\n\n\n	\n	\n	 \n	\n		\n			\n				ご予約内容\n						（必須）\n						\n				 \n			\n			\n				体験レッスンイベント体験レッスン+オーラ撮影オーラ撮影問合せ\n※ 入会予約はこちらからお申し込みください\n				 \n			\n		\n		\n			\n				お名前\n						（必須）\n						\n				 \n			\n			\n				\n				 \n			\n		\n		\n			\n				メールアドレス\n						（必須）\n						\n				 \n			\n			\n				\n※ 携帯電話のメールアドレスをご入力の際は、ドメイン指定の設定をされている場合”＠ilchibrainyoga.com”からのメールを受け取ることができるように設定してください。\n				 \n			\n		\n		\n			\n				お電話番号（携帯可）\n						（必須）\n						\n				 \n			\n			\n				イルチブレインヨガ各店舗からの連絡が可能な番号をご入力ください。\n\n				 \n			\n		\n		\n			\n				ご予約希望日時\n				 \n			\n			\n				ご予約希望日時をお選びください\n【希望日】タイムスケジュールに記載があるクラスからお選びください\n\n時間帯を選択してください10時台のクラス14時台のクラス18時台のクラス20時台のクラス21時台のクラス午前のイベント午後のイベント夜のイベント\n				 \n				※ ご予約状況等によりご希望の日時に添えない場合もございます。その際は事前に調整を行う連絡をさせていただきますので予めご了承ください。\n\n				 \n			\n		\n		\n			\n				こちらのスタジオを何でお知りになりましたか？\n						 （必須）\n						\n				 \n			\n			\n				チラシ看板書籍雑誌紹介Yahoo検索Google検索口コミその他Webサイト\n				 \n			\n		\n		\n			\n				ご関心があること、習得したいこと（複数可）\n				 \n			\n			\n				自然治癒力アップ集中力アップダイエット体質改善ストレス軽減丹田強化呼吸法瞑想法その他（備考欄にご入力ください）\n				 \n			\n		\n		\n			\n				備考欄\n				 \n			\n			\n				\n				 \n			\n		\n	\n	個人情報の取扱い\n		について、同意の上送信します。\n※ ご入力頂いた情報は、株式会社DAHN WORLD JAPANからのご案内をさせて頂く以外の目的では使用致しません。\n		\n	 \n	\n	\n	 \n	※ 送信ボタンを押すとすぐ送信されます。このページで入力内容を確認してください。\n\n自動で完了メールが配信されます。\n	 \nΔ \n\n\n\n株式会社DAHN WORLD JAPAN　ダンワールドジャパン
URL:https://ilchibrainyoga.com/event/neyagawa-34/
LOCATION:イルチブレインヨガ寝屋川スタジオ\, 大阪府寝屋川市八坂町 12-13 旭八坂ビル 2階\, Japan
CATEGORIES:大阪,寝屋川,関西
ATTACH;FMTTYPE=image/jpeg:https://ilchibrainyoga.com/wp-content/uploads/2026/03/ok_20240114JP-広報用写真撮影_DSC0401-scaled.jpg
END:VEVENT
BEGIN:VEVENT
DTSTART;TZID=Asia/Tokyo:20260320T140000
DTEND;TZID=Asia/Tokyo:20260320T153000
DTSTAMP:20260425T213528
CREATED:20260311T012454Z
LAST-MODIFIED:20260311T012454Z
UID:86402-1774015200-1774020600@ilchibrainyoga.com
SUMMARY:【姫路】我理朗（アリラン）気功　体験会
DESCRIPTION:気功でお腹（腸）を柔らかくして温める。\n下半身を鍛えることで、頭がすっきり！ \n開催日：3月20日（金）\n時間：14：00～15：30\n会場名：イルチブレインヨガ姫路スタジオ\n会場住所 :兵庫県姫路市南駅前町 96-1South.One 3F\n参加費：1000円\nトレーナー：パクソヒ\n持ち物：タオル、お水 \n【ご予約】　ILCHI BRAIN YOGA 姫路スタジオ　079-283-6363 \n\nLINEからのお申し込みはこちら⇒https://lin.ee/7jrsfbQ \n\n\n  \n\n\n\n\n	\n	\n	 \n	\n		\n			\n				ご予約内容\n						（必須）\n						\n				 \n			\n			\n				体験レッスンイベント体験レッスン+オーラ撮影オーラ撮影問合せ\n※ 入会予約はこちらからお申し込みください\n				 \n			\n		\n		\n			\n				お名前\n						（必須）\n						\n				 \n			\n			\n				\n				 \n			\n		\n		\n			\n				メールアドレス\n						（必須）\n						\n				 \n			\n			\n				\n※ 携帯電話のメールアドレスをご入力の際は、ドメイン指定の設定をされている場合”＠ilchibrainyoga.com”からのメールを受け取ることができるように設定してください。\n				 \n			\n		\n		\n			\n				お電話番号（携帯可）\n						（必須）\n						\n				 \n			\n			\n				イルチブレインヨガ各店舗からの連絡が可能な番号をご入力ください。\n\n				 \n			\n		\n		\n			\n				ご予約希望日時\n				 \n			\n			\n				ご予約希望日時をお選びください\n【希望日】タイムスケジュールに記載があるクラスからお選びください\n\n時間帯を選択してください10時台のクラス14時台のクラス18時台のクラス午前のイベント午後のイベント夜のイベント\n				 \n				※ ご予約状況等によりご希望の日時に添えない場合もございます。その際は事前に調整を行う連絡をさせていただきますので予めご了承ください。\n\n				 \n			\n		\n		\n			\n				こちらのスタジオを何でお知りになりましたか？\n						 （必須）\n						\n				 \n			\n			\n				チラシ看板書籍雑誌紹介Yahoo検索Google検索口コミその他Webサイト\n				 \n			\n		\n		\n			\n				ご関心があること、習得したいこと（複数可）\n				 \n			\n			\n				自然治癒力アップ集中力アップダイエット体質改善ストレス軽減丹田強化呼吸法瞑想法その他（備考欄にご入力ください）\n				 \n			\n		\n		\n			\n				備考欄\n				 \n			\n			\n				\n				 \n			\n		\n	\n	個人情報の取扱い\n		について、同意の上送信します。\n※ ご入力頂いた情報は、株式会社DAHN WORLD JAPANからのご案内をさせて頂く以外の目的では使用致しません。\n		\n	 \n	\n	\n	 \n	※ 送信ボタンを押すとすぐ送信されます。このページで入力内容を確認してください。\n\n自動で完了メールが配信されます。\n	 \nΔ \n\n\n\n株式会社DAHN WORLD JAPAN　ダンワールドジャパン
URL:https://ilchibrainyoga.com/event/himeji-44/
LOCATION:イルチブレインヨガ姫路スタジオ\, 兵庫県姫路市南駅前町 96-1 サウス・ワン3F\, Japan
CATEGORIES:兵庫,姫路,関西
ATTACH;FMTTYPE=image/jpeg:https://ilchibrainyoga.com/wp-content/uploads/2026/03/気功２.jpg
END:VEVENT
BEGIN:VEVENT
DTSTART;TZID=Asia/Tokyo:20260318T100000
DTEND;TZID=Asia/Tokyo:20260318T120000
DTSTAMP:20260425T213528
CREATED:20260314T014321Z
LAST-MODIFIED:20260314T014321Z
UID:86474-1773828000-1773835200@ilchibrainyoga.com
SUMMARY:【膳所】我理朗（アリラン）ARIRANG　気功　体験会
DESCRIPTION:最近こんなことありませんか？\n・体が疲れやすい\n・呼吸が浅い\n・体を整えたい\n・気持ちをスッキリさせたい \nそんな方におすすめの\nアリラン気功体験会を開催します。 \nARIRANG（アリラン）気功は\n簡単な動き・呼吸を通して\n体・心・エネルギーを整える新しい気功トレーニングです。 \n運動が苦手な方でもできる\nやさしいトレーニングなので\n初心者の方も安心してご参加いただけます。 \n「気功ってどんな感じ？」\nという方もぜひ体験してみてください \n開催日時：3/18（水）10:00～12:00\n定員4名 要予約です★ \n会場名：イルチブレインヨガ膳所スタジオ\n会場住所：大津市膳所2-1-8\n参加費：1000円\nご予約・お問い合わせ： 077-524-9050 \n\nLINEからのお申し込みはこちら⇒https://lin.ee/0mJI7FRS \n\n\n  \n\n\n\n\n	\n	\n	 \n	\n		\n			\n				ご予約内容\n						（必須）\n						\n				 \n			\n			\n				体験レッスンイベント体験レッスン+オーラ撮影オーラ撮影問合せ\n※ 入会予約はこちらからお申し込みください\n				 \n			\n		\n		\n			\n				お名前\n						（必須）\n						\n				 \n			\n			\n				\n				 \n			\n		\n		\n			\n				メールアドレス\n						（必須）\n						\n				 \n			\n			\n				\n※ 携帯電話のメールアドレスをご入力の際は、ドメイン指定の設定をされている場合”＠ilchibrainyoga.com”からのメールを受け取ることができるように設定してください。\n				 \n			\n		\n		\n			\n				お電話番号（携帯可）\n						（必須）\n						\n				 \n			\n			\n				イルチブレインヨガ各店舗からの連絡が可能な番号をご入力ください。\n\n				 \n			\n		\n		\n			\n				ご予約希望日時\n				 \n			\n			\n				ご予約希望日時をお選びください\n【希望日】タイムスケジュールに記載があるクラスからお選びください\n\n時間帯を選択してください10時台のクラス14時台のクラス19時台のクラス午前のイベント午後のイベント夜のイベント\n				 \n				※ ご予約状況等によりご希望の日時に添えない場合もございます。その際は事前に調整を行う連絡をさせていただきますので予めご了承ください。\n\n				 \n			\n		\n		\n			\n				こちらのスタジオを何でお知りになりましたか？\n						 （必須）\n						\n				 \n			\n			\n				チラシ看板書籍雑誌紹介Yahoo検索Google検索口コミその他Webサイト\n				 \n			\n		\n		\n			\n				ご関心があること、習得したいこと（複数可）\n				 \n			\n			\n				自然治癒力アップ集中力アップダイエット体質改善ストレス軽減丹田強化呼吸法瞑想法その他（備考欄にご入力ください）\n				 \n			\n		\n		\n			\n				備考欄\n				 \n			\n			\n				\n				 \n			\n		\n	\n	個人情報の取扱い\n		について、同意の上送信します。\n※ ご入力頂いた情報は、株式会社DAHN WORLD JAPANからのご案内をさせて頂く以外の目的では使用致しません。\n		\n	 \n	\n	\n	 \n	※ 送信ボタンを押すとすぐ送信されます。このページで入力内容を確認してください。\n\n自動で完了メールが配信されます。\n	 \nΔ \n\n\n\n株式会社ダンワールドジャパン
URL:https://ilchibrainyoga.com/event/zeze-20/
LOCATION:イルチブレインヨガ膳所スタジオ\, 膳所２丁目１−８\, 大津市\, 滋賀県\, 日本
CATEGORIES:滋賀,膳所,関西
ATTACH;FMTTYPE=image/jpeg:https://ilchibrainyoga.com/wp-content/uploads/2026/03/ok_20240114JP-広報用写真撮影_DSC0401-scaled.jpg
END:VEVENT
END:VCALENDAR