BEGIN:VCALENDAR
VERSION:2.0
PRODID:-//イルチブレインヨガ公式サイト - ECPv6.15.16//NONSGML v1.0//EN
CALSCALE:GREGORIAN
METHOD:PUBLISH
X-WR-CALNAME:イルチブレインヨガ公式サイト
X-ORIGINAL-URL:https://ilchibrainyoga.com
X-WR-CALDESC:イルチブレインヨガ公式サイト のイベント
REFRESH-INTERVAL;VALUE=DURATION:PT1H
X-Robots-Tag:noindex
X-PUBLISHED-TTL:PT1H
BEGIN:VTIMEZONE
TZID:Asia/Tokyo
BEGIN:STANDARD
TZOFFSETFROM:+0900
TZOFFSETTO:+0900
TZNAME:JST
DTSTART:20250101T000000
END:STANDARD
END:VTIMEZONE
BEGIN:VEVENT
DTSTART;TZID=Asia/Tokyo:20260425T100000
DTEND;TZID=Asia/Tokyo:20260425T114000
DTSTAMP:20260425T100741
CREATED:20260312T045422Z
LAST-MODIFIED:20260404T075039Z
UID:86556-1777111200-1777117200@ilchibrainyoga.com
SUMMARY:【はりま大津】本当の自分と出会う「気功」ARIRANG我理朗気功の体験会
DESCRIPTION:開催日：4月25日（土）\n時間：10：00～11：40\n会場名：イルチブレインヨガはりま大津教室\n会場住所：姫路市大津区天満（詳細はご予約後にお伝えいたします）\n参加費：2\,000円\nトレーナー：宗安　千賀子\n持ち物：動きやすい服装、タオル\n問合せ電話：090-7763-9735（宗安） \n\nLINEからのお申し込みはこちら⇒https://lin.ee/olmHNv8 \n\n\n  \n\n\n\n\n	\n	\n	 \n	\n		\n			\n				ご予約内容\n						（必須）\n						\n				 \n			\n			\n				体験レッスンイベント問合せ\n				 \n				※ 入会予約はこちらからお申し込みください\n				 \n			\n		\n		\n			\n				お名前\n						（必須）\n						\n				 \n			\n			\n				\n				 \n			\n		\n		\n			\n				メールアドレス\n						（必須）\n						\n				 \n			\n			\n				\n※ 携帯電話のメールアドレスをご入力の際は、ドメイン指定の設定をされている場合”＠ilchibrainyoga.com”からのメールを受け取ることができるように設定してください。\n				 \n			\n		\n		\n			\n				お電話番号（携帯可）\n						（必須）\n						\n				 \n			\n			\n				イルチブレインヨガ各店舗からの連絡が可能な番号をご入力ください。\n\n				 \n			\n		\n		\n			\n				ご予約希望日時\n				 \n			\n			\n				ご予約希望日時をお選びください\n【希望日】タイムスケジュールに記載があるクラスからお選びください\n\n				 \n				時間帯を選択してください10時台のクラス14時台のクラス17時台のクラス19時台のクラス午前のイベント午後のイベント夜のイベント\n				 \n				※ ご予約状況等によりご希望の日時に添えない場合もございます。その際は事前に調整を行う連絡をさせていただきますので予めご了承ください。\n\n				 \n			\n		\n		\n			\n				こちらのスタジオを何でお知りになりましたか？\n						 （必須）\n						\n				 \n			\n			\n				チラシ看板書籍雑誌紹介Yahoo検索Google検索口コミその他Webサイト\n				 \n			\n		\n		\n			\n				ご関心があること、習得したいこと（複数可）\n				 \n			\n			\n				自然治癒力アップ集中力アップダイエット体質改善ストレス軽減丹田強化呼吸法瞑想法その他（備考欄にご入力ください）\n				 \n			\n		\n		\n			\n				備考欄\n				 \n			\n			\n				\n				 \n			\n		\n	\n	個人情報の取扱い\n		について、同意の上送信します。\n※ ご入力頂いた情報は、株式会社DAHN WORLD JAPANからのご案内をさせて頂く以外の目的では使用致しません。\n		\n	 \n	\n	\n	 \n	※ 送信ボタンを押すとすぐ送信されます。このページで入力内容を確認してください。\n\n自動で完了メールが配信されます。\n	 \nΔ \n\n\n\n株式会社DAHN WORLD JAPAN
URL:https://ilchibrainyoga.com/event/harima-2/
LOCATION:イルチブレインヨガはりま大津教室\, 兵庫県姫路市大津区天満627
CATEGORIES:はりま大津,兵庫,長寿スクール説明会・ワークショップ,関西
ATTACH;FMTTYPE=image/png:https://ilchibrainyoga.com/wp-content/uploads/2026/03/気功-2人-新モデル.png
END:VEVENT
BEGIN:VEVENT
DTSTART;TZID=Asia/Tokyo:20260425T140000
DTEND;TZID=Asia/Tokyo:20260425T153000
DTSTAMP:20260425T100741
CREATED:20260311T010244Z
LAST-MODIFIED:20260331T041231Z
UID:86387-1777125600-1777131000@ilchibrainyoga.com
SUMMARY:【星和台】ARIRANG(アリラン)気功＆瞑想体験会
DESCRIPTION:「我理朗(アリラン)」という意味\n「我」＝わたし\n「理」＝知る\n「朗」＝喜び\nつまり、本当の自分を知る喜び、本来の自分を悟る喜びという意味が込められています。\n気功、瞑想を通して自分自身と繋がってみませんか？ \n開催日：4月25日（土）\n時間：14:00〜15:30\n会場名：イルチブレインヨガ星和台スタジオ\n会場住所：奈良県北葛城郡河合町星和台2-5-23\n参加費：1000円\nトレーナー：柳生チーフトレーナー\n持ち物：タオル、お茶 \n問合せ電話：0745-32-7557 \n\nLINEからのお申し込みはこちら⇒https://lin.ee/f8Cpyde \n\n\n  \n\n\n\n\n	\n	\n	 \n	\n		\n			\n				ご予約内容\n						（必須）\n						\n				 \n			\n			\n				体験レッスンイベント体験レッスン+オーラ撮影オーラ撮影問合せ\n				 \n				※ 入会予約はこちらからお申し込みください\n				 \n			\n		\n		\n			\n				お名前\n						（必須）\n						\n				 \n			\n			\n				\n				 \n			\n		\n		\n			\n				メールアドレス\n						（必須）\n						\n				 \n			\n			\n				\n※ 携帯電話のメールアドレスをご入力の際は、ドメイン指定の設定をされている場合”＠ilchibrainyoga.com”からのメールを受け取ることができるように設定してください。\n				 \n			\n		\n		\n			\n				お電話番号（携帯可）\n						（必須）\n						\n				 \n			\n			\n				イルチブレインヨガ各店舗からの連絡が可能な番号をご入力ください。\n\n				 \n			\n		\n		\n			\n				ご予約希望日時\n				 \n			\n			\n				ご予約希望日時をお選びください\n【希望日】タイムスケジュールに記載があるクラスからお選びください\n\n時間帯を選択してください10時台のクラス14時台のクラス19時台のクラス午前のイベント午後のイベント夜のイベント\n				 \n				※ ご予約状況等によりご希望の日時に添えない場合もございます。その際は事前に調整を行う連絡をさせていただきますので予めご了承ください。\n\n				 \n			\n		\n		\n			\n				こちらのスタジオを何でお知りになりましたか？\n						 （必須）\n						\n				 \n			\n			\n				チラシ看板書籍雑誌紹介Yahoo検索Google検索口コミその他Webサイト\n				 \n			\n		\n		\n			\n				ご関心があること、習得したいこと（複数可）\n				 \n			\n			\n				自然治癒力アップ集中力アップダイエット体質改善ストレス軽減丹田強化呼吸法瞑想法その他（備考欄にご入力ください）\n				 \n			\n		\n		\n			\n				備考欄\n				 \n			\n			\n				\n				 \n			\n		\n	\n	個人情報の取扱い\n		について、同意の上送信します。\n※ ご入力頂いた情報は、株式会社DAHN WORLD JAPANからのご案内をさせて頂く以外の目的では使用致しません。\n		\n	 \n	\n	\n	 \n	※ 送信ボタンを押すとすぐ送信されます。このページで入力内容を確認してください。\n\n自動で完了メールが配信されます。\n	 \nΔ \n\n\n\n株式会社DAHN WORLD JAPAN　ダンワールドジャパン
URL:https://ilchibrainyoga.com/event/seiwadai-29/
LOCATION:イルチブレインヨガ星和台スタジオ\, 奈良県北葛城郡河合町星和台 2-5-23 ビル\, Japan
CATEGORIES:奈良,星和台,関西
ATTACH;FMTTYPE=image/jpeg:https://ilchibrainyoga.com/wp-content/uploads/2026/03/星和台.jpg
END:VEVENT
BEGIN:VEVENT
DTSTART;TZID=Asia/Tokyo:20260425T140000
DTEND;TZID=Asia/Tokyo:20260425T153000
DTSTAMP:20260425T100741
CREATED:20260313T014357Z
LAST-MODIFIED:20260313T014357Z
UID:86632-1777125600-1777131000@ilchibrainyoga.com
SUMMARY:【ゆもと】我理朗（アリラン）ARIRANG 気功 体験会
DESCRIPTION:呼吸とゆったりした動きで\n体と心のバランスを整える気功です。\n体が硬い方や運動が苦手な方でも無理なく行えます。 \n開催日：4月25日（土）\n時間：14：00～15：30\n会場名：イルチブレインヨガ　ゆもと教室\n会場住所：兵庫県宝塚市湯本町4-14\n参加費：1500円\nトレーナー：中島一成\n持ち物：動きやすい服装、タオル、水\n電話番号： 0797-84-1778 \n\nLINEからのお申し込みはこちら⇒https://lin.ee/qgSg7fZ \n\n\n  \n\n\n\n\n	\n	\n	 \n	\n		\n			\n				ご予約内容\n						（必須）\n						\n				 \n			\n			\n				体験レッスンイベント問合せ\n				 \n				※ 入会予約はこちらからお申し込みください\n				 \n			\n		\n		\n			\n				お名前\n						（必須）\n						\n				 \n			\n			\n				\n				 \n			\n		\n		\n			\n				メールアドレス\n						（必須）\n						\n				 \n			\n			\n				\n※ 携帯電話のメールアドレスをご入力の際は、ドメイン指定の設定をされている場合”＠ilchibrainyoga.com”からのメールを受け取ることができるように設定してください。\n				 \n			\n		\n		\n			\n				お電話番号（携帯可）\n						（必須）\n						\n				 \n			\n			\n				イルチブレインヨガ各店舗からの連絡が可能な番号をご入力ください。\n\n				 \n			\n		\n		\n			\n				ご予約希望日時\n				 \n			\n			\n				ご予約希望日時をお選びください\n【希望日】タイムスケジュールに記載があるクラスからお選びください\n\n				 \n				時間帯を選択してください10時台のクラス14時台のクラス17時台のクラス19時台のクラス午前のイベント午後のイベント夜のイベント\n				 \n				※ ご予約状況等によりご希望の日時に添えない場合もございます。その際は事前に調整を行う連絡をさせていただきますので予めご了承ください。\n\n				 \n			\n		\n		\n			\n				こちらのスタジオを何でお知りになりましたか？\n						 （必須）\n						\n				 \n			\n			\n				チラシ看板書籍雑誌紹介Yahoo検索Google検索口コミその他Webサイト\n				 \n			\n		\n		\n			\n				ご関心があること、習得したいこと（複数可）\n				 \n			\n			\n				自然治癒力アップ集中力アップダイエット体質改善ストレス軽減丹田強化呼吸法瞑想法その他（備考欄にご入力ください）\n				 \n			\n		\n		\n			\n				備考欄\n				 \n			\n			\n				\n				 \n			\n		\n	\n	個人情報の取扱い\n		について、同意の上送信します。\n※ ご入力頂いた情報は、株式会社DAHN WORLD JAPANからのご案内をさせて頂く以外の目的では使用致しません。\n		\n	 \n	\n	\n	 \n	※ 送信ボタンを押すとすぐ送信されます。このページで入力内容を確認してください。\n\n自動で完了メールが配信されます。\n	 \nΔ \n\n\n\n株式会社DAHN WORLD JAPAN
URL:https://ilchibrainyoga.com/event/yumoto/
LOCATION:イルチブレインヨガゆもと教室\, 兵庫県 宝塚市 湯本町 4-14
CATEGORIES:ゆもと,兵庫,長寿スクール説明会・ワークショップ,関西
ATTACH;FMTTYPE=image/png:https://ilchibrainyoga.com/wp-content/uploads/2026/03/気功-2人-新モデル.png
END:VEVENT
BEGIN:VEVENT
DTSTART;TZID=Asia/Tokyo:20260425T140000
DTEND;TZID=Asia/Tokyo:20260425T153000
DTSTAMP:20260425T100741
CREATED:20260326T012939Z
LAST-MODIFIED:20260404T074946Z
UID:87806-1777125600-1777131000@ilchibrainyoga.com
SUMMARY:【奈良】ARIRANG気功＆瞑想体験会
DESCRIPTION:体を動かしながら自分と繋がる動的瞑想「ARIRANG気功」と\n静かな「呼吸瞑想」の体験会です。\n体・心・意識と3つのBODYを整えましょう。 \n開催日：4月25日(土)\n時間：14：00～15：30\n会場名：イルチブレインヨガ奈良スタジオ\n会場住所：奈良市下三条町10-1末廣ビル6階\n参加費：1500円\nLINEからのお申込みで500円OFF\nトレーナー：小倉里江\n持ち物：動きやすい服装\n問合せ電話：0742-23-6701 \n\nLINEからのお申し込みはこちら⇒https://lin.ee/clvMTqR \n\n\n  \n\n\n\n\n	\n	\n	 \n	\n		\n			\n				ご予約内容\n						（必須）\n						\n				 \n			\n			\n				体験レッスンイベント体験レッスン+オーラ撮影オーラ撮影問合せ\n※ 入会予約はこちらからお申し込みください\n				 \n			\n		\n		\n			\n				お名前\n						（必須）\n						\n				 \n			\n			\n				\n				 \n			\n		\n		\n			\n				メールアドレス\n						（必須）\n						\n				 \n			\n			\n				\n※ 携帯電話のメールアドレスをご入力の際は、ドメイン指定の設定をされている場合”＠ilchibrainyoga.com”からのメールを受け取ることができるように設定してください。\n				 \n			\n		\n		\n			\n				お電話番号（携帯可）\n						（必須）\n						\n				 \n			\n			\n				イルチブレインヨガ各店舗からの連絡が可能な番号をご入力ください。\n\n				 \n			\n		\n		\n			\n				ご予約希望日時\n				 \n			\n			\n				ご予約希望日時をお選びください\n【希望日】タイムスケジュールに記載があるクラスからお選びください\n\n時間帯を選択してください10時台のクラス14時台のクラス19時台のクラス21時台のクラスMiniクラス午前のイベント午後のイベント夜のイベント\n				 \n				※ ご予約状況等によりご希望の日時に添えない場合もございます。その際は事前に調整を行う連絡をさせていただきますので予めご了承ください。\n\n				 \n			\n		\n		\n			\n				こちらのスタジオを何でお知りになりましたか？\n						 （必須）\n						\n				 \n			\n			\n				チラシ看板書籍雑誌紹介Yahoo検索Google検索口コミその他Webサイト\n				 \n			\n		\n		\n			\n				ご関心があること、習得したいこと（複数可）\n				 \n			\n			\n				自然治癒力アップ集中力アップダイエット体質改善ストレス軽減丹田強化呼吸法瞑想法その他（備考欄にご入力ください）\n				 \n			\n		\n		\n			\n				備考欄\n				 \n			\n			\n				\n				 \n			\n		\n	\n	個人情報の取扱い\n		について、同意の上送信します。\n※ ご入力頂いた情報は、株式会社DAHN WORLD JAPANからのご案内をさせて頂く以外の目的では使用致しません。\n		\n	 \n	\n	\n	 \n	※ 送信ボタンを押すとすぐ送信されます。このページで入力内容を確認してください。\n\n自動で完了メールが配信されます。\n	 \nΔ \n\n\n\n株式会社DAHN WORLD JAPAN　ダンワールドジャパン
URL:https://ilchibrainyoga.com/event/nara-30/
LOCATION:イルチブレインヨガ奈良スタジオ\, 奈良市下三条10-1　末廣ビル6階\, 日本
CATEGORIES:奈良,奈良,関西
ATTACH;FMTTYPE=image/jpeg:https://ilchibrainyoga.com/wp-content/uploads/2026/03/b64bf3dfce9fe2bde28b930ee8d728cf.jpg
END:VEVENT
BEGIN:VEVENT
DTSTART;TZID=Asia/Tokyo:20260425T140000
DTEND;TZID=Asia/Tokyo:20260425T160000
DTSTAMP:20260425T100741
CREATED:20260313T010616Z
LAST-MODIFIED:20260415T012646Z
UID:86609-1777125600-1777132800@ilchibrainyoga.com
SUMMARY:【伏見】〜忙しい毎日に自分を感じる時間〜ARIRANG気功＆瞑想体験会
DESCRIPTION:忙しい毎日の中で、少しだけ立ち止まって\n「本当の自分の心」を感じてみませんか？ \nゆったりとした音楽に合わせて体を動かし、\n呼吸と瞑想で心と体をリラックス。 \n頭ではなく“感覚”で自分を感じる時間です。\nはじめての方でも安心して参加できる体験会です。 \n開催日：4月25日（土）\n時間：14：00～16：00\n会場名：イルチブレインヨガ 伏見スタジオ\n会場住所：\n京都府京都市伏見区御香宮門前町198 御香ビル 4階\n参加費：1\,000円\nトレーナー：田中咲子\n持ち物:動きやすい服装 \nお問い合わせ：イルチブレインヨガ 伏見スタジオ　　(075)611-8470 \n\nLINEからのお申し込みはこちら⇒https://lin.ee/2DFygNP \n\n\n  \n\n\n\n\n	\n	\n	 \n	\n		\n			\n				ご予約内容\n						（必須）\n						\n				 \n			\n			\n				体験レッスンイベント体験レッスン+オーラ撮影オーラ撮影問合せ\n　※ 入会予約はこちらからお申し込みください\n				 \n			\n		\n		\n			\n				お名前\n						（必須）\n						\n				 \n			\n			\n				\n				 \n			\n		\n		\n			\n				メールアドレス\n						（必須）\n						\n				 \n			\n			\n				\n※ 携帯電話のメールアドレスをご入力の際は、ドメイン指定の設定をされている場合”＠ilchibrainyoga.com”からのメールを受け取ることができるように設定してください。\n				 \n			\n		\n		\n			\n				お電話番号（携帯可）\n						（必須）\n						\n				 \n			\n			\n				イルチブレインヨガ各店舗からの連絡が可能な番号をご入力ください。\n\n				 \n			\n		\n		\n			\n				ご予約希望日時\n				 \n			\n			\n				ご予約希望日時をお選びください\n【希望日】タイムスケジュールに記載があるクラスからお選びください\n\n時間帯を選択してください10時台のクラス14時台のクラス17時台のクラス19時台のクラス午前のイベント午後のイベント夜のイベント台のクラス\n				 \n				※ ご予約状況等によりご希望の日時に添えない場合もございます。その際は事前に調整を行う連絡をさせていただきますので予めご了承ください。\n\n				 \n			\n		\n		\n			\n				こちらのスタジオを何でお知りになりましたか？\n						 （必須）\n						\n				 \n			\n			\n				チラシ看板書籍雑誌紹介Yahoo検索Google検索口コミその他Webサイト\n				 \n			\n		\n		\n			\n				ご関心があること、習得したいこと（複数可）\n				 \n			\n			\n				自然治癒力アップ集中力アップダイエット体質改善ストレス軽減丹田強化呼吸法瞑想法その他（備考欄にご入力ください）\n				 \n			\n		\n		\n			\n				備考欄\n				 \n			\n			\n				\n				 \n			\n		\n	\n	個人情報の取扱い\n		について、同意の上送信します。\n※ ご入力頂いた情報は、株式会社DAHN WORLD JAPANからのご案内をさせて頂く以外の目的では使用致しません。\n		\n	 \n	\n	\n	 \n	※ 送信ボタンを押すとすぐ送信されます。このページで入力内容を確認してください。\n\n自動で完了メールが配信されます。\n	 \nΔ \n\n\n\n株式会社DAHN WORLD JAPAN　ダンワールドジャパン
URL:https://ilchibrainyoga.com/event/fushimi-31/
LOCATION:イルチブレインヨガ伏見スタジオ\, 伏見区御香宮門前町１９８ 御香ビル ４階\, 京都市\, 京都府\, 日本
CATEGORIES:京都,伏見,関西
ATTACH;FMTTYPE=image/jpeg:https://ilchibrainyoga.com/wp-content/uploads/2026/03/気功２.jpg
END:VEVENT
END:VCALENDAR