BEGIN:VCALENDAR
VERSION:2.0
PRODID:-//イルチブレインヨガ公式サイト - ECPv6.15.16//NONSGML v1.0//EN
CALSCALE:GREGORIAN
METHOD:PUBLISH
X-ORIGINAL-URL:https://ilchibrainyoga.com
X-WR-CALDESC:イルチブレインヨガ公式サイト のイベント
REFRESH-INTERVAL;VALUE=DURATION:PT1H
X-Robots-Tag:noindex
X-PUBLISHED-TTL:PT1H
BEGIN:VTIMEZONE
TZID:Asia/Tokyo
BEGIN:STANDARD
TZOFFSETFROM:+0900
TZOFFSETTO:+0900
TZNAME:JST
DTSTART:20250101T000000
END:STANDARD
END:VTIMEZONE
BEGIN:VEVENT
DTSTART;TZID=Asia/Tokyo:20260424T100000
DTEND;TZID=Asia/Tokyo:20260424T210000
DTSTAMP:20260425T114543
CREATED:20260405T070929Z
LAST-MODIFIED:20260423T081059Z
UID:88338-1777024800-1777064400@ilchibrainyoga.com
SUMMARY:【石橋】気体操・気功・呼吸・瞑想体験会
DESCRIPTION:マッサージ、筋トレだけではほぐせない。\n簡単な動きと気功で自分自身と向き合い、体の内側、内臓までアプローチしていきます。\n本来備わっている生命のリズムを目覚めさせ、\n呼吸・瞑想を通して、心身のバランスを整えていきます。 \n・疲れが抜けにくい\n・瞑想に興味がある方\n・頭が休まらない\n・呼吸しづらい、眠りが浅い\n・腰・股関節・膝などの下半身の筋肉をつけたい。 \nそんな方におすすめです。\n初めての方も安心して参加できます。 \n開催日：4月24日(金)\n時間：10時～14時～19時～\n会場名：イルチブレインヨガ石橋スタジオ\n会場住所：大阪府池田市石橋2-2-10　マキノビル２階\n参加費：1000円\nトレーナー：菊地靖子\n持ち物：動きやすい服装、お飲み物、タオル\n問合せ電話：072-762-7507 \n\nLINEからのお申し込みはこちら⇒https://lin.ee/aObW5QQ \n\n\n  \n\n\n\n\n	\n	\n	 \n	\n		\n			\n				ご予約内容\n						（必須）\n						\n				 \n			\n			\n				体験レッスンイベント体験レッスン+オーラ撮影オーラ撮影問合せ\n				 \n				※ 入会予約はこちらからお申し込みください\n				 \n			\n		\n		\n			\n				お名前\n						（必須）\n						\n				 \n			\n			\n				\n				 \n			\n		\n		\n			\n				メールアドレス\n						（必須）\n						\n				 \n			\n			\n				\n※ 携帯電話のメールアドレスをご入力の際は、ドメイン指定の設定をされている場合”＠ilchibrainyoga.com”からのメールを受け取ることができるように設定してください。\n				 \n			\n		\n		\n			\n				お電話番号（携帯可）\n						（必須）\n						\n				 \n			\n			\n				イルチブレインヨガ各店舗からの連絡が可能な番号をご入力ください。\n\n				 \n			\n		\n		\n			\n				ご予約希望日時\n				 \n			\n			\n				ご予約希望日時をお選びください\n【希望日】タイムスケジュールに記載があるクラスからお選びください\n\n時間帯を選択してください10時台のクラス14時台のクラス18時台のクラス19時台のクラスOPENクラス子どもクラス午前のイベント午後のイベント夜のイベント\n				 \n				※ ご予約状況等によりご希望の日時に添えない場合もございます。その際は事前に調整を行う連絡をさせていただきますので予めご了承ください。\n\n				 \n			\n		\n		\n			\n				こちらのスタジオを何でお知りになりましたか？\n						 （必須）\n						\n				 \n			\n			\n				チラシ看板書籍雑誌紹介Yahoo検索Google検索口コミその他Webサイト\n				 \n			\n		\n		\n			\n				ご関心があること、習得したいこと（複数可）\n				 \n			\n			\n				自然治癒力アップ集中力アップダイエット体質改善ストレス軽減丹田強化呼吸法瞑想法その他（備考欄にご入力ください）\n				 \n			\n		\n		\n			\n				備考欄\n				 \n			\n			\n				\n				 \n			\n		\n	\n	個人情報の取扱い\n		について、同意の上送信します。\n※ ご入力頂いた情報は、株式会社DAHN WORLD JAPANからのご案内をさせて頂く以外の目的では使用致しません。\n		\n	 \n	\n	\n	 \n	※ 送信ボタンを押すとすぐ送信されます。このページで入力内容を確認してください。\n\n自動で完了メールが配信されます。\n	 \nΔ \n\n\n\n株式会社DAHN WORLD JAPAN　ダンワールドジャパン
URL:https://ilchibrainyoga.com/event/ishibashi-41/
LOCATION:イルチブレインヨガ石橋スタジオ\, 大阪府池田市石橋2-2-10マキノビル2階
CATEGORIES:大阪,石橋,関西
ATTACH;FMTTYPE=image/jpeg:https://ilchibrainyoga.com/wp-content/uploads/2026/04/石橋.jpg
END:VEVENT
BEGIN:VEVENT
DTSTART;TZID=Asia/Tokyo:20260424T140000
DTEND;TZID=Asia/Tokyo:20260424T202000
DTSTAMP:20260425T114543
CREATED:20260310T062216Z
LAST-MODIFIED:20260421T085819Z
UID:86271-1777039200-1777062000@ilchibrainyoga.com
SUMMARY:【明石】アリラン（我理朗）気功
DESCRIPTION:アリラン気功は、シンプルな動きと心地よいリズムで\n生命エネルギーを目覚めさせるやさしい気功トレーニングです。\n呼吸と体の感覚に意識を向けながら無理なく動くことで、\n心と体のバランスが整い、本来の自分の感覚を取り戻して充電できます。 \n「アリラン（我理朗）」とは、朝鮮民謡で本当の自分を悟る喜びという意味です。\nアリラン気功で、本当の自分を感じる時間を持ってみませんか？ \nどなたでも気軽にできる気功です。\nぜひ、ご参加ください😊 \n開催日：4月24日(金)\n時間：14:00～15:20\n開催日：4月24日(金)\n時間:19:00〜20:20 \n会場名：イルチブレインヨガ明石スタジオ\n会場住所：明石市大久保町駅1-11-4KMビル602\n参加費：1\,000円\nトレーナー：薪浦英実、川原田愛、園田泰\n【お問い合わせ＆ご予約はこちらから💓😊】078-934-5630 \n\nLINEからのお申し込みはこちら⇒https://lin.ee/8MHX5gG \n\n\n  \n\n\n\n\n	\n	\n	 \n	\n		\n			\n				ご予約内容\n						（必須）\n						\n				 \n			\n			\n				体験レッスンイベント体験レッスン+オーラ撮影オーラ撮影問合せ\n				 \n				※ 入会予約はこちらからお申し込みください\n				 \n			\n		\n		\n			\n				お名前\n						（必須）\n						\n				 \n			\n			\n				\n				 \n			\n		\n		\n			\n				メールアドレス\n						（必須）\n						\n				 \n			\n			\n				\n※ 携帯電話のメールアドレスをご入力の際は、ドメイン指定の設定をされている場合”＠ilchibrainyoga.com”からのメールを受け取ることができるように設定してください。\n				 \n			\n		\n		\n			\n				お電話番号（携帯可）\n						（必須）\n						\n				 \n			\n			\n				イルチブレインヨガ各店舗からの連絡が可能な番号をご入力ください。\n\n				 \n			\n		\n		\n			\n				ご予約希望日時\n				 \n			\n			\n				ご予約希望日時をお選びください\n【希望日】タイムスケジュールに記載があるクラスからお選びください\n\n時間帯を選択してください10時台の一般クラス14時台の一般クラス19時台の一般クラス14時こどもクラス16時こどもクラス19時こどもクラス午前のイベント午後のイベント夜のイベント\n				 \n				※ ご予約状況等によりご希望の日時に添えない場合もございます。その際は事前に調整を行う連絡をさせていただきますので予めご了承ください。\n\n				 \n			\n		\n		\n			\n				こちらのスタジオを何でお知りになりましたか？\n						 （必須）\n						\n				 \n			\n			\n				チラシ看板書籍雑誌紹介Yahoo検索Google検索口コミその他Webサイト\n				 \n			\n		\n		\n			\n				ご関心があること、習得したいこと（複数可）\n				 \n			\n			\n				自然治癒力アップ集中力アップダイエット体質改善ストレス軽減丹田強化呼吸法瞑想法その他（備考欄にご入力ください）\n				 \n			\n		\n		\n			\n				備考欄\n				 \n			\n			\n				\n				 \n			\n		\n	\n	個人情報の取扱い\n		について、同意の上送信します。\n※ ご入力頂いた情報は、株式会社DAHN WORLD JAPANからのご案内をさせて頂く以外の目的では使用致しません。\n		\n	 \n	\n	\n	 \n	※ 送信ボタンを押すとすぐ送信されます。このページで入力内容を確認してください。\n\n自動で完了メールが配信されます。\n	 \nΔ \n\n\n\n株式会社DAHN WORLD JAPAN　ダンワールドジャパン
URL:https://ilchibrainyoga.com/event/akashi-37/
LOCATION:イルチブレインヨガ明石スタジオ\, 兵庫県明石市大久保町駅前1丁目11-4 KMビル602\, Japan
CATEGORIES:兵庫,明石,関西
ATTACH;FMTTYPE=image/png:https://ilchibrainyoga.com/wp-content/uploads/2025/11/気功-2人-新モデル.png
END:VEVENT
END:VCALENDAR