BEGIN:VCALENDAR
VERSION:2.0
PRODID:-//イルチブレインヨガ公式サイト - ECPv6.15.16//NONSGML v1.0//EN
CALSCALE:GREGORIAN
METHOD:PUBLISH
X-WR-CALNAME:イルチブレインヨガ公式サイト
X-ORIGINAL-URL:https://ilchibrainyoga.com
X-WR-CALDESC:イルチブレインヨガ公式サイト のイベント
REFRESH-INTERVAL;VALUE=DURATION:PT1H
X-Robots-Tag:noindex
X-PUBLISHED-TTL:PT1H
BEGIN:VTIMEZONE
TZID:Asia/Tokyo
BEGIN:STANDARD
TZOFFSETFROM:+0900
TZOFFSETTO:+0900
TZNAME:JST
DTSTART:20250101T000000
END:STANDARD
END:VTIMEZONE
BEGIN:VEVENT
DTSTART;TZID=Asia/Tokyo:20260425T140000
DTEND;TZID=Asia/Tokyo:20260425T160000
DTSTAMP:20260423T072622
CREATED:20260307T023235Z
LAST-MODIFIED:20260411T081135Z
UID:86044-1777125600-1777132800@ilchibrainyoga.com
SUMMARY:【錦糸町】自律神経のバランスを整える🌸カンタン♪春のARIRAN気功体験会
DESCRIPTION:初心者でも簡単にエネルギーを感じられ、\n春特有の心身のだるさ・自律神経のバランスを整えるアリラン気功をやってみませんか？\n開催日：4月25日（土）\n時間：14:00〜16:00\n会場名：イルチブレインヨガ錦糸町スタジオ\n会場住所：墨田区江東橋1-11-7ホテイビル4階\n参加費：2000円\nトレーナー：鈴木なほ\n持ち物：動きやすい服装、タオル、お飲み物\n問合せ電話：03-3846-6231 \n\nLINEからのお申し込みはこちら⇒https://lin.ee/dryCkUP \n\n\n  \n\n\n\n\n	\n	\n	 \n	\n		\n			\n				ご予約内容\n						（必須）\n						\n				 \n			\n			\n				体験レッスンイベント体験レッスン + オーラ撮影オーラ撮影問合せ\n　※ 入会予約はこちらからお申し込みください\n				 \n			\n		\n		\n			\n				お名前\n						（必須）\n						\n				 \n			\n			\n				\n				 \n			\n		\n		\n			\n				メールアドレス\n						（必須）\n						\n				 \n			\n			\n				\n※ 携帯電話のメールアドレスをご入力の際は、ドメイン指定の設定をされている場合”＠ilchibrainyoga.com”からのメールを受け取ることができるように設定してください。\n				 \n			\n		\n		\n			\n				お電話番号（携帯可）\n						（必須）\n						\n				 \n			\n			\n				イルチブレインヨガ各店舗からの連絡が可能な番号をご入力ください。\n\n				 \n			\n		\n		\n			\n				ご予約希望日時\n				 \n			\n			\n				ご予約希望日時をお選びください\n【希望日】タイムスケジュールに記載があるクラスからお選びください\n\n時間帯を選択してください10時台のクラス14時台のクラス19時台のクラス午前のイベント午後のイベント夜のイベント\n				 \n				※ ご予約状況等によりご希望の日時に添えない場合もございます。その際は事前に調整を行う連絡をさせていただきますので予めご了承ください。\n\n				 \n			\n		\n		\n			\n				こちらのスタジオを何でお知りになりましたか？\n						 （必須）\n						\n				 \n			\n			\n				チラシ看板書籍雑誌紹介Yahoo検索Google検索口コミその他Webサイト\n				 \n			\n		\n		\n			\n				ご関心があること、習得したいこと（複数可）\n				 \n			\n			\n				自然治癒力アップ集中力アップダイエット体質改善ストレス軽減丹田強化呼吸法瞑想法その他（備考欄にご入力ください）\n				 \n			\n		\n		\n			\n				備考欄\n				 \n			\n			\n				\n				 \n			\n		\n	\n	個人情報の取扱い\n		について、同意の上送信します。\n※ ご入力頂いた情報は、株式会社DAHN WORLD JAPANからのご案内をさせて頂く以外の目的では使用致しません。\n		\n	 \n	\n	\n	 \n	※ 送信ボタンを押すとすぐ送信されます。このページで入力内容を確認してください。\n\n自動で完了メールが配信されます。\n	 \nΔ \n\n\n\n株式会社DAHN WORLD JAPAN　ダンワールドジャパン
URL:https://ilchibrainyoga.com/event/kinshicho-30/
LOCATION:イルチブレインヨガ錦糸町スタジオ\, 東京都墨田区江東橋1-11-7 ホテイビル4F\, Japan
CATEGORIES:東京,錦糸町,関東
ATTACH;FMTTYPE=image/jpeg:https://ilchibrainyoga.com/wp-content/uploads/2024/05/131213-scaled.jpg
END:VEVENT
BEGIN:VEVENT
DTSTART;TZID=Asia/Tokyo:20260425T140000
DTEND;TZID=Asia/Tokyo:20260425T160000
DTSTAMP:20260423T072622
CREATED:20260311T015927Z
LAST-MODIFIED:20260405T153906Z
UID:86420-1777125600-1777132800@ilchibrainyoga.com
SUMMARY:【町田】７チャクラをととのえる気功ワークショップ〜 初心者歓迎 ☆ ARIRANG（アリラン） 気功 ～
DESCRIPTION:“気功”って難しそうに聞こえますが、実は、私たちの生活の中に自然にある感覚なのです。\n例えば、お箸でご飯を食べる時、箸を動かす手に指示を出すのは、誰もが持っている“脳”です。\n脳からくる指示を動かすために必要なのは、“気エネルギー”です。つまり、私たちは、人生を創る生活の中で、既に、気を使っているのです。\n今回のワークショップでは、体と心の中心となる7つのチャクラのお話しと、\nその7つのチャクラを踏まえた気功を体験できます。運動が苦手な方でも安心して参加ができる時間をつくりました。また、気功にちょっとでも興味がある方も大歓迎です。\nご体験いただく“我理朗気功（アリラン気功）”は、7つのチャクラをととのえるための気功です。\nまた、今回、ワークショップで行う気功は、下のYouTubeからご覧いただけます。 \n我理朗気功\n   \nさらに、我理朗気功の後は、日常生活でも取り入れやすい呼吸瞑想もご体験いただけます。\n気功が動きながら行う瞑想“動的な瞑想”であり、一方、座りながら呼吸の流れを感じる瞑想を“静的な瞑想”と言います。どちらも体験ができる気功ワークショップで、あなたの呼吸とつながり、体と心を回復させる時間になります。 呼吸とつながる気功を体験してみませんか？ \n開催日：4月25日(土)\n時間：14:00～16:00\n会場名：イルチブレインヨガ町田スタジオ\n会場住所：\n参加費：2000円 \nトレーナー：麻生友子（トレーナー歴10年）\n持ち物：動きやすい服装、飲み物\n問合せ電話：042-721-0688 \n LINEからのお申し込みはこちら⇒https://lin.ee/QmQdjAQ \n\n\n  \n\n\n\n\n	\n	\n	 \n	\n		\n			\n				ご予約内容\n						（必須）\n						\n				 \n			\n			\n				体験レッスンイベント体験レッスン+オーラ撮影オーラ撮影問合せ\n※ 入会予約はこちらからお申し込みください\n				 \n			\n		\n		\n			\n				お名前\n						（必須）\n						\n				 \n			\n			\n				\n				 \n			\n		\n		\n			\n				メールアドレス\n						（必須）\n						\n				 \n			\n			\n				\n※ 携帯電話のメールアドレスをご入力の際は、ドメイン指定の設定をされている場合”＠ilchibrainyoga.com”からのメールを受け取ることができるように設定してください。\n				 \n			\n		\n		\n			\n				お電話番号（携帯可）\n						（必須）\n						\n				 \n			\n			\n				イルチブレインヨガ各店舗からの連絡が可能な番号をご入力ください。\n\n				 \n			\n		\n		\n			\n				ご予約希望日時\n				 \n			\n			\n				ご予約希望日時をお選びください\n【希望日】タイムスケジュールに記載があるクラスからお選びください\n\n時間帯を選択してください10時台のクラス14時台のクラス19時台のクラス午前のイベント午後のイベント夜のイベント\n				 \n				※ ご予約状況等によりご希望の日時に添えない場合もございます。その際は事前に調整を行う連絡をさせていただきますので予めご了承ください。\n\n				 \n			\n		\n		\n			\n				こちらのスタジオを何でお知りになりましたか？\n						 （必須）\n						\n				 \n			\n			\n				チラシ看板書籍雑誌紹介Yahoo検索Google検索口コミその他Webサイト\n				 \n			\n		\n		\n			\n				ご関心があること、習得したいこと（複数可）\n				 \n			\n			\n				自然治癒力アップ集中力アップダイエット体質改善ストレス軽減丹田強化呼吸法瞑想法その他（備考欄にご入力ください）\n				 \n			\n		\n		\n			\n				備考欄\n				 \n			\n			\n				\n				 \n			\n		\n	\n	個人情報の取扱い\n		について、同意の上送信します。\n※ ご入力頂いた情報は、株式会社DAHN WORLD JAPANからのご案内をさせて頂く以外の目的では使用致しません。\n		\n	 \n	\n	\n	 \n	※ 送信ボタンを押すとすぐ送信されます。このページで入力内容を確認してください。\n\n自動で完了メールが配信されます。\n	 \nΔ \n\n\n\n株式会社DAHN WORLD JAPAN　ダンワールドジャパン
URL:https://ilchibrainyoga.com/event/machida-34/
LOCATION:イルチブレインヨガ町田スタジオ\, 東京都町田市中町1-19-6 魚貞ビル４階
CATEGORIES:東京,町田,関東
ATTACH;FMTTYPE=image/png:https://ilchibrainyoga.com/wp-content/uploads/2026/03/気功-2人-新モデル.png
END:VEVENT
BEGIN:VEVENT
DTSTART;TZID=Asia/Tokyo:20260425T140000
DTEND;TZID=Asia/Tokyo:20260426T200000
DTSTAMP:20260423T072622
CREATED:20260403T052356Z
LAST-MODIFIED:20260420T052001Z
UID:88264-1777125600-1777233600@ilchibrainyoga.com
SUMMARY:【銀座】4月30日まで土曜日・日曜日 限定　🌿春の自律神経バランス体験会～アリラン気功 × 脳と腸の呼吸～
DESCRIPTION:新生活が始まり、環境が変わる春。\n知らず知らずのうちに、呼吸が浅くなっていませんか？\n呼吸の乱れは、\n自律神経の乱れや思考の迷いにもつながります。\nこの体験会では、\n・脳と腸をつなぐ呼吸法\n・全身の巡りを整えるアリラン気功\n・エネルギーバランスの簡易チェック\nを通して、今の状態を整えます。 \n体験後には\n「呼吸が深くなった」\n「頭がスッキリした」\n「軸が安定した感覚がある」\nと感じる方も多くいらっしゃいます。 \n本気で整えたい方には、\nより深いトレーニングやセッションのご案内も可能です。 \n少人数制・週末限定開催。\n春を、整った中心からスタートしませんか。 \n🗓️日程　＊4月30日まで\n土曜日・日曜日　14:00/19:00 \n🗺️場所　イルチブレインヨガ銀座スタジオ\n👛参加費　1\,000円\n👚持ち物　動きやすい服装、飲み物、タオル \n問い合わせ電話　03-6264-3443 \n\nLINEからのお申し込みはこちら⇒https://lin.ee/sAfx95g \n\n\n  \n\n\n\n\n	\n	\n	 \n	\n		\n			\n				ご予約内容\n						（必須）\n						\n				 \n			\n			\n				体験レッスンイベント体験レッスン+オーラ撮影オーラ撮影問合せ\n※ 入会予約はこちらからお申し込みください\n				 \n			\n		\n		\n			\n				お名前\n						（必須）\n						\n				 \n			\n			\n				\n				 \n			\n		\n		\n			\n				メールアドレス\n						（必須）\n						\n				 \n			\n			\n				\n※ 携帯電話のメールアドレスをご入力の際は、ドメイン指定の設定をされている場合”＠ilchibrainyoga.com”からのメールを受け取ることができるように設定してください。\n				 \n			\n		\n		\n			\n				お電話番号（携帯可）\n						（必須）\n						\n				 \n			\n			\n				イルチブレインヨガ各店舗からの連絡が可能な番号をご入力ください。\n\n				 \n			\n		\n		\n			\n				ご予約希望日時\n				 \n			\n			\n				ご予約希望日時をお選びください\n【希望日】タイムスケジュールに記載があるクラスからお選びください\n\n時間帯を選択してください10時台のクラス14時台のクラス19時台のクラス午前のイベント午後のイベント夜のイベント\n				 \n				※ ご予約状況等によりご希望の日時に添えない場合もございます。その際は事前に調整を行う連絡をさせていただきますので予めご了承ください。\n\n				 \n			\n		\n		\n			\n				こちらのスタジオを何でお知りになりましたか？\n						 （必須）\n						\n				 \n			\n			\n				チラシ看板書籍雑誌紹介Yahoo検索Google検索口コミその他Webサイト\n				 \n			\n		\n		\n			\n				ご関心があること、習得したいこと（複数可）\n				 \n			\n			\n				自然治癒力アップ集中力アップダイエット体質改善ストレス軽減丹田強化呼吸法瞑想法その他（備考欄にご入力ください）\n				 \n			\n		\n		\n			\n				備考欄\n				 \n			\n			\n				\n				 \n			\n		\n	\n	個人情報の取扱い\n		について、同意の上送信します。\n※ ご入力頂いた情報は、株式会社DAHN WORLD JAPANからのご案内をさせて頂く以外の目的では使用致しません。\n		\n	 \n	\n	\n	 \n	※ 送信ボタンを押すとすぐ送信されます。このページで入力内容を確認してください。\n\n自動で完了メールが配信されます。\n	 \nΔ \n\n\n\n株式会社DAHN WORLD JAPAN　ダンワールドジャパン
URL:https://ilchibrainyoga.com/event/ginza-11/
LOCATION:イルチブレインヨガ銀座スタジオ\, 東京都中央区銀座三丁目10番7号 銀座京屋ビル4階\, Japan
CATEGORIES:東京,銀座,関東
ATTACH;FMTTYPE=image/jpeg:https://ilchibrainyoga.com/wp-content/uploads/2026/04/銀座.jpg
END:VEVENT
BEGIN:VEVENT
DTSTART;TZID=Asia/Tokyo:20260428T140000
DTEND;TZID=Asia/Tokyo:20260428T160000
DTSTAMP:20260423T072622
CREATED:20260412T080959Z
LAST-MODIFIED:20260420T052017Z
UID:88659-1777384800-1777392000@ilchibrainyoga.com
SUMMARY:【上大岡】 ARIRANG気功体験会
DESCRIPTION:シンプルな動きによって、呼吸や体のバランスが整うアリラン気功を体験してみませんか？\nストレスも多く、忙しい日々、外側に引っ張られていた意識を、気功を通して今ここに戻していく時、\n心も穏やかになり、自分の中で休む感覚が生まれます。体も心も乱れやすい春にぴったりです！ \n開催日：\n4月28日（火）14：00～16：00 \n会場名：イルチブレインヨガ上大岡スタジオ\n会場住所：横浜市港南区上大岡西3－1－11 サンシャインビル４F\n参加費：1500円\nトレーナー：福田由香子\n持ち物：動きやすい服装、飲み物、タオル\n問合せ電話：045－842-8480 \n\nLINEからのお申し込みはこちら⇒https://lin.ee/uCH13Gu \n\n\n  \n\n\n\n\n	\n	\n	 \n	\n		\n			\n				ご予約内容\n						（必須）\n						\n				 \n			\n			\n				体験レッスンイベント体験レッスン+オーラ撮影オーラ撮影問合せ\n　※ 入会予約はこちらからお申し込みください\n				 \n			\n		\n		\n			\n				お名前\n						（必須）\n						\n				 \n			\n			\n				\n				 \n			\n		\n		\n			\n				メールアドレス\n						（必須）\n						\n				 \n			\n			\n				\n※ 携帯電話のメールアドレスをご入力の際は、ドメイン指定の設定をされている場合”＠ilchibrainyoga.com”からのメールを受け取ることができるように設定してください。\n				 \n			\n		\n		\n			\n				お電話番号（携帯可）\n						（必須）\n						\n				 \n			\n			\n				イルチブレインヨガ各店舗からの連絡が可能な番号をご入力ください。\n\n				 \n			\n		\n		\n			\n				ご予約希望日時\n				 \n			\n			\n				ご予約希望日時をお選びください\n【希望日】タイムスケジュールに記載があるクラスからお選びください\n\n時間帯を選択してください10時台のクラス14時台のクラス19時台のクラス午前のイベント午後のイベント夜のイベント\n				 \n				※ ご予約状況等によりご希望の日時に添えない場合もございます。その際は事前に調整を行う連絡をさせていただきますので予めご了承ください。\n\n				 \n			\n		\n		\n			\n				こちらのスタジオを何でお知りになりましたか？\n						 （必須）\n						\n				 \n			\n			\n				チラシ看板書籍雑誌紹介Yahoo検索Google検索口コミその他Webサイト\n				 \n			\n		\n		\n			\n				ご関心があること、習得したいこと（複数可）\n				 \n			\n			\n				自然治癒力アップ集中力アップダイエット体質改善ストレス軽減丹田強化呼吸法瞑想法その他（備考欄にご入力ください）\n				 \n			\n		\n		\n			\n				備考欄\n				 \n			\n			\n				\n				 \n			\n		\n	\n	個人情報の取扱い\n		について、同意の上送信します。\n※ ご入力頂いた情報は、株式会社DAHN WORLD JAPANからのご案内をさせて頂く以外の目的では使用致しません。\n		\n	 \n	\n	\n	 \n	※ 送信ボタンを押すとすぐ送信されます。このページで入力内容を確認してください。\n\n自動で完了メールが配信されます。\n	 \nΔ \n\n\n\n株式会社DAHN WORLD JAPAN　ダンワールドジャパン
URL:https://ilchibrainyoga.com/event/kamiooka-10/
LOCATION:イルチブレインヨガ上大岡スタジオ\, 神奈川県横浜市港南区上大岡西3-1-11 サンシャインビル 4F\, Japan
CATEGORIES:上大岡,神奈川,関東
ATTACH;FMTTYPE=image/jpeg:https://ilchibrainyoga.com/wp-content/uploads/2026/03/気功２.jpg
END:VEVENT
BEGIN:VEVENT
DTSTART;TZID=Asia/Tokyo:20260429T103000
DTEND;TZID=Asia/Tokyo:20260429T120000
DTSTAMP:20260423T072622
CREATED:20260311T055654Z
LAST-MODIFIED:20260420T051948Z
UID:86452-1777458600-1777464000@ilchibrainyoga.com
SUMMARY:【辻堂】ARIRANG(アリラン)気功と呼吸瞑想
DESCRIPTION:「アリラン（我理朗）」という言葉には、\n「ほんとうの私に気づく喜び」という意味が込められています。 \n我理朗気功は、全１２の動作を通じて、外側に向きがちな意識を自分の内側へと戻し、\n人間が本来持っている「あふれる生命エネルギー」と「満ち足りた静寂」を取り戻すためのトータルケア・メソッドです。 \n激しい運動ではなく、呼吸と緩やかな動きで、日々の緊張から体を解き放ちます。\n外に向けられた意識を内側へと戻し、穏やかな心を取り戻します。\n気功は古来より多くの人々が行ってきた東洋的な健康法。\nゆったりとした動作を通して生命リズムを整えます。 \n \n開催日：\n4月29日（水・祝）10：30～12：00 \n会場名：イルチブレインヨガ辻堂スタジオ\n会場住所：茅ヶ崎市浜竹2－2－4　ビル２階\n参加費：1000円\nトレーナー：安達美和子\n持ち物：動きやすい服装、タオル、お飲み物\n問合せ電話：0467－39－6170 \n\nスタジオLINEからも申し込み可能です：https://lin.ee/lQKZDfF \n\n\n  \n\n\n\n\n	\n	\n	 \n	\n		\n			\n				ご予約内容\n						（必須）\n						\n				 \n			\n			\n				体験レッスンイベント体験レッスン+オーラ撮影オーラ撮影問合せ\n				 \n				※ 入会予約はこちらからお申し込みください\n				 \n			\n		\n		\n			\n				お名前\n						（必須）\n						\n				 \n			\n			\n				\n				 \n			\n		\n		\n			\n				メールアドレス\n						（必須）\n						\n				 \n			\n			\n				\n※ 携帯電話のメールアドレスをご入力の際は、ドメイン指定の設定をされている場合”＠ilchibrainyoga.com”からのメールを受け取ることができるように設定してください。\n				 \n			\n		\n		\n			\n				お電話番号（携帯可）\n						（必須）\n						\n				 \n			\n			\n				イルチブレインヨガ各店舗からの連絡が可能な番号をご入力ください。\n\n				 \n			\n		\n		\n			\n				ご予約希望日時\n				 \n			\n			\n				ご予約希望日時をお選びください\n【希望日】タイムスケジュールに記載があるクラスからお選びください\n\n時間帯を選択してください10時台のクラス14時台のクラス19時台のクラス午前のイベント午後のイベント夜のイベント\n				 \n				※ ご予約状況等によりご希望の日時に添えない場合もございます。その際は事前に調整を行う連絡をさせていただきますので予めご了承ください。\n\n				 \n			\n		\n		\n			\n				こちらのスタジオを何でお知りになりましたか？\n						 （必須）\n						\n				 \n			\n			\n				チラシ看板書籍雑誌紹介Yahoo検索Google検索口コミその他Webサイト\n				 \n			\n		\n		\n			\n				ご関心があること、習得したいこと（複数可）\n				 \n			\n			\n				自然治癒力アップ集中力アップダイエット体質改善ストレス軽減丹田強化呼吸法瞑想法その他（備考欄にご入力ください）\n				 \n			\n		\n		\n			\n				備考欄\n				 \n			\n			\n				\n				 \n			\n		\n	\n	個人情報の取扱い\n		について、同意の上送信します。\n※ ご入力頂いた情報は、株式会社DAHN WORLD JAPANからのご案内をさせて頂く以外の目的では使用致しません。\n		\n	 \n	\n	\n	 \n	※ 送信ボタンを押すとすぐ送信されます。このページで入力内容を確認してください。\n\n自動で完了メールが配信されます。\n	 \nΔ \n\n\n\n株式会社DAHN WORLD JAPAN　ダンワールドジャパン
URL:https://ilchibrainyoga.com/event/tujido-26/
LOCATION:イルチブレインヨガ辻堂スタジオ\, 神奈川県茅ヶ崎市浜竹 2-2-4 安達ビル2階\, Japan
CATEGORIES:神奈川,辻堂,関東
ATTACH;FMTTYPE=image/png:https://ilchibrainyoga.com/wp-content/uploads/2026/03/気功-2人-新モデル.png
END:VEVENT
END:VCALENDAR