BEGIN:VCALENDAR
VERSION:2.0
PRODID:-//イルチブレインヨガ公式サイト - ECPv6.15.16//NONSGML v1.0//EN
CALSCALE:GREGORIAN
METHOD:PUBLISH
X-WR-CALNAME:イルチブレインヨガ公式サイト
X-ORIGINAL-URL:https://ilchibrainyoga.com
X-WR-CALDESC:イルチブレインヨガ公式サイト のイベント
REFRESH-INTERVAL;VALUE=DURATION:PT1H
X-Robots-Tag:noindex
X-PUBLISHED-TTL:PT1H
BEGIN:VTIMEZONE
TZID:Asia/Tokyo
BEGIN:STANDARD
TZOFFSETFROM:+0900
TZOFFSETTO:+0900
TZNAME:JST
DTSTART:20250101T000000
END:STANDARD
END:VTIMEZONE
BEGIN:VEVENT
DTSTART;TZID=Asia/Tokyo:20260422T133000
DTEND;TZID=Asia/Tokyo:20260429T140000
DTSTAMP:20260422T083432
CREATED:20260311T052509Z
LAST-MODIFIED:20260421T085854Z
UID:86442-1776864600-1777471200@ilchibrainyoga.com
SUMMARY:【下曽根】アリラン気功体験会～エネルギーを充電〜
DESCRIPTION:どなたでもお気軽に、初めてでも大丈夫です。\n誰でも簡単にできる動作でゆっくりした呼吸、エネルギーの循環を感じてみましょう。\n心身共に充電できる気功です。\n気になる方はぜひご参加ください。 \n・気功って何？\n・気を感じてみたい！\n・体が硬い\n・体を整えたい \n📍 会場\nイルチブレインヨガ下曽根スタジオ\n（北九州市小倉南区田原3-1-18 102）\n日程：火曜水曜土曜\n時間：13時30分～（30分）\n参加費：500円\n準備するもの：動きやすい服装、飲物\n問合せ電話：090-1921-3350 \n\nLINEからのお申し込みはこちら⇒https://lin.ee/dN980St \n\n\n  \n\n\n\n\n	\n	\n	 \n	\n		\n			\n				ご予約内容\n						（必須）\n						\n				 \n			\n			\n				体験レッスンイベント体験レッスン+オーラ撮影オーラ撮影問合せ\n※ 入会予約はこちらからお申し込みください\n				 \n			\n		\n		\n			\n				お名前\n						（必須）\n						\n				 \n			\n			\n				\n				 \n			\n		\n		\n			\n				メールアドレス\n						（必須）\n						\n				 \n			\n			\n				\n※ 携帯電話のメールアドレスをご入力の際は、ドメイン指定の設定をされている場合”＠ilchibrainyoga.com”からのメールを受け取ることができるように設定してください。\n				 \n			\n		\n		\n			\n				お電話番号（携帯可）\n						（必須）\n						\n				 \n			\n			\n				イルチブレインヨガ各店舗からの連絡が可能な番号をご入力ください。\n\n				 \n			\n		\n		\n			\n				ご予約希望日時\n				 \n			\n			\n				ご予約希望日時をお選びください\n【希望日】タイムスケジュールに記載があるクラスからお選びください\n\n時間帯を選択してください10時台のクラス19時台のクラスこどもクラス午前のイベント午後のイベント夜のイベント\n				 \n				※ ご予約状況等によりご希望の日時に添えない場合もございます。その際は事前に調整を行う連絡をさせていただきますので予めご了承ください。\n\n				 \n			\n		\n		\n			\n				こちらのスタジオを何でお知りになりましたか？\n						 （必須）\n						\n				 \n			\n			\n				チラシ看板書籍雑誌紹介Yahoo検索Google検索口コミその他Webサイト\n				 \n			\n		\n		\n			\n				ご関心があること、習得したいこと（複数可）\n				 \n			\n			\n				自然治癒力アップ集中力アップダイエット体質改善ストレス軽減丹田強化呼吸法瞑想法その他（備考欄にご入力ください）\n				 \n			\n		\n		\n			\n				備考欄\n				 \n			\n			\n				\n				 \n			\n		\n	\n	個人情報の取扱い\n		について、同意の上送信します。\n※ ご入力頂いた情報は、株式会社DAHN WORLD JAPANからのご案内をさせて頂く以外の目的では使用致しません。\n		\n	 \n	\n	\n	 \n	※ 送信ボタンを押すとすぐ送信されます。このページで入力内容を確認してください。\n\n自動で完了メールが配信されます。\n	 \nΔ \n\n\n\n株式会社DAHN WORLD JAPAN　ダンワールドジャパン
URL:https://ilchibrainyoga.com/event/shimosone-18/
LOCATION:イルチブレインヨガ下曽根スタジオ\, 福岡県北九州市小倉南区田原 3丁目1-18 ルポ田原24 102\, Japan
CATEGORIES:下曽根,九州,福岡
ATTACH;FMTTYPE=image/jpeg:https://ilchibrainyoga.com/wp-content/uploads/2026/03/気功２.jpg
END:VEVENT
BEGIN:VEVENT
DTSTART;TZID=Asia/Tokyo:20260415T100000
DTEND;TZID=Asia/Tokyo:20260415T153000
DTSTAMP:20260422T083432
CREATED:20260312T024748Z
LAST-MODIFIED:20260402T075726Z
UID:86533-1776247200-1776267000@ilchibrainyoga.com
SUMMARY:【小倉】春の新しい自分発見！～ アリラン気功体験会～
DESCRIPTION:簡単な動きで自分の感覚と生命のリズムを目覚めさせ、\n呼吸・意識・やさしい誘導を通して、心身の状態を整えていきます。 \n・疲れが抜けにくい\n・気持ちが落ち着かない\n・頭が休まらない\nそんな日常的な不調を感じている方におすすめです。 \n開催日：4月15日(日)\n時間：10:00～11:30・14:00～15:30\n会場名：イルチブレインヨガ小倉スタジオ\n会場住所：福岡県北九州市小倉北区米町1-3-10 一宮ビル5階\n参加費：1\,000円\nトレーナー：小葉香凛\n持ち物：動きやすい服装、タオル、飲み物 \nお問合せ・お申込み:電話：093-533-1910 \n\nLINEからのお申し込みはこちら⇒https://lin.ee/5NN0tCe \n\n\n  \n\n\n\n\n	\n	\n	 \n	\n		\n			\n				ご予約内容\n						（必須）\n						\n				 \n			\n			\n				体験レッスンイベント体験レッスン+オーラ撮影オーラ撮影問合せ\n※ 入会予約はこちらからお申し込みください\n				 \n			\n		\n		\n			\n				お名前\n						（必須）\n						\n				 \n			\n			\n				\n				 \n			\n		\n		\n			\n				メールアドレス\n						（必須）\n						\n				 \n			\n			\n				\n※ 携帯電話のメールアドレスをご入力の際は、ドメイン指定の設定をされている場合”＠ilchibrainyoga.com”からのメールを受け取ることができるように設定してください。\n				 \n			\n		\n		\n			\n				お電話番号（携帯可）\n						（必須）\n						\n				 \n			\n			\n				イルチブレインヨガ各店舗からの連絡が可能な番号をご入力ください。\n\n				 \n			\n		\n		\n			\n				ご予約希望日時\n				 \n			\n			\n				ご予約希望日時をお選びください\n【希望日】タイムスケジュールに記載があるクラスからお選びください\n\n時間帯を選択してください10時台のクラス14時台のクラス19時台のクラス午前のイベント午後のイベント夜のイベント\n				 \n				※ ご予約状況等によりご希望の日時に添えない場合もございます。その際は事前に調整を行う連絡をさせていただきますので予めご了承ください。\n\n				 \n			\n		\n		\n			\n				こちらのスタジオを何でお知りになりましたか？\n						 （必須）\n						\n				 \n			\n			\n				チラシ看板書籍雑誌紹介Yahoo検索Google検索口コミその他Webサイト\n				 \n			\n		\n		\n			\n				ご関心があること、習得したいこと（複数可）\n				 \n			\n			\n				自然治癒力アップ集中力アップダイエット体質改善ストレス軽減丹田強化呼吸法瞑想法その他（備考欄にご入力ください）\n				 \n			\n		\n		\n			\n				備考欄\n				 \n			\n			\n				\n				 \n			\n		\n	\n	個人情報の取扱い\n		について、同意の上送信します。\n※ ご入力頂いた情報は、株式会社DAHN WORLD JAPANからのご案内をさせて頂く以外の目的では使用致しません。\n		\n	 \n	\n	\n	 \n	※ 送信ボタンを押すとすぐ送信されます。このページで入力内容を確認してください。\n\n自動で完了メールが配信されます。\n	 \nΔ \n\n\n\n株式会社DAHN WORLD JAPAN　ダンワールドジャパン
URL:https://ilchibrainyoga.com/event/kokura-46/
LOCATION:イルチブレインヨガ小倉スタジオ\,  福岡県北九州市小倉北区米町 1-3-10 一宮ビル 5階-C\, Japan
CATEGORIES:九州,小倉,福岡
ATTACH;FMTTYPE=image/png:https://ilchibrainyoga.com/wp-content/uploads/2026/03/kokura.png
END:VEVENT
BEGIN:VEVENT
DTSTART;TZID=Asia/Tokyo:20260411T130000
DTEND;TZID=Asia/Tokyo:20260411T134000
DTSTAMP:20260422T083432
CREATED:20260308T052149Z
LAST-MODIFIED:20260404T074906Z
UID:86162-1775912400-1775914800@ilchibrainyoga.com
SUMMARY:【高須】アリラン気功体験会 ～エネルギーを充電～
DESCRIPTION:どなたでもお気軽に、初めてでも大丈夫です。\n・気功って何？\n・気を感じてみたい！\n・体が硬いけど💦\n・少し動きたい！ \n誰でも簡単にできる動作です。\nゆっくりした呼吸、エネルギーの循環を感じてみましょう。\n心身ともに充電できる気功です。 \n開催日：4月11日(土)\n時間：13：00～13：40\n会場名：ILCHIブレインヨガ高須スタジオ\n会場住所：北九州市若松区高須南2丁目1-15　FTCビル3階\n参加費：500円\nトレーナー：上田奈和、万田心江子\n持ち物：動きやすい服装、飲物 \n問合せ電話：093-742-3200 \n\nスタジオLINEからのお申し込みはこちら⇒https://lin.ee/OjBdaDF \n\n\n  \n\n\n\n\n	\n	\n	 \n	\n		\n			\n				ご予約内容\n						（必須）\n						\n				 \n			\n			\n				体験レッスンイベント体験レッスン+オーラ撮影オーラ撮影問合せ\n※ 入会予約はこちらからお申し込みください\n				 \n			\n		\n		\n			\n				お名前\n						（必須）\n						\n				 \n			\n			\n				\n				 \n			\n		\n		\n			\n				メールアドレス\n						（必須）\n						\n				 \n			\n			\n				\n※ 携帯電話のメールアドレスをご入力の際は、ドメイン指定の設定をされている場合”＠ilchibrainyoga.com”からのメールを受け取ることができるように設定してください。\n				 \n			\n		\n		\n			\n				お電話番号（携帯可）\n						（必須）\n						\n				 \n			\n			\n				イルチブレインヨガ各店舗からの連絡が可能な番号をご入力ください。\n\n				 \n			\n		\n		\n			\n				ご予約希望日時\n				 \n			\n			\n				ご予約希望日時をお選びください\n【希望日】タイムスケジュールに記載があるクラスからお選びください\n\n時間帯を選択してください10時台のクラス14時台のクラス19時台のクラスこどもクラス午前のイベント午後のイベント夜のイベント\n				 \n				※ ご予約状況等によりご希望の日時に添えない場合もございます。その際は事前に調整を行う連絡をさせていただきますので予めご了承ください。\n\n				 \n			\n		\n		\n			\n				こちらのスタジオを何でお知りになりましたか？\n						 （必須）\n						\n				 \n			\n			\n				チラシ看板書籍雑誌紹介Yahoo検索Google検索口コミその他Webサイト\n				 \n			\n		\n		\n			\n				ご関心があること、習得したいこと（複数可）\n				 \n			\n			\n				自然治癒力アップ集中力アップダイエット体質改善ストレス軽減丹田強化呼吸法瞑想法その他（備考欄にご入力ください）\n				 \n			\n		\n		\n			\n				備考欄\n				 \n			\n			\n				\n				 \n			\n		\n	\n	個人情報の取扱い\n		について、同意の上送信します。\n※ ご入力頂いた情報は、株式会社DAHN WORLD JAPANからのご案内をさせて頂く以外の目的では使用致しません。\n		\n	 \n	\n	\n	 \n	※ 送信ボタンを押すとすぐ送信されます。このページで入力内容を確認してください。\n\n自動で完了メールが配信されます。\n	 \nΔ \n\n\n\n株式会社DAHN WORLD JAPAN　ダンワールドジャパン
URL:https://ilchibrainyoga.com/event/takasu-9/
LOCATION:イルチブレインヨガ高須スタジオ\, 福岡県北九州市若松区高須南2-1-15 FTCビル3F
CATEGORIES:九州,福岡,高須
ATTACH;FMTTYPE=image/png:https://ilchibrainyoga.com/wp-content/uploads/2025/11/気功-2人-新モデル.png
END:VEVENT
BEGIN:VEVENT
DTSTART;TZID=Asia/Tokyo:20260409T130000
DTEND;TZID=Asia/Tokyo:20260409T160000
DTSTAMP:20260422T083432
CREATED:20260307T021318Z
LAST-MODIFIED:20260320T062612Z
UID:86037-1775739600-1775750400@ilchibrainyoga.com
SUMMARY:【天神】優しい気功で心と体を整える体験会〜アリラン気功〜
DESCRIPTION:今話題のアリラン気功は初心者でも簡単に出来る優しい気功です。\n体をほぐして、アリラン気功を体験して頂きます。\n体が内側から温まり、呼吸が深くなります。\n開催日：４月９日（木）\n時間：13：00～16：00\n会場名：イルチブレインヨガ  天神スタジオ\n会場住所：福岡市中央区天神3-4-2 高橋天神ビル6階\n参加費：1\,000円\nトレーナー：田中庸子\n持ち物 : 動きやすい服装、飲み物、タオル、靴下着用\n問合せ電話：092−714−1883 \n\nLINEからのお申し込みはこちら⇒https://lin.ee/VQ139go \n\n\n  \n\n\n\n\n	\n	\n	 \n	\n		\n			\n				ご予約内容\n						（必須）\n						\n				 \n			\n			\n				体験レッスンイベント体験レッスン+オーラ撮影オーラ撮影問合せ\n				 \n				※ 入会予約はこちらからお申し込みください\n				 \n			\n		\n		\n			\n				お名前\n						（必須）\n						\n				 \n			\n			\n				\n				 \n			\n		\n		\n			\n				メールアドレス\n						（必須）\n						\n				 \n			\n			\n				\n※ 携帯電話のメールアドレスをご入力の際は、ドメイン指定の設定をされている場合”＠ilchibrainyoga.com”からのメールを受け取ることができるように設定してください。\n				 \n			\n		\n		\n			\n				お電話番号（携帯可）\n						（必須）\n						\n				 \n			\n			\n				イルチブレインヨガ各店舗からの連絡が可能な番号をご入力ください。\n\n				 \n			\n		\n		\n			\n				ご予約希望日時\n				 \n			\n			\n				ご予約希望日時をお選びください\n【希望日】タイムスケジュールに記載があるクラスからお選びください\n\n時間帯を選択してください10時台のクラス14時台のクラス19時台のクラス午前のイベント午後のイベント夜のイベント\n				 \n				※ ご予約状況等によりご希望の日時に添えない場合もございます。その際は事前に調整を行う連絡をさせていただきますので予めご了承ください。\n\n				 \n			\n		\n		\n			\n				こちらのスタジオを何でお知りになりましたか？\n						 （必須）\n						\n				 \n			\n			\n				チラシ看板書籍雑誌紹介Yahoo検索Google検索口コミその他Webサイト\n				 \n			\n		\n		\n			\n				ご関心があること、習得したいこと（複数可）\n				 \n			\n			\n				自然治癒力アップ集中力アップダイエット体質改善ストレス軽減丹田強化呼吸法瞑想法その他（備考欄にご入力ください）\n				 \n			\n		\n		\n			\n				備考欄\n				 \n			\n			\n				\n				 \n			\n		\n	\n	個人情報の取扱い\n		について、同意の上送信します。\n※ ご入力頂いた情報は、株式会社DAHN WORLD JAPANからのご案内をさせて頂く以外の目的では使用致しません。\n		\n	 \n	\n	\n	 \n	※ 送信ボタンを押すとすぐ送信されます。このページで入力内容を確認してください。\n\n自動で完了メールが配信されます。\n	 \nΔ \n\n\n\n株式会社DAHN WORLD JAPAN　ダンワールドジャパン
URL:https://ilchibrainyoga.com/event/tenjin-41/
LOCATION:イルチブレインヨガ天神スタジオ\, 福岡市中央区天神3-4-2 高橋天神ビル6F
CATEGORIES:九州,天神,福岡,長寿スクール説明会・ワークショップ
ATTACH;FMTTYPE=image/jpeg:https://ilchibrainyoga.com/wp-content/uploads/2024/05/131213-scaled.jpg
END:VEVENT
BEGIN:VEVENT
DTSTART;TZID=Asia/Tokyo:20260327T160000
DTEND;TZID=Asia/Tokyo:20260327T164000
DTSTAMP:20260422T083432
CREATED:20260310T065313Z
LAST-MODIFIED:20260327T064227Z
UID:86286-1774627200-1774629600@ilchibrainyoga.com
SUMMARY:【天神】5分で心と体の中心に戻る気功〜ARIRANG気功〜
DESCRIPTION:どなたでもお気軽に、初めての方でも大丈夫です✨ \n気功って何だろう？\n気を感じてみたい！\n体が硬いけど大丈夫かな💦\n少し動きたい！そんな方にもぴったりです。 \n誰でも簡単にできる動作で、ゆっくりした呼吸をしながら、\nエネルギーの循環を感じてみましょう。\n曲にのせて、全身のエネルギーをまわし、\n内気を感じて、心身共に充電する、そんな素敵な時間をお過ごしいただけます。\n気になる方はぜひご参加ください。\nまた、気功をより詳しく知りたい方は『気功』と送ってください。 \n日程：3月27日\n時間：16時〜40分程度\n参加費：500円 \n動きやすい服装でご参加ください（更衣室もあります）\n飲物とタオルもご持参ください。\n会場：イルチブレインヨガ天神スタジオ\n住所：福岡市中央区天神3−4−2、高橋天神ビル6F\n問合せ電話：092−714−1883 \n\nLINEからのお申し込みはこちら⇒https://lin.ee/VQ139go \n\n\n  \n\n\n\n\n	\n	\n	 \n	\n		\n			\n				ご予約内容\n						（必須）\n						\n				 \n			\n			\n				体験レッスンイベント体験レッスン+オーラ撮影オーラ撮影問合せ\n				 \n				※ 入会予約はこちらからお申し込みください\n				 \n			\n		\n		\n			\n				お名前\n						（必須）\n						\n				 \n			\n			\n				\n				 \n			\n		\n		\n			\n				メールアドレス\n						（必須）\n						\n				 \n			\n			\n				\n※ 携帯電話のメールアドレスをご入力の際は、ドメイン指定の設定をされている場合”＠ilchibrainyoga.com”からのメールを受け取ることができるように設定してください。\n				 \n			\n		\n		\n			\n				お電話番号（携帯可）\n						（必須）\n						\n				 \n			\n			\n				イルチブレインヨガ各店舗からの連絡が可能な番号をご入力ください。\n\n				 \n			\n		\n		\n			\n				ご予約希望日時\n				 \n			\n			\n				ご予約希望日時をお選びください\n【希望日】タイムスケジュールに記載があるクラスからお選びください\n\n時間帯を選択してください10時台のクラス14時台のクラス19時台のクラス午前のイベント午後のイベント夜のイベント\n				 \n				※ ご予約状況等によりご希望の日時に添えない場合もございます。その際は事前に調整を行う連絡をさせていただきますので予めご了承ください。\n\n				 \n			\n		\n		\n			\n				こちらのスタジオを何でお知りになりましたか？\n						 （必須）\n						\n				 \n			\n			\n				チラシ看板書籍雑誌紹介Yahoo検索Google検索口コミその他Webサイト\n				 \n			\n		\n		\n			\n				ご関心があること、習得したいこと（複数可）\n				 \n			\n			\n				自然治癒力アップ集中力アップダイエット体質改善ストレス軽減丹田強化呼吸法瞑想法その他（備考欄にご入力ください）\n				 \n			\n		\n		\n			\n				備考欄\n				 \n			\n			\n				\n				 \n			\n		\n	\n	個人情報の取扱い\n		について、同意の上送信します。\n※ ご入力頂いた情報は、株式会社DAHN WORLD JAPANからのご案内をさせて頂く以外の目的では使用致しません。\n		\n	 \n	\n	\n	 \n	※ 送信ボタンを押すとすぐ送信されます。このページで入力内容を確認してください。\n\n自動で完了メールが配信されます。\n	 \nΔ \n\n\n\n株式会社DAHN WORLD JAPAN　ダンワールドジャパン
URL:https://ilchibrainyoga.com/event/tenjin-43/
LOCATION:イルチブレインヨガ天神スタジオ\, 福岡市中央区天神3-4-2 高橋天神ビル6F
CATEGORIES:九州,天神,福岡,長寿スクール説明会・ワークショップ
ATTACH;FMTTYPE=image/jpeg:https://ilchibrainyoga.com/wp-content/uploads/2026/03/天神-1.jpg
END:VEVENT
BEGIN:VEVENT
DTSTART;TZID=Asia/Tokyo:20260326T214500
DTEND;TZID=Asia/Tokyo:20260326T220000
DTSTAMP:20260422T083432
CREATED:20260311T005622Z
LAST-MODIFIED:20260325T081137Z
UID:86382-1774561500-1774562400@ilchibrainyoga.com
SUMMARY:【下曽根】【ZOOM配信】3月26日(木)まで　🌃夜の我理朗アリラン気功瞑想🌃
DESCRIPTION:アリラン気功瞑想で脳を静めて\n“明日の私を整える習慣”を取り入れませんか？ \n⟡.·*.··············································⟡.·*. \nアリランを漢字で書くと“我理朗”\nア 我(本当の自分)\nリ 理(知る、悟る)\nラン 朗(喜び)\nという意味があります。 \nつまりアリランとは\n「本当の自分を悟る喜び」を\n表現した言葉です︎‪。 \nアリラン気功は\n曲にのせて、全身のエネルギーをまわし、\n内気を感じ、うちに充電する気功です☺️ \n⟡.·*.··············································⟡.·*. \n♡初心者でも安心に参加♡\nとても簡単で落ち着く気功瞑想\nまずは1日だけでも体験を🌙 \n【ZOOM配信】\n3月毎週 火・水・木 21:45～22:00\n(〜3月26日(木)まで)\n☆単発、複数日程　参加歓迎❣️ \n⟡.·*.··············································⟡.·*. \n会場名：\nイルチブレインヨガ下曽根スタジオ\n会場住所：\n福岡県北九州市小倉南区田原3-1-18\nルポ田原24 102\n参加費：無料\n問合せ電話：090-1921-3350 \n\nLINEからのお申し込みはこちら⇒https://lin.ee/dN980St \n\n\n  \n\n\n\n\n	\n	\n	 \n	\n		\n			\n				ご予約内容\n						（必須）\n						\n				 \n			\n			\n				体験レッスンイベント体験レッスン+オーラ撮影オーラ撮影問合せ\n※ 入会予約はこちらからお申し込みください\n				 \n			\n		\n		\n			\n				お名前\n						（必須）\n						\n				 \n			\n			\n				\n				 \n			\n		\n		\n			\n				メールアドレス\n						（必須）\n						\n				 \n			\n			\n				\n※ 携帯電話のメールアドレスをご入力の際は、ドメイン指定の設定をされている場合”＠ilchibrainyoga.com”からのメールを受け取ることができるように設定してください。\n				 \n			\n		\n		\n			\n				お電話番号（携帯可）\n						（必須）\n						\n				 \n			\n			\n				イルチブレインヨガ各店舗からの連絡が可能な番号をご入力ください。\n\n				 \n			\n		\n		\n			\n				ご予約希望日時\n				 \n			\n			\n				ご予約希望日時をお選びください\n【希望日】タイムスケジュールに記載があるクラスからお選びください\n\n時間帯を選択してください10時台のクラス19時台のクラスこどもクラス午前のイベント午後のイベント夜のイベント\n				 \n				※ ご予約状況等によりご希望の日時に添えない場合もございます。その際は事前に調整を行う連絡をさせていただきますので予めご了承ください。\n\n				 \n			\n		\n		\n			\n				こちらのスタジオを何でお知りになりましたか？\n						 （必須）\n						\n				 \n			\n			\n				チラシ看板書籍雑誌紹介Yahoo検索Google検索口コミその他Webサイト\n				 \n			\n		\n		\n			\n				ご関心があること、習得したいこと（複数可）\n				 \n			\n			\n				自然治癒力アップ集中力アップダイエット体質改善ストレス軽減丹田強化呼吸法瞑想法その他（備考欄にご入力ください）\n				 \n			\n		\n		\n			\n				備考欄\n				 \n			\n			\n				\n				 \n			\n		\n	\n	個人情報の取扱い\n		について、同意の上送信します。\n※ ご入力頂いた情報は、株式会社DAHN WORLD JAPANからのご案内をさせて頂く以外の目的では使用致しません。\n		\n	 \n	\n	\n	 \n	※ 送信ボタンを押すとすぐ送信されます。このページで入力内容を確認してください。\n\n自動で完了メールが配信されます。\n	 \nΔ \n\n\n\n株式会社DAHN WORLD JAPAN　ダンワールドジャパン
URL:https://ilchibrainyoga.com/event/shimosone-17/
LOCATION:イルチブレインヨガ下曽根スタジオ\, 福岡県北九州市小倉南区田原 3丁目1-18 ルポ田原24 102\, Japan
CATEGORIES:下曽根,九州,福岡
ATTACH;FMTTYPE=image/png:https://ilchibrainyoga.com/wp-content/uploads/2026/03/気功-2人-新モデル.png
END:VEVENT
END:VCALENDAR