BEGIN:VCALENDAR
VERSION:2.0
PRODID:-//イルチブレインヨガ公式サイト - ECPv6.15.16//NONSGML v1.0//EN
CALSCALE:GREGORIAN
METHOD:PUBLISH
X-ORIGINAL-URL:https://ilchibrainyoga.com
X-WR-CALDESC:イルチブレインヨガ公式サイト のイベント
REFRESH-INTERVAL;VALUE=DURATION:PT1H
X-Robots-Tag:noindex
X-PUBLISHED-TTL:PT1H
BEGIN:VTIMEZONE
TZID:Asia/Tokyo
BEGIN:STANDARD
TZOFFSETFROM:+0900
TZOFFSETTO:+0900
TZNAME:JST
DTSTART:20250101T000000
END:STANDARD
END:VTIMEZONE
BEGIN:VEVENT
DTSTART;TZID=Asia/Tokyo:20260421T093000
DTEND;TZID=Asia/Tokyo:20260430T204000
DTSTAMP:20260420T143505
CREATED:20260210T014814Z
LAST-MODIFIED:20260420T051926Z
UID:85153-1776763800-1777581600@ilchibrainyoga.com
SUMMARY:【新宿四谷】4/30（木）まで　Kヒーリングヨガ（ARIRANG気功瞑想）
DESCRIPTION:一日の疲れ、ストレス、どうケアしていますか？\n新しいヨガ！Kヒーリングヨガでストレスリセットし、明日の力を充電しませんか？ \n💗丹田叩き、腸運動でエネルギーアップ\n💗ARIRANG気功＆瞑想でリラックス、自分と繋がる \nエネルギーを整え、自分を解放する時間となります。\n新宿四谷スタジオの新しく、静かで落ち着いた空間でゆっくりと自分と出会うリセット時間\n6人以下の少人数グループセッションで気楽にエネルギーチャージを😄\nお待ちしています！ \n★前日までにご予約お願いします。 \n《日時》\n9時30分～（火水金土日）\n13時30分～（火水金土日）\n16時30分〜（火水金）\n18時30分～（火）\n19時～（水木金）\n※体験時間は２時間弱かかります。 \n《参加費》\n1000円（税込み） \n《場所》\nイルチブレインヨガ新宿四谷スタジオ\n新宿区四谷2－2－2　四谷三和ビル９階 \n《持ち物》\n動きやすい服装（更衣室完備）\n※マットは無料でお貸しします。\nTel　03‐3358-2753 \n\nLINEからのお申し込みはこちら⇒https://lin.ee/PCIxwlO \n\n\n  \n\n\n\n\n	\n	\n	 \n	\n		\n			\n				ご予約内容\n						（必須）\n						\n				 \n			\n			\n				体験レッスンイベント体験レッスン+オーラ撮影オーラ撮影問合せ\n※ 入会予約はこちらからお申し込みください\n				 \n			\n		\n		\n			\n				お名前\n						（必須）\n						\n				 \n			\n			\n				\n				 \n			\n		\n		\n			\n				メールアドレス\n						（必須）\n						\n				 \n			\n			\n				\n※ 携帯電話のメールアドレスをご入力の際は、ドメイン指定の設定をされている場合”＠ilchibrainyoga.com”からのメールを受け取ることができるように設定してください。\n				 \n			\n		\n		\n			\n				お電話番号（携帯可）\n						（必須）\n						\n				 \n			\n			\n				イルチブレインヨガ各店舗からの連絡が可能な番号をご入力ください。\n\n				 \n			\n		\n		\n			\n				ご予約希望日時\n				 \n			\n			\n				ご予約希望日時をお選びください\n【希望日】タイムスケジュールに記載があるクラスからお選びください\n\n時間帯を選択してください10時台のクラス14時台のクラス19時台のクラス午前のイベント午後のイベント夜のイベント\n				 \n				※ ご予約状況等によりご希望の日時に添えない場合もございます。その際は事前に調整を行う連絡をさせていただきますので予めご了承ください。\n\n				 \n			\n		\n		\n			\n				こちらのスタジオを何でお知りになりましたか？\n						 （必須）\n						\n				 \n			\n			\n				チラシ看板書籍雑誌紹介Yahoo検索Google検索口コミその他Webサイト\n				 \n			\n		\n		\n			\n				ご関心があること、習得したいこと（複数可）\n				 \n			\n			\n				自然治癒力アップ集中力アップダイエット体質改善ストレス軽減丹田強化呼吸法瞑想法その他（備考欄にご入力ください）\n				 \n			\n		\n		\n			\n				備考欄\n				 \n			\n			\n				\n				 \n			\n		\n	\n	個人情報の取扱い\n		について、同意の上送信します。\n※ ご入力頂いた情報は、株式会社DAHN WORLD JAPANからのご案内をさせて頂く以外の目的では使用致しません。\n		\n	 \n	\n	\n	 \n	※ 送信ボタンを押すとすぐ送信されます。このページで入力内容を確認してください。\n\n自動で完了メールが配信されます。\n	 \nΔ \n\n\n\n株式会社DAHN WORLD JAPAN　ダンワールドジャパン
URL:https://ilchibrainyoga.com/event/shinjyuku-20/
LOCATION:イルチブレインヨガ新宿四谷スタジオ\, 新宿区四谷2－2－2　四谷三和ビル９階
CATEGORIES:新宿,東京,関東
ATTACH;FMTTYPE=image/jpeg:https://ilchibrainyoga.com/wp-content/uploads/2026/02/新宿.jpg
END:VEVENT
BEGIN:VEVENT
DTSTART;TZID=Asia/Tokyo:20260421T133000
DTEND;TZID=Asia/Tokyo:20260429T140000
DTSTAMP:20260420T143505
CREATED:20260311T052509Z
LAST-MODIFIED:20260418T080942Z
UID:86442-1776778200-1777471200@ilchibrainyoga.com
SUMMARY:【下曽根】アリラン気功体験会～エネルギーを充電〜
DESCRIPTION:どなたでもお気軽に、初めてでも大丈夫です。\n誰でも簡単にできる動作でゆっくりした呼吸、エネルギーの循環を感じてみましょう。\n心身共に充電できる気功です。\n気になる方はぜひご参加ください。 \n・気功って何？\n・気を感じてみたい！\n・体が硬い\n・体を整えたい \n📍 会場\nイルチブレインヨガ下曽根スタジオ\n（北九州市小倉南区田原3-1-18 102）\n日程：火曜水曜土曜\n時間：13時30分～（30分）\n参加費：500円\n準備するもの：動きやすい服装、飲物\n問合せ電話：090-1921-3350 \n\nLINEからのお申し込みはこちら⇒https://lin.ee/dN980St \n\n\n  \n\n\n\n\n	\n	\n	 \n	\n		\n			\n				ご予約内容\n						（必須）\n						\n				 \n			\n			\n				体験レッスンイベント体験レッスン+オーラ撮影オーラ撮影問合せ\n※ 入会予約はこちらからお申し込みください\n				 \n			\n		\n		\n			\n				お名前\n						（必須）\n						\n				 \n			\n			\n				\n				 \n			\n		\n		\n			\n				メールアドレス\n						（必須）\n						\n				 \n			\n			\n				\n※ 携帯電話のメールアドレスをご入力の際は、ドメイン指定の設定をされている場合”＠ilchibrainyoga.com”からのメールを受け取ることができるように設定してください。\n				 \n			\n		\n		\n			\n				お電話番号（携帯可）\n						（必須）\n						\n				 \n			\n			\n				イルチブレインヨガ各店舗からの連絡が可能な番号をご入力ください。\n\n				 \n			\n		\n		\n			\n				ご予約希望日時\n				 \n			\n			\n				ご予約希望日時をお選びください\n【希望日】タイムスケジュールに記載があるクラスからお選びください\n\n時間帯を選択してください10時台のクラス19時台のクラスこどもクラス午前のイベント午後のイベント夜のイベント\n				 \n				※ ご予約状況等によりご希望の日時に添えない場合もございます。その際は事前に調整を行う連絡をさせていただきますので予めご了承ください。\n\n				 \n			\n		\n		\n			\n				こちらのスタジオを何でお知りになりましたか？\n						 （必須）\n						\n				 \n			\n			\n				チラシ看板書籍雑誌紹介Yahoo検索Google検索口コミその他Webサイト\n				 \n			\n		\n		\n			\n				ご関心があること、習得したいこと（複数可）\n				 \n			\n			\n				自然治癒力アップ集中力アップダイエット体質改善ストレス軽減丹田強化呼吸法瞑想法その他（備考欄にご入力ください）\n				 \n			\n		\n		\n			\n				備考欄\n				 \n			\n			\n				\n				 \n			\n		\n	\n	個人情報の取扱い\n		について、同意の上送信します。\n※ ご入力頂いた情報は、株式会社DAHN WORLD JAPANからのご案内をさせて頂く以外の目的では使用致しません。\n		\n	 \n	\n	\n	 \n	※ 送信ボタンを押すとすぐ送信されます。このページで入力内容を確認してください。\n\n自動で完了メールが配信されます。\n	 \nΔ \n\n\n\n株式会社DAHN WORLD JAPAN　ダンワールドジャパン
URL:https://ilchibrainyoga.com/event/shimosone-18/
LOCATION:イルチブレインヨガ下曽根スタジオ\, 福岡県北九州市小倉南区田原 3丁目1-18 ルポ田原24 102\, Japan
CATEGORIES:下曽根,九州,福岡
ATTACH;FMTTYPE=image/jpeg:https://ilchibrainyoga.com/wp-content/uploads/2026/03/気功２.jpg
END:VEVENT
BEGIN:VEVENT
DTSTART;TZID=Asia/Tokyo:20260422T123000
DTEND;TZID=Asia/Tokyo:20260429T134000
DTSTAMP:20260420T143505
CREATED:20260407T050925Z
LAST-MODIFIED:20260415T064608Z
UID:88382-1776861000-1777470000@ilchibrainyoga.com
SUMMARY:【膳所】4/22（水）29(水)ARIRANG（アリラン）気功・瞑想体験会
DESCRIPTION:最近こんなことありませんか？\n・体が疲れやすい\n・呼吸が浅い\n・体を整えたい\n・気持ちをスッキリさせたい \nそんな方におすすめの\nアリラン気功体験会を開催します。 \nARIRANG（アリラン）気功は\n簡単な動き・呼吸を通して\n体・心・エネルギーを整える新しい気功トレーニングです。 \n運動が苦手な方でもできる\nやさしいトレーニングなので\n初心者の方も安心してご参加いただけます。 \n「気功ってどんな感じ？」\nという方もぜひ体験してみてください \n開催日時：\n4/22（水）29(水)\n12:30～13:40\n定員4名 要予約です★\n会場名：イルチブレインヨガ膳所スタジオ\n会場住所：大津市膳所2-1-8\n参加費：1000円\nご予約・お問い合わせ： 077-524-9050 \n\nLINEからのお申し込みはこちら⇒https://lin.ee/0mJI7FRS \n\n\n  \n\n\n\n\n	\n	\n	 \n	\n		\n			\n				ご予約内容\n						（必須）\n						\n				 \n			\n			\n				体験レッスンイベント体験レッスン+オーラ撮影オーラ撮影問合せ\n※ 入会予約はこちらからお申し込みください\n				 \n			\n		\n		\n			\n				お名前\n						（必須）\n						\n				 \n			\n			\n				\n				 \n			\n		\n		\n			\n				メールアドレス\n						（必須）\n						\n				 \n			\n			\n				\n※ 携帯電話のメールアドレスをご入力の際は、ドメイン指定の設定をされている場合”＠ilchibrainyoga.com”からのメールを受け取ることができるように設定してください。\n				 \n			\n		\n		\n			\n				お電話番号（携帯可）\n						（必須）\n						\n				 \n			\n			\n				イルチブレインヨガ各店舗からの連絡が可能な番号をご入力ください。\n\n				 \n			\n		\n		\n			\n				ご予約希望日時\n				 \n			\n			\n				ご予約希望日時をお選びください\n【希望日】タイムスケジュールに記載があるクラスからお選びください\n\n時間帯を選択してください10時台のクラス14時台のクラス19時台のクラス午前のイベント午後のイベント夜のイベント\n				 \n				※ ご予約状況等によりご希望の日時に添えない場合もございます。その際は事前に調整を行う連絡をさせていただきますので予めご了承ください。\n\n				 \n			\n		\n		\n			\n				こちらのスタジオを何でお知りになりましたか？\n						 （必須）\n						\n				 \n			\n			\n				チラシ看板書籍雑誌紹介Yahoo検索Google検索口コミその他Webサイト\n				 \n			\n		\n		\n			\n				ご関心があること、習得したいこと（複数可）\n				 \n			\n			\n				自然治癒力アップ集中力アップダイエット体質改善ストレス軽減丹田強化呼吸法瞑想法その他（備考欄にご入力ください）\n				 \n			\n		\n		\n			\n				備考欄\n				 \n			\n			\n				\n				 \n			\n		\n	\n	個人情報の取扱い\n		について、同意の上送信します。\n※ ご入力頂いた情報は、株式会社DAHN WORLD JAPANからのご案内をさせて頂く以外の目的では使用致しません。\n		\n	 \n	\n	\n	 \n	※ 送信ボタンを押すとすぐ送信されます。このページで入力内容を確認してください。\n\n自動で完了メールが配信されます。\n	 \nΔ \n\n\n\n株式会社ダンワールドジャパン
URL:https://ilchibrainyoga.com/event/zeze-22/
LOCATION:イルチブレインヨガ膳所スタジオ\, 膳所２丁目１−８\, 大津市\, 滋賀県\, 日本
CATEGORIES:滋賀,膳所,関西
ATTACH;FMTTYPE=image/jpeg:https://ilchibrainyoga.com/wp-content/uploads/2026/03/ok_20240114JP-広報用写真撮影_DSC0401-scaled.jpg
END:VEVENT
BEGIN:VEVENT
DTSTART;TZID=Asia/Tokyo:20260422T190000
DTEND;TZID=Asia/Tokyo:20260429T210000
DTSTAMP:20260420T143505
CREATED:20260314T013846Z
LAST-MODIFIED:20260415T064622Z
UID:86668-1776884400-1777496400@ilchibrainyoga.com
SUMMARY:【修学院】4月22日（水）29日（水）　我理朗（アリラン）ARIRANG 気功 体験会
DESCRIPTION:我理朗気功の効果・我理朗気功トレーニング\nゆったりとした動作と呼吸で体と心のエネルギーを整えましょう。\n初心者の方でも安心して体験できます。 \n開催日：4月22日（水）29日（水）\n時間：：19:00～21：00\n会場名：イルチブレインヨガ修学院スタジオ\n会場住所：京都市左京区修学院大林町5-3　堀亀ビル3階\n参加費：2000円\nトレーナー：吉浦あゆ美\n持ち物：動きやすい服装、タオル、飲み物\n問合せ電話：075-724-4341 \n\nLINEからのお申し込みはこちら⇒https://lin.ee/d7i5aHh \n\n\n  \n\n\n\n\n	\n	\n	 \n	\n		\n			\n				ご予約内容\n						（必須）\n						\n				 \n			\n			\n				体験レッスンイベント体験レッスン+オーラ撮影オーラ撮影問合せ\n※ 入会予約はこちらからお申し込みください\n				 \n			\n		\n		\n			\n				お名前\n						（必須）\n						\n				 \n			\n			\n				\n				 \n			\n		\n		\n			\n				メールアドレス\n						（必須）\n						\n				 \n			\n			\n				\n※ 携帯電話のメールアドレスをご入力の際は、ドメイン指定の設定をされている場合”＠ilchibrainyoga.com”からのメールを受け取ることができるように設定してください。\n				 \n			\n		\n		\n			\n				お電話番号（携帯可）\n						（必須）\n						\n				 \n			\n			\n				イルチブレインヨガ各店舗からの連絡が可能な番号をご入力ください。\n\n				 \n			\n		\n		\n			\n				ご予約希望日時\n				 \n			\n			\n				ご予約希望日時をお選びください\n【希望日】タイムスケジュールに記載があるクラスからお選びください\n\n時間帯を選択してください10時台のクラス14時台のクラス19時台のクラス午前のイベント午後のイベント夜のイベント\n				 \n				※ ご予約状況等によりご希望の日時に添えない場合もございます。その際は事前に調整を行う連絡をさせていただきますので予めご了承ください。\n\n				 \n			\n		\n		\n			\n				こちらのスタジオを何でお知りになりましたか？\n						 （必須）\n						\n				 \n			\n			\n				チラシ看板書籍雑誌紹介Yahoo検索Google検索口コミその他Webサイト\n				 \n			\n		\n		\n			\n				ご関心があること、習得したいこと（複数可）\n				 \n			\n			\n				自然治癒力アップ集中力アップダイエット体質改善ストレス軽減丹田強化呼吸法瞑想法その他（備考欄にご入力ください）\n				 \n			\n		\n		\n			\n				備考欄\n				 \n			\n			\n				\n				 \n			\n		\n	\n	個人情報の取扱い\n		について、同意の上送信します。\n※ ご入力頂いた情報は、株式会社DAHN WORLD JAPANからのご案内をさせて頂く以外の目的では使用致しません。\n		\n	 \n	\n	\n	 \n	※ 送信ボタンを押すとすぐ送信されます。このページで入力内容を確認してください。\n\n自動で完了メールが配信されます。\n	 \nΔ \n\n\n\n株式会社DAHN WORLD JAPAN　ダンワールドジャパン
URL:https://ilchibrainyoga.com/event/shugakuin-19/
LOCATION:イルチブレインヨガ修学院スタジオ\, 左京区修学院大林町5-3　堀亀ビル3階\, 京都市\, 京都府\, 606-8081\, Japan
CATEGORIES:京都,修学院,関西
ATTACH;FMTTYPE=image/jpeg:https://ilchibrainyoga.com/wp-content/uploads/2026/03/ok_20240114JP-広報用写真撮影_DSC0401-scaled.jpg
END:VEVENT
BEGIN:VEVENT
DTSTART;TZID=Asia/Tokyo:20260424T013000
DTEND;TZID=Asia/Tokyo:20260429T083000
DTSTAMP:20260420T143505
CREATED:20260407T055145Z
LAST-MODIFIED:20260414T071151Z
UID:88393-1776994200-1777451400@ilchibrainyoga.com
SUMMARY:【吉祥寺】4月24日(金)  29日(水) 心身をリセット！「本当の自分」に出会うアリラン気功体験会
DESCRIPTION:「アリラン」の本当の意味をご存知ですか？ \nそれは、単なる歌の名前ではなく、**「真の自分　我(あ)、理(り) 知る・探す、悟る、朗（らん）喜び」**という、自分自身と深く出会う喜びを意味しています。\n日々の忙しさで置き去りにしていた「本当の自分」を感じ、心と体の土台を整えてみませんか？ \n✓こんなお悩みはありませんか？\n• 疲れが抜けにくく、気力が続かない\n• 感情の波があり、なんとなく心が不安定\n• 考えごとが多くて、いつも頭が重い感じがする \n✓体験会の3つのポイント\n1. お腹を温め、腸をほぐす\n内臓からじんわり温めることで、全身の巡りをスムーズにします。\n2. 下半身の強化（第1・第2チャクラ）\n生命力の源を活性化。 \nどっしりとした安心感と「ぶれない自分」を養います。\n3. 深いマインドフルネス体験\n「地に足のついた感覚」を取り戻し、思考をスッキリとリセット。 \n足元が安定すると、心は驚くほど軽くなります。\n初心者の方でもゆったりとご参加いただけるプログラムです。 \n📅 開催日程\n• 4月24日(金) 13:30～15:30\n• 4月29日(水) 18:30～20:30\n※上記以外の日時をご希望の場合も、お気軽にご相談ください！ \n📍 参加費\n1\,000円\n📍 会場・アクセス\nイルチブレインヨガ吉祥寺スタジオ\n住所：武蔵野市吉祥寺北町1-1-18 ジェイスタジオビルディング2階\n（吉祥寺駅北口から徒歩10分） \n📝 概要\n• トレーナー： 片岡 史江\n• 持ち物： 動きやすい服装、お水 \n✉️ お申し込み・お問い合わせ☎ 0422-26-5300（9:00〜21:00 / 月曜定休）\n\nLINEからも申し込み可能：https://lin.ee/6Csjn1F \n\n\n  \n\n\n\n\n	\n	\n	 \n	\n		\n			\n				ご予約内容\n						（必須）\n						\n				 \n			\n			\n				体験レッスンイベント体験レッスン+オーラ撮影オーラ撮影問合せ\n				 \n				※ 入会予約はこちらからお申し込みください\n				 \n			\n		\n		\n			\n				お名前\n						（必須）\n						\n				 \n			\n			\n				\n				 \n			\n		\n		\n			\n				メールアドレス\n						（必須）\n						\n				 \n			\n			\n				\n※ 携帯電話のメールアドレスをご入力の際は、ドメイン指定の設定をされている場合”＠ilchibrainyoga.com”からのメールを受け取ることができるように設定してください。\n				 \n			\n		\n		\n			\n				お電話番号（携帯可）\n						（必須）\n						\n				 \n			\n			\n				イルチブレインヨガ各店舗からの連絡が可能な番号をご入力ください。\n\n				 \n			\n		\n		\n			\n				ご予約希望日時\n				 \n			\n			\n				ご予約希望日時をお選びください\n【希望日】タイムスケジュールに記載があるクラスからお選びください\n\n時間帯を選択してください10時台のクラス14時台のクラス19時台のクラス午前のイベント午後のイベント夜のイベント\n				 \n				※ ご予約状況等によりご希望の日時に添えない場合もございます。その際は事前に調整を行う連絡をさせていただきますので予めご了承ください。\n\n				 \n			\n		\n		\n			\n				こちらのスタジオを何でお知りになりましたか？\n						 （必須）\n						\n				 \n			\n			\n				チラシ看板書籍雑誌紹介Yahoo検索Google検索口コミその他Webサイト\n				 \n			\n		\n		\n			\n				ご関心があること、習得したいこと（複数可）\n				 \n			\n			\n				自然治癒力アップ集中力アップダイエット体質改善ストレス軽減丹田強化呼吸法瞑想法その他（備考欄にご入力ください）\n				 \n			\n		\n		\n			\n				備考欄\n				 \n			\n			\n				\n				 \n			\n		\n	\n	個人情報の取扱い\n		について、同意の上送信します。\n※ ご入力頂いた情報は、株式会社DAHN WORLD JAPANからのご案内をさせて頂く以外の目的では使用致しません。\n		\n	 \n	\n	\n	 \n	※ 送信ボタンを押すとすぐ送信されます。このページで入力内容を確認してください。\n\n自動で完了メールが配信されます。\n	 \nΔ \n\n\n\n株式会社DAHN WORLD JAPAN　ダンワールドジャパン
URL:https://ilchibrainyoga.com/event/kichijyoji-22/
LOCATION:イルチブレインヨガ吉祥寺スタジオ\, 東京都武蔵野市吉祥寺北町1-1-18　J Studio Bldg.2F\, 0422-49-2781
CATEGORIES:吉祥寺,東京,関東
ATTACH;FMTTYPE=image/jpeg:https://ilchibrainyoga.com/wp-content/uploads/2026/03/気功２.jpg
END:VEVENT
BEGIN:VEVENT
DTSTART;TZID=Asia/Tokyo:20260429T103000
DTEND;TZID=Asia/Tokyo:20260429T120000
DTSTAMP:20260420T143505
CREATED:20260311T055654Z
LAST-MODIFIED:20260420T051948Z
UID:86452-1777458600-1777464000@ilchibrainyoga.com
SUMMARY:【辻堂】ARIRANG(アリラン)気功と呼吸瞑想
DESCRIPTION:「アリラン（我理朗）」という言葉には、\n「ほんとうの私に気づく喜び」という意味が込められています。 \n我理朗気功は、全１２の動作を通じて、外側に向きがちな意識を自分の内側へと戻し、\n人間が本来持っている「あふれる生命エネルギー」と「満ち足りた静寂」を取り戻すためのトータルケア・メソッドです。 \n激しい運動ではなく、呼吸と緩やかな動きで、日々の緊張から体を解き放ちます。\n外に向けられた意識を内側へと戻し、穏やかな心を取り戻します。\n気功は古来より多くの人々が行ってきた東洋的な健康法。\nゆったりとした動作を通して生命リズムを整えます。 \n \n開催日：\n4月29日（水・祝）10：30～12：00 \n会場名：イルチブレインヨガ辻堂スタジオ\n会場住所：茅ヶ崎市浜竹2－2－4　ビル２階\n参加費：1000円\nトレーナー：安達美和子\n持ち物：動きやすい服装、タオル、お飲み物\n問合せ電話：0467－39－6170 \n\nスタジオLINEからも申し込み可能です：https://lin.ee/lQKZDfF \n\n\n  \n\n\n\n\n	\n	\n	 \n	\n		\n			\n				ご予約内容\n						（必須）\n						\n				 \n			\n			\n				体験レッスンイベント体験レッスン+オーラ撮影オーラ撮影問合せ\n				 \n				※ 入会予約はこちらからお申し込みください\n				 \n			\n		\n		\n			\n				お名前\n						（必須）\n						\n				 \n			\n			\n				\n				 \n			\n		\n		\n			\n				メールアドレス\n						（必須）\n						\n				 \n			\n			\n				\n※ 携帯電話のメールアドレスをご入力の際は、ドメイン指定の設定をされている場合”＠ilchibrainyoga.com”からのメールを受け取ることができるように設定してください。\n				 \n			\n		\n		\n			\n				お電話番号（携帯可）\n						（必須）\n						\n				 \n			\n			\n				イルチブレインヨガ各店舗からの連絡が可能な番号をご入力ください。\n\n				 \n			\n		\n		\n			\n				ご予約希望日時\n				 \n			\n			\n				ご予約希望日時をお選びください\n【希望日】タイムスケジュールに記載があるクラスからお選びください\n\n時間帯を選択してください10時台のクラス14時台のクラス19時台のクラス午前のイベント午後のイベント夜のイベント\n				 \n				※ ご予約状況等によりご希望の日時に添えない場合もございます。その際は事前に調整を行う連絡をさせていただきますので予めご了承ください。\n\n				 \n			\n		\n		\n			\n				こちらのスタジオを何でお知りになりましたか？\n						 （必須）\n						\n				 \n			\n			\n				チラシ看板書籍雑誌紹介Yahoo検索Google検索口コミその他Webサイト\n				 \n			\n		\n		\n			\n				ご関心があること、習得したいこと（複数可）\n				 \n			\n			\n				自然治癒力アップ集中力アップダイエット体質改善ストレス軽減丹田強化呼吸法瞑想法その他（備考欄にご入力ください）\n				 \n			\n		\n		\n			\n				備考欄\n				 \n			\n			\n				\n				 \n			\n		\n	\n	個人情報の取扱い\n		について、同意の上送信します。\n※ ご入力頂いた情報は、株式会社DAHN WORLD JAPANからのご案内をさせて頂く以外の目的では使用致しません。\n		\n	 \n	\n	\n	 \n	※ 送信ボタンを押すとすぐ送信されます。このページで入力内容を確認してください。\n\n自動で完了メールが配信されます。\n	 \nΔ \n\n\n\n株式会社DAHN WORLD JAPAN　ダンワールドジャパン
URL:https://ilchibrainyoga.com/event/tujido-26/
LOCATION:イルチブレインヨガ辻堂スタジオ\, 神奈川県茅ヶ崎市浜竹 2-2-4 安達ビル2階\, Japan
CATEGORIES:神奈川,辻堂,関東
ATTACH;FMTTYPE=image/png:https://ilchibrainyoga.com/wp-content/uploads/2026/03/気功-2人-新モデル.png
END:VEVENT
BEGIN:VEVENT
DTSTART;TZID=Asia/Tokyo:20260429T134500
DTEND;TZID=Asia/Tokyo:20260429T153000
DTSTAMP:20260420T143505
CREATED:20260327T050503Z
LAST-MODIFIED:20260327T050503Z
UID:87924-1777470300-1777476600@ilchibrainyoga.com
SUMMARY:【札幌】新たな自分と出会う気功&瞑想ワークショップ〜我理朗(ARIRANG)気功〜
DESCRIPTION:簡単な動きで自分の感覚と生命のリズムを目覚めさせ、\n呼吸・意識・やさしい誘導を通して、心身の状態を整えていきます。\n春のエネルギーを感じながら、内側をみつめるひとときへ。 \n・疲れが抜けにくい\n・気持ちが落ち着かない\n・頭が休まらない\n・自分軸を整えたい \nそんな日常的な不調を感じている方におすすめです。\n初めての方も安心して参加できます。 \n開催日：4月29日（水/祝）\n時間：13:45～15:30（受付13:30～13:40）\n会場名：札幌交流プラザ3階　小練習室3\n会場住所：札幌市中央区北1条西1丁目　創成スクエア\n参加費：2\,000円 LINE登録で500円引\nトレーナー：上村 真知子\n持ち物：動きやすい服装、タオル、お飲み物\n問合せ電話：011-222-2995 \n\nLINEからのお申し込みはこちら⇒https://lin.ee/2W4m69Q \n\n\n  \n\n\n\n\n	\n	\n	 \n	\n		\n			\n				ご予約内容\n						（必須）\n						\n				 \n			\n			\n				体験レッスンイベント体験レッスン + オーラ撮影オーラ撮影問合せ\n　※ 入会予約はこちらからお申し込みください\n				 \n			\n		\n		\n			\n				お名前\n						（必須）\n						\n				 \n			\n			\n				\n				 \n			\n		\n		\n			\n				メールアドレス\n						（必須）\n						\n				 \n			\n			\n				\n※ 携帯電話のメールアドレスをご入力の際は、ドメイン指定の設定をされている場合”＠ilchibrainyoga.com”からのメールを受け取ることができるように設定してください。\n				 \n			\n		\n		\n			\n				お電話番号（携帯可）\n						（必須）\n						\n				 \n			\n			\n				イルチブレインヨガ各店舗からの連絡が可能な番号をご入力ください。\n\n				 \n			\n		\n		\n			\n				ご予約希望日時\n				 \n			\n			\n				ご予約希望日時をお選びください\n【希望日】タイムスケジュールに記載があるクラスからお選びください\n\n時間帯を選択してください10時台のクラス14時台のクラス18時台のクラス午前のイベント午後のイベント夜のイベント\n				 \n				※ ご予約状況等によりご希望の日時に添えない場合もございます。その際は事前に調整を行う連絡をさせていただきますので予めご了承ください。\n\n				 \n			\n		\n		\n			\n				こちらのスタジオを何でお知りになりましたか？\n						 （必須）\n						\n				 \n			\n			\n				チラシ看板書籍雑誌紹介Yahoo検索Google検索口コミその他Webサイト\n				 \n			\n		\n		\n			\n				ご関心があること、習得したいこと（複数可）\n				 \n			\n			\n				自然治癒力アップ集中力アップダイエット体質改善ストレス軽減丹田強化呼吸法瞑想法その他（備考欄にご入力ください）\n				 \n			\n		\n		\n			\n				備考欄\n				 \n			\n			\n				\n				 \n			\n		\n	\n	個人情報の取扱い\n		について、同意の上送信します。\n※ ご入力頂いた情報は、株式会社DAHN WORLD JAPANからのご案内をさせて頂く以外の目的では使用致しません。\n		\n	 \n	\n	\n	 \n	※ 送信ボタンを押すとすぐ送信されます。このページで入力内容を確認してください。\n\n自動で完了メールが配信されます。\n	 \nΔ \n\n\n\n株式会社DAHN WORLD JAPAN　ダンワールドジャパン
URL:https://ilchibrainyoga.com/event/sapporo-25/
LOCATION:札幌交流プラザ3階　小練習室3\, 札幌市中央区北1条西1丁目　創成スクエア
CATEGORIES:北海道,北海道・東北,札幌
ATTACH;FMTTYPE=image/png:https://ilchibrainyoga.com/wp-content/uploads/2026/03/４.png
END:VEVENT
BEGIN:VEVENT
DTSTART;TZID=Asia/Tokyo:20260502T190000
DTEND;TZID=Asia/Tokyo:20260504T160000
DTSTAMP:20260420T143505
CREATED:20260326T061233Z
LAST-MODIFIED:20260326T063159Z
UID:87841-1777748400-1777910400@ilchibrainyoga.com
SUMMARY:【全スタジオ】ARIRANG CAMP 2026
DESCRIPTION:5月2日〜5月4日（2泊3日）で\n伊勢にて我理朗（アリラン）キャンプを開催します✨✨ \n「アリラン」とは\n本当の自分を知る喜び・悟る喜びという意味。 \n今の時代、情報も多く、\n忙しい日々の中でつい外に意識が向きがちですが、 \nこのキャンプでは\n自然の中でゆっくりと\n自分と向き合う時間を過ごします🌿 \n7つのチャクラをテーマに\n・大自然の中での瞑想\n・意識についての学び\n・バイブレーション（振動）トレーニング\n・同世代との対話\nなどを通して、本当の自分に出会い、\nこれからの人生を主体的に生きる力を育みます。\n瞑想と脳教育の専門トレーナーによる\n特別ティーチング付きの2泊3日キャンプです。 \n✨こんな方におすすめ\n前向きに人生を進みたい\n自分らしく生きたい\n本当の自分を知りたい感じたい\n自信を持ちたい\n人生の主人公として生きたい \n日時：5/2(土)19:00〜5/4(月)16:00\n場所：ILCHI HSP伊勢研修院\n近鉄鵜方駅よりシャトルバス運行①17:40 ②18:15\n参加費：35\,000円\n2泊3日の宿泊費および\n食事(2日目朝食～3日目昼食)含む\n※1日目夕食は提供されませんので\n各自済ませてお集まりください\n対象年齢：18〜45歳対象 \nまずは一度、お近くのスタジオでの説明会へお気軽にお立ち寄りくださいませ。 \n\nLINEからのお申し込みはこちら⇒https://lin.ee/ZetC1C8 \n\n\n  \n\n\n\n\n	\n		\n			ご希望の店舗\n				（必須）\n				\n			 \n		\n		\n			▼都道府県を選択してください北海道福島県東京都神奈川県千葉県埼玉県静岡県愛知県岐阜県奈良県京都府滋賀県大阪府兵庫県岡山県香川県広島県福岡県\n			 \n			\n				▼スタジオ・教室を選択してください\n—以下から選択してください—札幌スタジオ\n				 \n			\n			\n				▼スタジオ・教室を選択してください\n—以下から選択してください—いわき教室\n				 \n			\n			\n				▼スタジオ・教室を選択してください\n—以下から選択してください—新宿四谷スタジオ池袋スタジオ成増スタジオ吉祥寺スタジオ中野スタジオ八王子教室錦糸町スタジオ銀座スタジオ町田スタジオ\n				 \n			\n			\n				▼スタジオ・教室を選択してください\n—以下から選択してください—横浜スタジオ上大岡スタジオ辻堂スタジオ横須賀スタジオ\n				 \n			\n			\n				▼スタジオ・教室を選択してください\n—以下から選択してください—所沢スタジオ大宮スタジオ\n				 \n			\n			\n				▼スタジオ・教室を選択してください\n—以下から選択してください—船橋スタジオ松戸スタジオ\n				 \n			\n			\n				▼スタジオ・教室を選択してください\n—以下から選択してください—静岡スタジオ\n				 \n			\n			\n				▼スタジオ・教室を選択してください\n—以下から選択してください—名古屋スタジオ金山スタジオ一社スタジオ八事スタジオ新瑞橋教室豊田スタジオ名古屋楠教室岡崎スタジオ\n				 \n			\n			\n				▼スタジオ・教室を選択してください\n—以下から選択してください—岐阜スタジオ\n				 \n			\n			\n				▼スタジオ・教室を選択してください\n—以下から選択してください—奈良スタジオ星和台スタジオ橿原スタジオ生駒スタジオ吉野教室\n				 \n			\n			\n				▼スタジオ・教室を選択してください\n—以下から選択してください—京都四条烏丸スタジオ修学院スタジオ伏見スタジオ\n				 \n			\n			\n				▼スタジオ・教室を選択してください\n—以下から選択してください—膳所スタジオ\n				 \n			\n			\n				▼スタジオ・教室を選択してください\n—以下から選択してください—梅田スタジオ堺東スタジオ枚方スタジオ寝屋川スタジオ石橋スタジオ京橋スタジオ\n				 \n			\n			\n				▼スタジオ・教室を選択してください\n—以下から選択してください—明石スタジオ姫路スタジオゆもと教室宝塚スタジオ西宮スタジオ甲子園口教室御影スタジオ垂水スタジオ神戸新長田スタジオ六甲道スタジオはりま大津教室\n				 \n			\n			\n				▼スタジオ・教室を選択してください\n—以下から選択してください—岡山スタジオ\n				 \n			\n			\n				▼スタジオ・教室を選択してください\n—以下から選択してください—高松教室\n				 \n			\n			\n				▼スタジオ・教室を選択してください\n—以下から選択してください—広島スタジオ矢賀スタジオ\n				 \n			\n			\n				▼スタジオ・教室を選択してください\n—以下から選択してください—天神スタジオ高須スタジオ小倉スタジオ下曽根スタジオ\n				 \n			\n		\n		\n			\n				お名前\n					（必須）\n					\n				 \n			\n			\n				\n				 \n			\n		\n		\n			\n				ご年齢\n					（必須）\n					\n				 \n			\n			\n				▼選択してください18～20歳21歳～29歳30歳～39歳40歳～45歳\n				 \n			\n		\n		\n			\n				お電話番号\n					（必須）\n					\n				 \n			\n			\n				店舗からの連絡が可能な番号をご入力ください\n				 \n			\n		\n		\n			\n				説明希望日時\n				 \n			\n			\n				ご予約希望日時をお選びください\n				 \n				\n時間帯を選択してください10：00～12：0012：00～14：0014：00～16：0016：00～18：0018：00～20：0020：00～21：00\n				 \n				※ ご予約状況等によりご希望の日時に添えない場合もございます。その際は事前に調整を行う連絡をさせていただきますので予めご了承ください。\n\n				 \n			\n		\n		\n			\n				メールアドレス\n					（必須）\n					\n				 \n			\n			\n				\n※ 携帯電話のメールアドレスをご記入の際は、ドメイン指定の設定をされている場合”＠ilchibrainyoga.com”からメールを受け取ることができるように設定してください。\n				 \n			\n		\n		\n			\n				こちらのキャンプを何でお知りになりましたか？\n						 （必須）\n						\n				 \n			\n			\n				チラシ看板紹介Yahoo検索Google検索口コミInstagramその他Webサイト\n				 \n			\n		\n		\n			\n				ご関心があること、習得したいこと（複数可）\n				 \n			\n			\n				健康増進ストレスケア呼吸法瞑想法チャクラマインドフルネス人生設計自信をもちたいその他（備考欄にご入力ください）\n				 \n			\n		\n		\n			\n				備考欄\n				 \n			\n			\n				\n				 \n			\n		\n		\n			\n				個人情報の取り扱いについて\n					（必須）\n					\n				 \n			\n			\n				個人情報の取扱について同意します\nご入力頂いた情報は、株式会社DAHN WORLD JAPANからのご案内をさせて頂く以外の目的では使用致しません。\n				 \n			\n		\n	\n	\n		※ 送信ボタンを押すとすぐ送信されます。このページで入力内容を確認してください。\n		 \n		\n		 \n		自動で完了メールが配信されます。\n		 \n	\nΔ \n\n\n\n株式会社DAHN WORLD JAPAN　ダンワールドジャパン
URL:https://ilchibrainyoga.com/event/arirang-camp-2026/
LOCATION:ILCHI HSP伊勢研修院\, 三重県志摩市浜島町迫子８６４−１４０
CATEGORIES:いわき,はりま大津,ゆもと,一社,上大岡,下曽根,中野,京橋,京都四条烏丸,伏見,修学院,八事,八王子,六甲道,吉祥寺,吉野,名古屋,名古屋楠,垂水,堺東,大宮,天神,奈良,姫路,宝塚,寝屋川,小倉,岡山,岡崎,広島,御影,成増,所沢,新宿,新瑞橋,明石,星和台,札幌,松戸,枚方,梅田,横浜,横須賀,橿原,池袋,生駒,甲子園口,町田,矢賀,石橋,神戸新長田,膳所,船橋,藤沢,西宮,豊田,辻堂,金山,銀座,錦糸町,静岡,高須
ATTACH;FMTTYPE=image/jpeg:https://ilchibrainyoga.com/wp-content/uploads/2026/03/2026ArirangCamp.jpg
END:VEVENT
BEGIN:VEVENT
DTSTART;TZID=Asia/Tokyo:20260509T100000
DTEND;TZID=Asia/Tokyo:20260521T153000
DTSTAMP:20260420T143505
CREATED:20260415T024204Z
LAST-MODIFIED:20260417T093800Z
UID:88688-1778320800-1779377400@ilchibrainyoga.com
SUMMARY:【小倉】5月9日(土)15日(金)21日(木) 春の新しい自分発見！～ アリラン気功体験会～
DESCRIPTION:簡単な動きで自分の感覚と生命のリズムを目覚めさせ、 \n呼吸・意識・やさしい誘導を通して、心身の状態を整えていきます。\n・疲れが抜けにくい\n・気持ちが落ち着かない\n・頭が休まらない\nそんな日常的な不調を感じている方におすすめです。 \n開催日：5月9日(土)15日(金)21日(木)\n時間：10:00～11:30／14:00～15:30\n会場名：イルチブレインヨガ小倉スタジオ\n会場住所：福岡県北九州市小倉北区米町1-3-10  一宮ビル5階\n参加費：2\,000円\nトレーナー：小葉 香凛(こば かおり)\n持ち物：動きやすい服装、タオル、飲み物\n問合せ電話：093-533-1910 \n\nLINEからのお申し込みはこちら⇒https://lin.ee/5NN0tCe \n\n\n  \n\n\n\n\n	\n	\n	 \n	\n		\n			\n				ご予約内容\n						（必須）\n						\n				 \n			\n			\n				体験レッスンイベント体験レッスン+オーラ撮影オーラ撮影問合せ\n※ 入会予約はこちらからお申し込みください\n				 \n			\n		\n		\n			\n				お名前\n						（必須）\n						\n				 \n			\n			\n				\n				 \n			\n		\n		\n			\n				メールアドレス\n						（必須）\n						\n				 \n			\n			\n				\n※ 携帯電話のメールアドレスをご入力の際は、ドメイン指定の設定をされている場合”＠ilchibrainyoga.com”からのメールを受け取ることができるように設定してください。\n				 \n			\n		\n		\n			\n				お電話番号（携帯可）\n						（必須）\n						\n				 \n			\n			\n				イルチブレインヨガ各店舗からの連絡が可能な番号をご入力ください。\n\n				 \n			\n		\n		\n			\n				ご予約希望日時\n				 \n			\n			\n				ご予約希望日時をお選びください\n【希望日】タイムスケジュールに記載があるクラスからお選びください\n\n時間帯を選択してください10時台のクラス14時台のクラス19時台のクラス午前のイベント午後のイベント夜のイベント\n				 \n				※ ご予約状況等によりご希望の日時に添えない場合もございます。その際は事前に調整を行う連絡をさせていただきますので予めご了承ください。\n\n				 \n			\n		\n		\n			\n				こちらのスタジオを何でお知りになりましたか？\n						 （必須）\n						\n				 \n			\n			\n				チラシ看板書籍雑誌紹介Yahoo検索Google検索口コミその他Webサイト\n				 \n			\n		\n		\n			\n				ご関心があること、習得したいこと（複数可）\n				 \n			\n			\n				自然治癒力アップ集中力アップダイエット体質改善ストレス軽減丹田強化呼吸法瞑想法その他（備考欄にご入力ください）\n				 \n			\n		\n		\n			\n				備考欄\n				 \n			\n			\n				\n				 \n			\n		\n	\n	個人情報の取扱い\n		について、同意の上送信します。\n※ ご入力頂いた情報は、株式会社DAHN WORLD JAPANからのご案内をさせて頂く以外の目的では使用致しません。\n		\n	 \n	\n	\n	 \n	※ 送信ボタンを押すとすぐ送信されます。このページで入力内容を確認してください。\n\n自動で完了メールが配信されます。\n	 \nΔ \n\n\n\n株式会社DAHN WORLD JAPAN　ダンワールドジャパン
URL:https://ilchibrainyoga.com/event/kokura-49/
LOCATION:イルチブレインヨガ小倉スタジオ\,  福岡県北九州市小倉北区米町 1-3-10 一宮ビル 5階-C\, Japan
CATEGORIES:九州,小倉,福岡
ATTACH;FMTTYPE=image/png:https://ilchibrainyoga.com/wp-content/uploads/2026/04/アリラン気功.png
END:VEVENT
BEGIN:VEVENT
DTSTART;TZID=Asia/Tokyo:20260509T101500
DTEND;TZID=Asia/Tokyo:20260509T113000
DTSTAMP:20260420T143505
CREATED:20260419T032750Z
LAST-MODIFIED:20260419T032750Z
UID:89005-1778321700-1778326200@ilchibrainyoga.com
SUMMARY:【梅田】🌸本当のわたしに気づく喜び🌸我理朗（アリラン）気功　体験会
DESCRIPTION:簡単な動きで自分の感覚と生命のリズムを目覚めさせ、\n呼吸・意識・やさしい誘導を通して、心身の状態を整えていきます。 \n・疲れが抜けにくい\n・気持ちが落ち着かない\n・頭が休まらない \nそんな日常的な不調を感じている方におすすめです。\n🌸 \n🔰ご希望の方には、チャクラバランスチェック(無料)もプレゼント \n開催日：5月9日（土）\n時間：10:15～11:30\n会場名：総合生涯学習センター\n会場住所：大阪府大阪市北区梅田１丁目２−２−５００ 大阪駅前第2ビル 5階 第4研修室\n参加費：1\,000円\nトレーナー：山下美佐子\n持ち物：動きやすい服装、水分\n問合せ電話：06-6312-6007（イルチブレインヨガ梅田スタジオ） \n\nLINEからのお申し込みはこちら⇒https://lin.ee/SPtStSz \n\n\n  \n\n\n\n\n	\n	\n	 \n	\n		\n			\n				ご予約内容\n						（必須）\n						\n				 \n			\n			\n				体験レッスンイベント体験レッスン+オーラ撮影オーラ撮影問合せ\n※ 入会予約はこちらからお申し込みください\n				 \n			\n		\n		\n			\n				お名前\n						（必須）\n						\n				 \n			\n			\n				\n				 \n			\n		\n		\n			\n				メールアドレス\n						（必須）\n						\n				 \n			\n			\n				\n※ 携帯電話のメールアドレスをご入力の際は、ドメイン指定の設定をされている場合”＠ilchibrainyoga.com”からのメールを受け取ることができるように設定してください。\n				 \n			\n		\n		\n			\n				お電話番号（携帯可）\n						（必須）\n						\n				 \n			\n			\n				イルチブレインヨガ各店舗からの連絡が可能な番号をご入力ください。\n\n				 \n			\n		\n		\n			\n				ご予約希望日時\n				 \n			\n			\n				ご予約希望日時をお選びください\n【希望日】タイムスケジュールに記載があるクラスからお選びください\n\n時間帯を選択してください10時台のクラス11時台のクラス14時台のクラス19時台のクラス午前のイベント午後のイベント夜のイベント\n				 \n				※ ご予約状況等によりご希望の日時に添えない場合もございます。その際は事前に調整を行う連絡をさせていただきますので予めご了承ください。\n\n				 \n			\n		\n		\n			\n				こちらのスタジオを何でお知りになりましたか？\n						 （必須）\n						\n				 \n			\n			\n				チラシ看板書籍雑誌紹介Yahoo検索Google検索口コミその他Webサイト\n				 \n			\n		\n		\n			\n				ご関心があること、習得したいこと（複数可）\n				 \n			\n			\n				自然治癒力アップ集中力アップダイエット体質改善ストレス軽減丹田強化呼吸法瞑想法その他（備考欄にご入力ください）\n				 \n			\n		\n		\n			\n				備考欄\n				 \n			\n			\n				\n				 \n			\n		\n	\n	個人情報の取扱い\n		について、同意の上送信します。\n※ ご入力頂いた情報は、株式会社DAHN WORLD JAPANからのご案内をさせて頂く以外の目的では使用致しません。\n		\n	 \n	\n	\n	 \n	※ 送信ボタンを押すとすぐ送信されます。このページで入力内容を確認してください。\n\n自動で完了メールが配信されます。\n	 \nΔ \n\n\n\n株式会社DAHN WORLD JAPAN　ダンワールドジャパン
URL:https://ilchibrainyoga.com/event/umeda-36/
LOCATION:総合生涯学習センター\, 大阪府大阪市北区梅田１丁目２−２−５００ 大阪駅前第2ビル 5階 第4研修室
CATEGORIES:大阪,梅田,関西
ATTACH;FMTTYPE=image/jpeg:https://ilchibrainyoga.com/wp-content/uploads/2026/03/20240114JP-広報用写真撮影_DSC0380--scaled.jpg
END:VEVENT
BEGIN:VEVENT
DTSTART;TZID=Asia/Tokyo:20260515T140000
DTEND;TZID=Asia/Tokyo:20260515T153000
DTSTAMP:20260420T143505
CREATED:20260411T023101Z
LAST-MODIFIED:20260411T023101Z
UID:88554-1778853600-1778859000@ilchibrainyoga.com
SUMMARY:【宝塚】アリラン気功体験会
DESCRIPTION:気の巡りを整え、内なる生命力を引き出す気功瞑想の体験会です。「アリラン」とは「我理朗」、本当の自分を知る喜び、という意味があります。周りを気にせず自分だけに意識を向けながら動く心地よさを体験してください。初めての方でも無理なくできますので、お気軽にご参加ください。 \n開催日：５月１５日（金）\n時間：14:00～15：30\n会場名：イルチブレインヨガ宝塚スタジオ\n会場住所：兵庫県宝塚市栄町1-19-14　ワールドターンビル3階\n参加費：1000円税込\nトレーナー：岩田郁子\n持ち物：動きやすい服、靴下、汗拭きタオル、飲み物 \n問合せ電話：０７９７－８６－０１９１ \n\nスタジオLINEからのお申し込みはこちら⇒https://lin.ee/lC3Hf1z \n\n\n  \n\n\n\n\n	\n	\n	 \n	\n		\n			\n				ご予約内容\n						（必須）\n						\n				 \n			\n			\n				体験レッスンイベント体験レッスン+オーラ撮影オーラ撮影問合せ\n※ 入会予約はこちらからお申し込みください\n				 \n			\n		\n		\n			\n				お名前\n						（必須）\n						\n				 \n			\n			\n				\n				 \n			\n		\n		\n			\n				メールアドレス\n						（必須）\n						\n				 \n			\n			\n				\n※ 携帯電話のメールアドレスをご入力の際は、ドメイン指定の設定をされている場合”＠ilchibrainyoga.com”からのメールを受け取ることができるように設定してください。\n				 \n			\n		\n		\n			\n				お電話番号（携帯可）\n						（必須）\n						\n				 \n			\n			\n				イルチブレインヨガ各店舗からの連絡が可能な番号をご入力ください。\n\n				 \n			\n		\n		\n			\n				ご予約希望日時\n				 \n			\n			\n				ご予約希望日時をお選びください\n【希望日】タイムスケジュールに記載があるクラスからお選びください\n\n時間帯を選択してください10時台のクラス14時台のクラス18時台のクラス20時台のクラス午前のイベント午後のイベント夜のイベント\n				 \n				※ ご予約状況等によりご希望の日時に添えない場合もございます。その際は事前に調整を行う連絡をさせていただきますので予めご了承ください。\n\n				 \n			\n		\n		\n			\n				こちらのスタジオを何でお知りになりましたか？\n						 （必須）\n						\n				 \n			\n			\n				チラシ看板書籍雑誌紹介Yahoo検索Google検索口コミその他Webサイト\n				 \n			\n		\n		\n			\n				ご関心があること、習得したいこと（複数可）\n				 \n			\n			\n				自然治癒力アップ集中力アップダイエット体質改善ストレス軽減丹田強化呼吸法瞑想法その他（備考欄にご入力ください）\n				 \n			\n		\n		\n			\n				備考欄\n				 \n			\n			\n				\n				 \n			\n		\n	\n	個人情報の取扱い\n		について、同意の上送信します。\n※ ご入力頂いた情報は、株式会社DAHN WORLD JAPANからのご案内をさせて頂く以外の目的では使用致しません。\n		\n	 \n	\n	\n	 \n	※ 送信ボタンを押すとすぐ送信されます。このページで入力内容を確認してください。\n\n自動で完了メールが配信されます。\n	 \nΔ \n\n\n\n株式会社DAHN WORLD JAPAN　ダンワールドジャパン
URL:https://ilchibrainyoga.com/event/takarazuka-22/
LOCATION:イルチブレインヨガ宝塚スタジオ\, 兵庫県宝塚市栄町1丁目19－14　ワールドターンビル3階
CATEGORIES:兵庫,宝塚,関西
ATTACH;FMTTYPE=image/png:https://ilchibrainyoga.com/wp-content/uploads/2026/03/気功-2人-新モデル.png
END:VEVENT
END:VCALENDAR