BEGIN:VCALENDAR
VERSION:2.0
PRODID:-//イルチブレインヨガ公式サイト - ECPv6.15.16//NONSGML v1.0//EN
CALSCALE:GREGORIAN
METHOD:PUBLISH
X-ORIGINAL-URL:https://ilchibrainyoga.com
X-WR-CALDESC:イルチブレインヨガ公式サイト のイベント
REFRESH-INTERVAL;VALUE=DURATION:PT1H
X-Robots-Tag:noindex
X-PUBLISHED-TTL:PT1H
BEGIN:VTIMEZONE
TZID:Asia/Tokyo
BEGIN:STANDARD
TZOFFSETFROM:+0900
TZOFFSETTO:+0900
TZNAME:JST
DTSTART:20250101T000000
END:STANDARD
END:VTIMEZONE
BEGIN:VEVENT
DTSTART;TZID=Asia/Tokyo:20260329T101500
DTEND;TZID=Asia/Tokyo:20260329T113000
DTSTAMP:20260420T111403
CREATED:20260312T023110Z
LAST-MODIFIED:20260328T064800Z
UID:86502-1774779300-1774783800@ilchibrainyoga.com
SUMMARY:【梅田】3/29(日)まで　＼本当の自分に出会うARIRANG WEEK／我理朗（アリラン）気功　体験会
DESCRIPTION:簡単な動きで自分の感覚と生命のリズムを目覚めさせ、\n呼吸・意識・やさしい誘導を通して、心身の状態を整えていきます。 \n・疲れが抜けにくい\n・気持ちが落ち着かない\n・頭が休まらない \nそんな日常的な不調を感じている方におすすめです。 \n🌸ARIRAN WEEK限定⚡️もっと自分と繋がる選べるプレゼント付き⚡️\n　(天符経タロットリーディングorオーラ撮影) \n開催日：3月29日(日)まで\n時間：10:15～11:30\n会場名：イルチブレインヨガ梅田スタジオ\n会場住所：大阪市北区太融寺町2-18　富士林プラザ8番館3F\n参加費：1\,000円\nトレーナー：井上泰子、斎藤雅代、小谷陽子\n持ち物：動きやすい服装、水分\n問合せ電話：06-6312-6007 \n\nLINEからのお申し込みはこちら⇒https://lin.ee/SPtStSz \n\n\n  \n\n\n\n\n	\n	\n	 \n	\n		\n			\n				ご予約内容\n						（必須）\n						\n				 \n			\n			\n				体験レッスンイベント体験レッスン+オーラ撮影オーラ撮影問合せ\n※ 入会予約はこちらからお申し込みください\n				 \n			\n		\n		\n			\n				お名前\n						（必須）\n						\n				 \n			\n			\n				\n				 \n			\n		\n		\n			\n				メールアドレス\n						（必須）\n						\n				 \n			\n			\n				\n※ 携帯電話のメールアドレスをご入力の際は、ドメイン指定の設定をされている場合”＠ilchibrainyoga.com”からのメールを受け取ることができるように設定してください。\n				 \n			\n		\n		\n			\n				お電話番号（携帯可）\n						（必須）\n						\n				 \n			\n			\n				イルチブレインヨガ各店舗からの連絡が可能な番号をご入力ください。\n\n				 \n			\n		\n		\n			\n				ご予約希望日時\n				 \n			\n			\n				ご予約希望日時をお選びください\n【希望日】タイムスケジュールに記載があるクラスからお選びください\n\n時間帯を選択してください10時台のクラス11時台のクラス14時台のクラス19時台のクラス午前のイベント午後のイベント夜のイベント\n				 \n				※ ご予約状況等によりご希望の日時に添えない場合もございます。その際は事前に調整を行う連絡をさせていただきますので予めご了承ください。\n\n				 \n			\n		\n		\n			\n				こちらのスタジオを何でお知りになりましたか？\n						 （必須）\n						\n				 \n			\n			\n				チラシ看板書籍雑誌紹介Yahoo検索Google検索口コミその他Webサイト\n				 \n			\n		\n		\n			\n				ご関心があること、習得したいこと（複数可）\n				 \n			\n			\n				自然治癒力アップ集中力アップダイエット体質改善ストレス軽減丹田強化呼吸法瞑想法その他（備考欄にご入力ください）\n				 \n			\n		\n		\n			\n				備考欄\n				 \n			\n			\n				\n				 \n			\n		\n	\n	個人情報の取扱い\n		について、同意の上送信します。\n※ ご入力頂いた情報は、株式会社DAHN WORLD JAPANからのご案内をさせて頂く以外の目的では使用致しません。\n		\n	 \n	\n	\n	 \n	※ 送信ボタンを押すとすぐ送信されます。このページで入力内容を確認してください。\n\n自動で完了メールが配信されます。\n	 \nΔ \n\n\n\n株式会社DAHN WORLD JAPAN　ダンワールドジャパン
URL:https://ilchibrainyoga.com/event/umeda-33/
LOCATION:イルチブレインヨガ梅田スタジオ\, 大阪府大阪市北区太融寺町 2-18 富士林プラザ8番館 3F\, Japan
CATEGORIES:大阪,梅田,長寿スクール説明会・ワークショップ,関西
ATTACH;FMTTYPE=image/jpeg:https://ilchibrainyoga.com/wp-content/uploads/2026/03/気功２.jpg
END:VEVENT
BEGIN:VEVENT
DTSTART;TZID=Asia/Tokyo:20260329T140000
DTEND;TZID=Asia/Tokyo:20260329T150000
DTSTAMP:20260420T111403
CREATED:20260312T014543Z
LAST-MODIFIED:20260328T064422Z
UID:86492-1774792800-1774796400@ilchibrainyoga.com
SUMMARY:【銀座】土曜日・日曜日 限定　アリラン気功体験会
DESCRIPTION:呼吸とゆったりした動きで\n体と心のバランスを整える気功です。\n体が硬い方や運動が苦手な方でも無理なく行えます。 \n土曜日・日曜日 限定 \n時間：14:00～15:00\n会場名：イルチブレインヨガ銀座スタジオ\n会場住所：東京都中央区銀座3丁目10-7 銀座京屋ビル4階\n参加費：無料\nトレーナー：孫ドゥリ・矢野えり子\n持ち物：動きやすい服装、飲み物、タオル\n問い合わせ電話　03-6264-3443 \n\nLINEからのお申し込みはこちら⇒https://lin.ee/sAfx95g \n\n\n  \n\n\n\n\n	\n	\n	 \n	\n		\n			\n				ご予約内容\n						（必須）\n						\n				 \n			\n			\n				体験レッスンイベント体験レッスン+オーラ撮影オーラ撮影問合せ\n※ 入会予約はこちらからお申し込みください\n				 \n			\n		\n		\n			\n				お名前\n						（必須）\n						\n				 \n			\n			\n				\n				 \n			\n		\n		\n			\n				メールアドレス\n						（必須）\n						\n				 \n			\n			\n				\n※ 携帯電話のメールアドレスをご入力の際は、ドメイン指定の設定をされている場合”＠ilchibrainyoga.com”からのメールを受け取ることができるように設定してください。\n				 \n			\n		\n		\n			\n				お電話番号（携帯可）\n						（必須）\n						\n				 \n			\n			\n				イルチブレインヨガ各店舗からの連絡が可能な番号をご入力ください。\n\n				 \n			\n		\n		\n			\n				ご予約希望日時\n				 \n			\n			\n				ご予約希望日時をお選びください\n【希望日】タイムスケジュールに記載があるクラスからお選びください\n\n時間帯を選択してください10時台のクラス14時台のクラス19時台のクラス午前のイベント午後のイベント夜のイベント\n				 \n				※ ご予約状況等によりご希望の日時に添えない場合もございます。その際は事前に調整を行う連絡をさせていただきますので予めご了承ください。\n\n				 \n			\n		\n		\n			\n				こちらのスタジオを何でお知りになりましたか？\n						 （必須）\n						\n				 \n			\n			\n				チラシ看板書籍雑誌紹介Yahoo検索Google検索口コミその他Webサイト\n				 \n			\n		\n		\n			\n				ご関心があること、習得したいこと（複数可）\n				 \n			\n			\n				自然治癒力アップ集中力アップダイエット体質改善ストレス軽減丹田強化呼吸法瞑想法その他（備考欄にご入力ください）\n				 \n			\n		\n		\n			\n				備考欄\n				 \n			\n			\n				\n				 \n			\n		\n	\n	個人情報の取扱い\n		について、同意の上送信します。\n※ ご入力頂いた情報は、株式会社DAHN WORLD JAPANからのご案内をさせて頂く以外の目的では使用致しません。\n		\n	 \n	\n	\n	 \n	※ 送信ボタンを押すとすぐ送信されます。このページで入力内容を確認してください。\n\n自動で完了メールが配信されます。\n	 \nΔ \n\n\n\n株式会社DAHN WORLD JAPAN　ダンワールドジャパン
URL:https://ilchibrainyoga.com/event/ginza-10/
LOCATION:イルチブレインヨガ銀座スタジオ\, 東京都中央区銀座三丁目10番7号 銀座京屋ビル4階\, Japan
CATEGORIES:東京,銀座,関東
ATTACH;FMTTYPE=image/png:https://ilchibrainyoga.com/wp-content/uploads/2026/03/気功-2人-新モデル.png
END:VEVENT
BEGIN:VEVENT
DTSTART;TZID=Asia/Tokyo:20260329T140000
DTEND;TZID=Asia/Tokyo:20260329T160000
DTSTAMP:20260420T111403
CREATED:20260313T070441Z
LAST-MODIFIED:20260317T023617Z
UID:86658-1774792800-1774800000@ilchibrainyoga.com
SUMMARY:【生駒】【歌気功】我理朗(アリラン)ARIRANG歌気功体験会
DESCRIPTION:人間の本来の自然な健全な状態を保ち、肉体、心、意識を繋ぎ整えるシステムである7つのチャクラと3つのボデイについてのお話とそれらを簡単に整える振動トレーニング、呼吸瞑想を体験していただきます。 \n開催日：3月29日(日)\n時間:14:00〜16:00\n場所：たけまるホール(旧生駒市中央公民館)\n会場住所:奈良県生駒市北新町９−２８\n参加費:1500円\nトレーナー:伊藤美鈴\n持ち物：運動しやすい服装、タオル、水 \n〈電話〉\n📞ご予約・お問い合わせ：0743-73-8290 \n\nLINEからのお申し込みはこちら⇒https://lin.ee/yEnhBH5 \n\n\n  \n\n\n\n\n	\n	\n	 \n	\n		\n			\n				ご予約内容\n						（必須）\n						\n				 \n			\n			\n				体験レッスンイベント体験レッスン+オーラ撮影オーラ撮影問合せ\n※ 入会予約はこちらからお申し込みください\n				 \n			\n		\n		\n			\n				お名前\n						（必須）\n						\n				 \n			\n			\n				\n				 \n			\n		\n		\n			\n				メールアドレス\n						（必須）\n						\n				 \n			\n			\n				\n※ 携帯電話のメールアドレスをご入力の際は、ドメイン指定の設定をされている場合”＠ilchibrainyoga.com”からのメールを受け取ることができるように設定してください。\n				 \n			\n		\n		\n			\n				お電話番号（携帯可）\n						（必須）\n						\n				 \n			\n			\n				イルチブレインヨガ各店舗からの連絡が可能な番号をご入力ください。\n\n				 \n			\n		\n		\n			\n				ご予約希望日時\n				 \n			\n			\n				ご予約希望日時をお選びください\n【希望日】タイムスケジュールに記載があるクラスからお選びください\n\n時間帯を選択してください10時台のクラス14時台のクラス19時台のクラス午前のイベント午後のイベント夜のイベント\n				 \n				※ ご予約状況等によりご希望の日時に添えない場合もございます。その際は事前に調整を行う連絡をさせていただきますので予めご了承ください。\n\n				 \n			\n		\n		\n			\n				こちらのスタジオを何でお知りになりましたか？\n						 （必須）\n						\n				 \n			\n			\n				チラシ看板書籍雑誌紹介Yahoo検索Google検索口コミその他Webサイト\n				 \n			\n		\n		\n			\n				ご関心があること、習得したいこと（複数可）\n				 \n			\n			\n				自然治癒力アップ集中力アップダイエット体質改善ストレス軽減丹田強化呼吸法瞑想法その他（備考欄にご入力ください）\n				 \n			\n		\n		\n			\n				備考欄\n				 \n			\n			\n				\n				 \n			\n		\n	\n	個人情報の取扱い\n		について、同意の上送信します。\n※ ご入力頂いた情報は、株式会社DAHN WORLD JAPANからのご案内をさせて頂く以外の目的では使用致しません。\n		\n	 \n	\n	\n	 \n	※ 送信ボタンを押すとすぐ送信されます。このページで入力内容を確認してください。\n\n自動で完了メールが配信されます。\n	 \nΔ \n\n\n\n株式会社DAHN WORLD JAPAN　ダンワールドジャパン
URL:https://ilchibrainyoga.com/event/ikoma-30/
LOCATION:たけまるホール\, 奈良県生駒市北新町９−２８
CATEGORIES:奈良,生駒,関西
ATTACH;FMTTYPE=image/jpeg:https://ilchibrainyoga.com/wp-content/uploads/2026/03/3881830_s.jpg
END:VEVENT
BEGIN:VEVENT
DTSTART;TZID=Asia/Tokyo:20260329T163000
DTEND;TZID=Asia/Tokyo:20260329T170000
DTSTAMP:20260420T111403
CREATED:20260311T005934Z
LAST-MODIFIED:20260311T005934Z
UID:86381-1774801800-1774803600@ilchibrainyoga.com
SUMMARY:【星和台】ARIRANG(アリラン)気功ダンスワークショップ
DESCRIPTION:「我理朗(アリラン)」という意味\n「我」＝わたし\n「理」＝知る\n「朗」＝喜び\nつまり、本当の自分を知る喜び、本来の自分を悟る喜びという意味が込められています。\n心身ともに充電できる気功を楽しみましょう \n開催日：3月29日（日)\n時間：16:30〜17:00\n会場名：中山台公園\n会場住所：奈良県北葛城郡河合町中山台１丁目16\n参加費：無料\nトレーナー：柳生チーフトレーナー\n持ち物：タオル、お茶 \n問合せ電話：0745-32-7557 \n\nLINEからのお申し込みはこちら⇒https://lin.ee/f8Cpyde \n\n\n  \n\n\n\n\n	\n	\n	 \n	\n		\n			\n				ご予約内容\n						（必須）\n						\n				 \n			\n			\n				体験レッスンイベント体験レッスン+オーラ撮影オーラ撮影問合せ\n				 \n				※ 入会予約はこちらからお申し込みください\n				 \n			\n		\n		\n			\n				お名前\n						（必須）\n						\n				 \n			\n			\n				\n				 \n			\n		\n		\n			\n				メールアドレス\n						（必須）\n						\n				 \n			\n			\n				\n※ 携帯電話のメールアドレスをご入力の際は、ドメイン指定の設定をされている場合”＠ilchibrainyoga.com”からのメールを受け取ることができるように設定してください。\n				 \n			\n		\n		\n			\n				お電話番号（携帯可）\n						（必須）\n						\n				 \n			\n			\n				イルチブレインヨガ各店舗からの連絡が可能な番号をご入力ください。\n\n				 \n			\n		\n		\n			\n				ご予約希望日時\n				 \n			\n			\n				ご予約希望日時をお選びください\n【希望日】タイムスケジュールに記載があるクラスからお選びください\n\n時間帯を選択してください10時台のクラス14時台のクラス19時台のクラス午前のイベント午後のイベント夜のイベント\n				 \n				※ ご予約状況等によりご希望の日時に添えない場合もございます。その際は事前に調整を行う連絡をさせていただきますので予めご了承ください。\n\n				 \n			\n		\n		\n			\n				こちらのスタジオを何でお知りになりましたか？\n						 （必須）\n						\n				 \n			\n			\n				チラシ看板書籍雑誌紹介Yahoo検索Google検索口コミその他Webサイト\n				 \n			\n		\n		\n			\n				ご関心があること、習得したいこと（複数可）\n				 \n			\n			\n				自然治癒力アップ集中力アップダイエット体質改善ストレス軽減丹田強化呼吸法瞑想法その他（備考欄にご入力ください）\n				 \n			\n		\n		\n			\n				備考欄\n				 \n			\n			\n				\n				 \n			\n		\n	\n	個人情報の取扱い\n		について、同意の上送信します。\n※ ご入力頂いた情報は、株式会社DAHN WORLD JAPANからのご案内をさせて頂く以外の目的では使用致しません。\n		\n	 \n	\n	\n	 \n	※ 送信ボタンを押すとすぐ送信されます。このページで入力内容を確認してください。\n\n自動で完了メールが配信されます。\n	 \nΔ \n\n\n\n株式会社DAHN WORLD JAPAN　ダンワールドジャパン
URL:https://ilchibrainyoga.com/event/seiwadai-28/
LOCATION:中山台公園\, 奈良県北葛城郡河合町中山台１丁目16
CATEGORIES:奈良,星和台,関西
ATTACH;FMTTYPE=image/png:https://ilchibrainyoga.com/wp-content/uploads/2026/03/気功-2人-新モデル.png
END:VEVENT
END:VCALENDAR