BEGIN:VCALENDAR
VERSION:2.0
PRODID:-//イルチブレインヨガ公式サイト - ECPv6.15.16//NONSGML v1.0//EN
CALSCALE:GREGORIAN
METHOD:PUBLISH
X-WR-CALNAME:イルチブレインヨガ公式サイト
X-ORIGINAL-URL:https://ilchibrainyoga.com
X-WR-CALDESC:イルチブレインヨガ公式サイト のイベント
REFRESH-INTERVAL;VALUE=DURATION:PT1H
X-Robots-Tag:noindex
X-PUBLISHED-TTL:PT1H
BEGIN:VTIMEZONE
TZID:Asia/Tokyo
BEGIN:STANDARD
TZOFFSETFROM:+0900
TZOFFSETTO:+0900
TZNAME:JST
DTSTART:20250101T000000
END:STANDARD
END:VTIMEZONE
BEGIN:VEVENT
DTSTART;TZID=Asia/Tokyo:20260419T093000
DTEND;TZID=Asia/Tokyo:20260430T204000
DTSTAMP:20260420T125331
CREATED:20260210T014814Z
LAST-MODIFIED:20260418T080832Z
UID:85153-1776591000-1777581600@ilchibrainyoga.com
SUMMARY:【新宿四谷】4/30（木）まで　Kヒーリングヨガ（ARIRANG気功瞑想）
DESCRIPTION:一日の疲れ、ストレス、どうケアしていますか？\n新しいヨガ！Kヒーリングヨガでストレスリセットし、明日の力を充電しませんか？ \n💗丹田叩き、腸運動でエネルギーアップ\n💗ARIRANG気功＆瞑想でリラックス、自分と繋がる \nエネルギーを整え、自分を解放する時間となります。\n新宿四谷スタジオの新しく、静かで落ち着いた空間でゆっくりと自分と出会うリセット時間\n6人以下の少人数グループセッションで気楽にエネルギーチャージを😄\nお待ちしています！ \n★前日までにご予約お願いします。 \n《日時》\n9時30分～（火水金土日）\n13時30分～（火水金土日）\n16時30分〜（火水金）\n18時30分～（火）\n19時～（水木金）\n※体験時間は２時間弱かかります。 \n《参加費》\n1000円（税込み） \n《場所》\nイルチブレインヨガ新宿四谷スタジオ\n新宿区四谷2－2－2　四谷三和ビル９階 \n《持ち物》\n動きやすい服装（更衣室完備）\n※マットは無料でお貸しします。\nTel　03‐3358-2753 \n\nLINEからのお申し込みはこちら⇒https://lin.ee/PCIxwlO \n\n\n  \n\n\n\n\n	\n	\n	 \n	\n		\n			\n				ご予約内容\n						（必須）\n						\n				 \n			\n			\n				体験レッスンイベント体験レッスン+オーラ撮影オーラ撮影問合せ\n※ 入会予約はこちらからお申し込みください\n				 \n			\n		\n		\n			\n				お名前\n						（必須）\n						\n				 \n			\n			\n				\n				 \n			\n		\n		\n			\n				メールアドレス\n						（必須）\n						\n				 \n			\n			\n				\n※ 携帯電話のメールアドレスをご入力の際は、ドメイン指定の設定をされている場合”＠ilchibrainyoga.com”からのメールを受け取ることができるように設定してください。\n				 \n			\n		\n		\n			\n				お電話番号（携帯可）\n						（必須）\n						\n				 \n			\n			\n				イルチブレインヨガ各店舗からの連絡が可能な番号をご入力ください。\n\n				 \n			\n		\n		\n			\n				ご予約希望日時\n				 \n			\n			\n				ご予約希望日時をお選びください\n【希望日】タイムスケジュールに記載があるクラスからお選びください\n\n時間帯を選択してください10時台のクラス14時台のクラス19時台のクラス午前のイベント午後のイベント夜のイベント\n				 \n				※ ご予約状況等によりご希望の日時に添えない場合もございます。その際は事前に調整を行う連絡をさせていただきますので予めご了承ください。\n\n				 \n			\n		\n		\n			\n				こちらのスタジオを何でお知りになりましたか？\n						 （必須）\n						\n				 \n			\n			\n				チラシ看板書籍雑誌紹介Yahoo検索Google検索口コミその他Webサイト\n				 \n			\n		\n		\n			\n				ご関心があること、習得したいこと（複数可）\n				 \n			\n			\n				自然治癒力アップ集中力アップダイエット体質改善ストレス軽減丹田強化呼吸法瞑想法その他（備考欄にご入力ください）\n				 \n			\n		\n		\n			\n				備考欄\n				 \n			\n			\n				\n				 \n			\n		\n	\n	個人情報の取扱い\n		について、同意の上送信します。\n※ ご入力頂いた情報は、株式会社DAHN WORLD JAPANからのご案内をさせて頂く以外の目的では使用致しません。\n		\n	 \n	\n	\n	 \n	※ 送信ボタンを押すとすぐ送信されます。このページで入力内容を確認してください。\n\n自動で完了メールが配信されます。\n	 \nΔ \n\n\n\n株式会社DAHN WORLD JAPAN　ダンワールドジャパン
URL:https://ilchibrainyoga.com/event/shinjyuku-20/
LOCATION:イルチブレインヨガ新宿四谷スタジオ\, 新宿区四谷2－2－2　四谷三和ビル９階
CATEGORIES:新宿,東京,関東
ATTACH;FMTTYPE=image/jpeg:https://ilchibrainyoga.com/wp-content/uploads/2026/02/新宿.jpg
END:VEVENT
BEGIN:VEVENT
DTSTART;TZID=Asia/Tokyo:20260419T100000
DTEND;TZID=Asia/Tokyo:20260428T210000
DTSTAMP:20260420T125331
CREATED:20260310T014600Z
LAST-MODIFIED:20260418T080852Z
UID:86226-1776592800-1777410000@ilchibrainyoga.com
SUMMARY:【一社】4月28日（火）まで ヨガ⁺ARIRANG気功体験
DESCRIPTION:会場名：イルチブレインヨガ一社スタジオ\n会場住所：愛知県名古屋市名東区一社１丁目７９ 第六名昭ビル ２Ｂ\n参加費：1000円\nトレーナー：八木智美\n持ち物：動きやすい服装\n問合せ電話：052-715-7344 \n\nスタジオLINE：https://lin.ee/orgudle \n\n\n  \n\n\n\n\n	\n	\n	 \n	\n		\n			\n				ご予約内容\n						（必須）\n						\n				 \n			\n			\n				体験レッスンイベント体験レッスン+オーラ撮影オーラ撮影問合せ\n※ 入会予約はこちらからお申し込みください\n				 \n			\n		\n		\n			\n				お名前\n						（必須）\n						\n				 \n			\n			\n				\n				 \n			\n		\n		\n			\n				メールアドレス\n						（必須）\n						\n				 \n			\n			\n				\n※ 携帯電話のメールアドレスをご入力の際は、ドメイン指定の設定をされている場合”＠ilchibrainyoga.com”からのメールを受け取ることができるように設定してください。\n				 \n			\n		\n		\n			\n				お電話番号（携帯可）\n						（必須）\n						\n				 \n			\n			\n				イルチブレインヨガ各店舗からの連絡が可能な番号をご入力ください。\n\n				 \n			\n		\n		\n			\n				ご予約希望日時\n				 \n			\n			\n				ご予約希望日時をお選びください\n【希望日】タイムスケジュールに記載があるクラスからお選びください\n\n				 \n				時間帯を選択してください10時台のクラス14時台のクラス19時台のクラス午前のイベント午後のイベント夜のイベント\n				 \n				※ ご予約状況等によりご希望の日時に添えない場合もございます。その際は事前に調整を行う連絡をさせていただきますので予めご了承ください。\n\n				 \n			\n		\n		\n			\n				こちらのスタジオを何でお知りになりましたか？\n						 （必須）\n						\n				 \n			\n			\n				チラシ看板書籍雑誌紹介Yahoo検索Google検索口コミその他Webサイト\n				 \n			\n		\n		\n			\n				ご関心があること、習得したいこと（複数可）\n				 \n			\n			\n				自然治癒力アップ集中力アップダイエット体質改善ストレス軽減丹田強化呼吸法瞑想法その他（備考欄にご入力ください）\n				 \n			\n		\n		\n			\n				備考欄\n				 \n			\n			\n				\n				 \n			\n		\n	\n	個人情報の取扱い\n		について、同意の上送信します。\n※ ご入力頂いた情報は、株式会社DAHN WORLD JAPANからのご案内をさせて頂く以外の目的では使用致しません。\n		\n	 \n	\n	\n	 \n	※ 送信ボタンを押すとすぐ送信されます。このページで入力内容を確認してください。\n\n自動で完了メールが配信されます。\n	 \nΔ \n\n\n\n株式会社DAHN WORLD JAPAN　ダンワールドジャパン
URL:https://ilchibrainyoga.com/event/issya-29/
LOCATION:イルチブレインヨガ一社スタジオ\, 愛知県名古屋市名東区一社1－79　第六名昭ビル２B\, Japan
CATEGORIES:一社,中部,愛知
ATTACH;FMTTYPE=image/jpeg:https://ilchibrainyoga.com/wp-content/uploads/2026/03/issha-.jpg
END:VEVENT
BEGIN:VEVENT
DTSTART;TZID=Asia/Tokyo:20260419T103000
DTEND;TZID=Asia/Tokyo:20260429T160000
DTSTAMP:20260420T125331
CREATED:20260311T055654Z
LAST-MODIFIED:20260415T064428Z
UID:86452-1776594600-1777478400@ilchibrainyoga.com
SUMMARY:【辻堂】4月19日（日）29日（水・祝）ARIRANG(アリラン)気功と呼吸瞑想
DESCRIPTION:「アリラン（我理朗）」という言葉には、\n「ほんとうの私に気づく喜び」という意味が込められています。 \n我理朗気功は、全１２の動作を通じて、外側に向きがちな意識を自分の内側へと戻し、\n人間が本来持っている「あふれる生命エネルギー」と「満ち足りた静寂」を取り戻すためのトータルケア・メソッドです。 \n激しい運動ではなく、呼吸と緩やかな動きで、日々の緊張から体を解き放ちます。\n外に向けられた意識を内側へと戻し、穏やかな心を取り戻します。\n気功は古来より多くの人々が行ってきた東洋的な健康法。\nゆったりとした動作を通して生命リズムを整えます。 \n \n開催日：\n4月19日（日）14：30～16：00\n4月29日（水・祝）10：30～12：00 \n会場名：イルチブレインヨガ辻堂スタジオ\n会場住所：茅ヶ崎市浜竹2－2－4　ビル２階\n参加費：1000円\nトレーナー：安達美和子\n持ち物：動きやすい服装、タオル、お飲み物\n問合せ電話：0467－39－6170 \n\nスタジオLINEからも申し込み可能です：https://lin.ee/lQKZDfF \n\n\n  \n\n\n\n\n	\n	\n	 \n	\n		\n			\n				ご予約内容\n						（必須）\n						\n				 \n			\n			\n				体験レッスンイベント体験レッスン+オーラ撮影オーラ撮影問合せ\n				 \n				※ 入会予約はこちらからお申し込みください\n				 \n			\n		\n		\n			\n				お名前\n						（必須）\n						\n				 \n			\n			\n				\n				 \n			\n		\n		\n			\n				メールアドレス\n						（必須）\n						\n				 \n			\n			\n				\n※ 携帯電話のメールアドレスをご入力の際は、ドメイン指定の設定をされている場合”＠ilchibrainyoga.com”からのメールを受け取ることができるように設定してください。\n				 \n			\n		\n		\n			\n				お電話番号（携帯可）\n						（必須）\n						\n				 \n			\n			\n				イルチブレインヨガ各店舗からの連絡が可能な番号をご入力ください。\n\n				 \n			\n		\n		\n			\n				ご予約希望日時\n				 \n			\n			\n				ご予約希望日時をお選びください\n【希望日】タイムスケジュールに記載があるクラスからお選びください\n\n時間帯を選択してください10時台のクラス14時台のクラス19時台のクラス午前のイベント午後のイベント夜のイベント\n				 \n				※ ご予約状況等によりご希望の日時に添えない場合もございます。その際は事前に調整を行う連絡をさせていただきますので予めご了承ください。\n\n				 \n			\n		\n		\n			\n				こちらのスタジオを何でお知りになりましたか？\n						 （必須）\n						\n				 \n			\n			\n				チラシ看板書籍雑誌紹介Yahoo検索Google検索口コミその他Webサイト\n				 \n			\n		\n		\n			\n				ご関心があること、習得したいこと（複数可）\n				 \n			\n			\n				自然治癒力アップ集中力アップダイエット体質改善ストレス軽減丹田強化呼吸法瞑想法その他（備考欄にご入力ください）\n				 \n			\n		\n		\n			\n				備考欄\n				 \n			\n			\n				\n				 \n			\n		\n	\n	個人情報の取扱い\n		について、同意の上送信します。\n※ ご入力頂いた情報は、株式会社DAHN WORLD JAPANからのご案内をさせて頂く以外の目的では使用致しません。\n		\n	 \n	\n	\n	 \n	※ 送信ボタンを押すとすぐ送信されます。このページで入力内容を確認してください。\n\n自動で完了メールが配信されます。\n	 \nΔ \n\n\n\n株式会社DAHN WORLD JAPAN　ダンワールドジャパン
URL:https://ilchibrainyoga.com/event/tujido-26/
LOCATION:イルチブレインヨガ辻堂スタジオ\, 神奈川県茅ヶ崎市浜竹 2-2-4 安達ビル2階\, Japan
CATEGORIES:神奈川,辻堂,関東
ATTACH;FMTTYPE=image/png:https://ilchibrainyoga.com/wp-content/uploads/2026/03/気功-2人-新モデル.png
END:VEVENT
BEGIN:VEVENT
DTSTART;TZID=Asia/Tokyo:20260419T140000
DTEND;TZID=Asia/Tokyo:20260428T160000
DTSTAMP:20260420T125331
CREATED:20260412T080959Z
LAST-MODIFIED:20260412T080959Z
UID:88659-1776607200-1777392000@ilchibrainyoga.com
SUMMARY:【上大岡】  4月19日（日）28日（火） ARIRANG気功体験会
DESCRIPTION:シンプルな動きによって、呼吸や体のバランスが整うアリラン気功を体験してみませんか？\nストレスも多く、忙しい日々、外側に引っ張られていた意識を、気功を通して今ここに戻していく時、\n心も穏やかになり、自分の中で休む感覚が生まれます。体も心も乱れやすい春にぴったりです！ \n開催日：\n4月19日（日）28日（火）14：00～16：00 \n会場名：イルチブレインヨガ上大岡スタジオ\n会場住所：横浜市港南区上大岡西3－1－11 サンシャインビル４F\n参加費：1500円\nトレーナー：福田由香子\n持ち物：動きやすい服装、飲み物、タオル\n問合せ電話：045－842-8480 \n\nLINEからのお申し込みはこちら⇒https://lin.ee/uCH13Gu \n\n\n  \n\n\n\n\n	\n	\n	 \n	\n		\n			\n				ご予約内容\n						（必須）\n						\n				 \n			\n			\n				体験レッスンイベント体験レッスン+オーラ撮影オーラ撮影問合せ\n　※ 入会予約はこちらからお申し込みください\n				 \n			\n		\n		\n			\n				お名前\n						（必須）\n						\n				 \n			\n			\n				\n				 \n			\n		\n		\n			\n				メールアドレス\n						（必須）\n						\n				 \n			\n			\n				\n※ 携帯電話のメールアドレスをご入力の際は、ドメイン指定の設定をされている場合”＠ilchibrainyoga.com”からのメールを受け取ることができるように設定してください。\n				 \n			\n		\n		\n			\n				お電話番号（携帯可）\n						（必須）\n						\n				 \n			\n			\n				イルチブレインヨガ各店舗からの連絡が可能な番号をご入力ください。\n\n				 \n			\n		\n		\n			\n				ご予約希望日時\n				 \n			\n			\n				ご予約希望日時をお選びください\n【希望日】タイムスケジュールに記載があるクラスからお選びください\n\n時間帯を選択してください10時台のクラス14時台のクラス19時台のクラス午前のイベント午後のイベント夜のイベント\n				 \n				※ ご予約状況等によりご希望の日時に添えない場合もございます。その際は事前に調整を行う連絡をさせていただきますので予めご了承ください。\n\n				 \n			\n		\n		\n			\n				こちらのスタジオを何でお知りになりましたか？\n						 （必須）\n						\n				 \n			\n			\n				チラシ看板書籍雑誌紹介Yahoo検索Google検索口コミその他Webサイト\n				 \n			\n		\n		\n			\n				ご関心があること、習得したいこと（複数可）\n				 \n			\n			\n				自然治癒力アップ集中力アップダイエット体質改善ストレス軽減丹田強化呼吸法瞑想法その他（備考欄にご入力ください）\n				 \n			\n		\n		\n			\n				備考欄\n				 \n			\n			\n				\n				 \n			\n		\n	\n	個人情報の取扱い\n		について、同意の上送信します。\n※ ご入力頂いた情報は、株式会社DAHN WORLD JAPANからのご案内をさせて頂く以外の目的では使用致しません。\n		\n	 \n	\n	\n	 \n	※ 送信ボタンを押すとすぐ送信されます。このページで入力内容を確認してください。\n\n自動で完了メールが配信されます。\n	 \nΔ \n\n\n\n株式会社DAHN WORLD JAPAN　ダンワールドジャパン
URL:https://ilchibrainyoga.com/event/kamiooka-10/
LOCATION:イルチブレインヨガ上大岡スタジオ\, 神奈川県横浜市港南区上大岡西3-1-11 サンシャインビル 4F\, Japan
CATEGORIES:上大岡,神奈川,関東
ATTACH;FMTTYPE=image/jpeg:https://ilchibrainyoga.com/wp-content/uploads/2026/03/気功２.jpg
END:VEVENT
BEGIN:VEVENT
DTSTART;TZID=Asia/Tokyo:20260419T150000
DTEND;TZID=Asia/Tokyo:20260427T163000
DTSTAMP:20260420T125331
CREATED:20260311T074724Z
LAST-MODIFIED:20260415T064700Z
UID:86461-1776610800-1777307400@ilchibrainyoga.com
SUMMARY:【広島】4月　「3つの体・7つのチャクラ体験会✨」〜ARIRANG気功・呼吸瞑想〜
DESCRIPTION:このワークショップでは3つの身体、7つのチャクラをわかりやすくお伝えし、本来の自分を取り戻す時間を作ります♪ \n日時・場所：\n②4月19日(日)   15:00〜16:30\n宇品集会所  2階ホール\n(広島市南区宇品御幸2-6-42)\n③4月21日(火)   15:00〜16:30\nコジマホールディングス\n西区民文化センター  3階和室\n(広島市西区横川新町6-1)\n④4月25日(土)  15:00〜16:30\n吉島集会所  1階ホール\n(広島市中区吉島西3-2-10)\n⑤4月27日(月)  15:00〜16:30\n白島集会所  2階和室\n(広島市中区西白島9-17) \n参加費：1\,500円\nトレーナー：柳　寅善（リュ　インソン）\n持ち物：動きやすい服装、タオル、マスク（必要な方）\n問合せ電話：082-249-1637（イルチブレインヨガ  広島スタジオ） \n\nLINEからのお申し込みはこちら⇒https://lin.ee/sqfZmdE \n\n\n  \n\n\n\n\n	\n	\n	 \n	\n		\n			\n				ご予約内容\n						（必須）\n						\n				 \n			\n			\n				体験レッスンイベント体験レッスン+オーラ撮影オーラ撮影問合せ\n				 \n				※ 入会予約はこちらからお申し込みください\n				 \n			\n		\n		\n			\n				お名前\n						（必須）\n						\n				 \n			\n			\n				\n				 \n			\n		\n		\n			\n				メールアドレス\n						（必須）\n						\n				 \n			\n			\n				\n※ 携帯電話のメールアドレスをご入力の際は、ドメイン指定の設定をされている場合”＠ilchibrainyoga.com”からのメールを受け取ることができるように設定してください。\n				 \n			\n		\n		\n			\n				お電話番号（携帯可）\n						（必須）\n						\n				 \n			\n			\n				イルチブレインヨガ各店舗からの連絡が可能な番号をご入力ください。\n\n				 \n			\n		\n		\n			\n				ご予約希望日時\n				 \n			\n			\n				ご予約希望日時をお選びください\n【希望日】タイムスケジュールに記載があるクラスからお選びください\n\n時間帯を選択してください10時台のクラス14時台のクラス19時台のクラス20時台のクラス午前のイベント午後のイベント夜のイベント\n				 \n				※ ご予約状況等によりご希望の日時に添えない場合もございます。その際は事前に調整を行う連絡をさせていただきますので予めご了承ください。\n\n				 \n			\n		\n		\n			\n				こちらのスタジオを何でお知りになりましたか？\n						 （必須）\n						\n				 \n			\n			\n				チラシ看板書籍雑誌紹介Yahoo検索Google検索口コミその他Webサイト\n				 \n			\n		\n		\n			\n				ご関心があること、習得したいこと（複数可）\n				 \n			\n			\n				自然治癒力アップ集中力アップダイエット体質改善ストレス軽減丹田強化呼吸法瞑想法その他（備考欄にご入力ください）\n				 \n			\n		\n		\n			\n				備考欄\n				 \n			\n			\n				\n				 \n			\n		\n	\n	個人情報の取扱い\n		について、同意の上送信します。\n※ ご入力頂いた情報は、株式会社DAHN WORLD JAPANからのご案内をさせて頂く以外の目的では使用致しません。\n		\n	 \n	\n	\n	 \n	※ 送信ボタンを押すとすぐ送信されます。このページで入力内容を確認してください。\n\n自動で完了メールが配信されます。\n	 \nΔ \n\n\n\n株式会社DAHN WORLD JAPAN　ダンワールドジャパン
URL:https://ilchibrainyoga.com/event/hiroshima-12/
CATEGORIES:中国・四国,広島,広島
ATTACH;FMTTYPE=image/jpeg:https://ilchibrainyoga.com/wp-content/uploads/2026/03/広島.jpg
END:VEVENT
BEGIN:VEVENT
DTSTART;TZID=Asia/Tokyo:20260421T133000
DTEND;TZID=Asia/Tokyo:20260429T140000
DTSTAMP:20260420T125331
CREATED:20260311T052509Z
LAST-MODIFIED:20260418T080942Z
UID:86442-1776778200-1777471200@ilchibrainyoga.com
SUMMARY:【下曽根】アリラン気功体験会～エネルギーを充電〜
DESCRIPTION:どなたでもお気軽に、初めてでも大丈夫です。\n誰でも簡単にできる動作でゆっくりした呼吸、エネルギーの循環を感じてみましょう。\n心身共に充電できる気功です。\n気になる方はぜひご参加ください。 \n・気功って何？\n・気を感じてみたい！\n・体が硬い\n・体を整えたい \n📍 会場\nイルチブレインヨガ下曽根スタジオ\n（北九州市小倉南区田原3-1-18 102）\n日程：火曜水曜土曜\n時間：13時30分～（30分）\n参加費：500円\n準備するもの：動きやすい服装、飲物\n問合せ電話：090-1921-3350 \n\nLINEからのお申し込みはこちら⇒https://lin.ee/dN980St \n\n\n  \n\n\n\n\n	\n	\n	 \n	\n		\n			\n				ご予約内容\n						（必須）\n						\n				 \n			\n			\n				体験レッスンイベント体験レッスン+オーラ撮影オーラ撮影問合せ\n※ 入会予約はこちらからお申し込みください\n				 \n			\n		\n		\n			\n				お名前\n						（必須）\n						\n				 \n			\n			\n				\n				 \n			\n		\n		\n			\n				メールアドレス\n						（必須）\n						\n				 \n			\n			\n				\n※ 携帯電話のメールアドレスをご入力の際は、ドメイン指定の設定をされている場合”＠ilchibrainyoga.com”からのメールを受け取ることができるように設定してください。\n				 \n			\n		\n		\n			\n				お電話番号（携帯可）\n						（必須）\n						\n				 \n			\n			\n				イルチブレインヨガ各店舗からの連絡が可能な番号をご入力ください。\n\n				 \n			\n		\n		\n			\n				ご予約希望日時\n				 \n			\n			\n				ご予約希望日時をお選びください\n【希望日】タイムスケジュールに記載があるクラスからお選びください\n\n時間帯を選択してください10時台のクラス19時台のクラスこどもクラス午前のイベント午後のイベント夜のイベント\n				 \n				※ ご予約状況等によりご希望の日時に添えない場合もございます。その際は事前に調整を行う連絡をさせていただきますので予めご了承ください。\n\n				 \n			\n		\n		\n			\n				こちらのスタジオを何でお知りになりましたか？\n						 （必須）\n						\n				 \n			\n			\n				チラシ看板書籍雑誌紹介Yahoo検索Google検索口コミその他Webサイト\n				 \n			\n		\n		\n			\n				ご関心があること、習得したいこと（複数可）\n				 \n			\n			\n				自然治癒力アップ集中力アップダイエット体質改善ストレス軽減丹田強化呼吸法瞑想法その他（備考欄にご入力ください）\n				 \n			\n		\n		\n			\n				備考欄\n				 \n			\n			\n				\n				 \n			\n		\n	\n	個人情報の取扱い\n		について、同意の上送信します。\n※ ご入力頂いた情報は、株式会社DAHN WORLD JAPANからのご案内をさせて頂く以外の目的では使用致しません。\n		\n	 \n	\n	\n	 \n	※ 送信ボタンを押すとすぐ送信されます。このページで入力内容を確認してください。\n\n自動で完了メールが配信されます。\n	 \nΔ \n\n\n\n株式会社DAHN WORLD JAPAN　ダンワールドジャパン
URL:https://ilchibrainyoga.com/event/shimosone-18/
LOCATION:イルチブレインヨガ下曽根スタジオ\, 福岡県北九州市小倉南区田原 3丁目1-18 ルポ田原24 102\, Japan
CATEGORIES:下曽根,九州,福岡
ATTACH;FMTTYPE=image/jpeg:https://ilchibrainyoga.com/wp-content/uploads/2026/03/気功２.jpg
END:VEVENT
BEGIN:VEVENT
DTSTART;TZID=Asia/Tokyo:20260422T123000
DTEND;TZID=Asia/Tokyo:20260429T134000
DTSTAMP:20260420T125331
CREATED:20260407T050925Z
LAST-MODIFIED:20260415T064608Z
UID:88382-1776861000-1777470000@ilchibrainyoga.com
SUMMARY:【膳所】4/22（水）29(水)ARIRANG（アリラン）気功・瞑想体験会
DESCRIPTION:最近こんなことありませんか？\n・体が疲れやすい\n・呼吸が浅い\n・体を整えたい\n・気持ちをスッキリさせたい \nそんな方におすすめの\nアリラン気功体験会を開催します。 \nARIRANG（アリラン）気功は\n簡単な動き・呼吸を通して\n体・心・エネルギーを整える新しい気功トレーニングです。 \n運動が苦手な方でもできる\nやさしいトレーニングなので\n初心者の方も安心してご参加いただけます。 \n「気功ってどんな感じ？」\nという方もぜひ体験してみてください \n開催日時：\n4/22（水）29(水)\n12:30～13:40\n定員4名 要予約です★\n会場名：イルチブレインヨガ膳所スタジオ\n会場住所：大津市膳所2-1-8\n参加費：1000円\nご予約・お問い合わせ： 077-524-9050 \n\nLINEからのお申し込みはこちら⇒https://lin.ee/0mJI7FRS \n\n\n  \n\n\n\n\n	\n	\n	 \n	\n		\n			\n				ご予約内容\n						（必須）\n						\n				 \n			\n			\n				体験レッスンイベント体験レッスン+オーラ撮影オーラ撮影問合せ\n※ 入会予約はこちらからお申し込みください\n				 \n			\n		\n		\n			\n				お名前\n						（必須）\n						\n				 \n			\n			\n				\n				 \n			\n		\n		\n			\n				メールアドレス\n						（必須）\n						\n				 \n			\n			\n				\n※ 携帯電話のメールアドレスをご入力の際は、ドメイン指定の設定をされている場合”＠ilchibrainyoga.com”からのメールを受け取ることができるように設定してください。\n				 \n			\n		\n		\n			\n				お電話番号（携帯可）\n						（必須）\n						\n				 \n			\n			\n				イルチブレインヨガ各店舗からの連絡が可能な番号をご入力ください。\n\n				 \n			\n		\n		\n			\n				ご予約希望日時\n				 \n			\n			\n				ご予約希望日時をお選びください\n【希望日】タイムスケジュールに記載があるクラスからお選びください\n\n時間帯を選択してください10時台のクラス14時台のクラス19時台のクラス午前のイベント午後のイベント夜のイベント\n				 \n				※ ご予約状況等によりご希望の日時に添えない場合もございます。その際は事前に調整を行う連絡をさせていただきますので予めご了承ください。\n\n				 \n			\n		\n		\n			\n				こちらのスタジオを何でお知りになりましたか？\n						 （必須）\n						\n				 \n			\n			\n				チラシ看板書籍雑誌紹介Yahoo検索Google検索口コミその他Webサイト\n				 \n			\n		\n		\n			\n				ご関心があること、習得したいこと（複数可）\n				 \n			\n			\n				自然治癒力アップ集中力アップダイエット体質改善ストレス軽減丹田強化呼吸法瞑想法その他（備考欄にご入力ください）\n				 \n			\n		\n		\n			\n				備考欄\n				 \n			\n			\n				\n				 \n			\n		\n	\n	個人情報の取扱い\n		について、同意の上送信します。\n※ ご入力頂いた情報は、株式会社DAHN WORLD JAPANからのご案内をさせて頂く以外の目的では使用致しません。\n		\n	 \n	\n	\n	 \n	※ 送信ボタンを押すとすぐ送信されます。このページで入力内容を確認してください。\n\n自動で完了メールが配信されます。\n	 \nΔ \n\n\n\n株式会社ダンワールドジャパン
URL:https://ilchibrainyoga.com/event/zeze-22/
LOCATION:イルチブレインヨガ膳所スタジオ\, 膳所２丁目１−８\, 大津市\, 滋賀県\, 日本
CATEGORIES:滋賀,膳所,関西
ATTACH;FMTTYPE=image/jpeg:https://ilchibrainyoga.com/wp-content/uploads/2026/03/ok_20240114JP-広報用写真撮影_DSC0401-scaled.jpg
END:VEVENT
BEGIN:VEVENT
DTSTART;TZID=Asia/Tokyo:20260422T190000
DTEND;TZID=Asia/Tokyo:20260429T210000
DTSTAMP:20260420T125331
CREATED:20260314T013846Z
LAST-MODIFIED:20260415T064622Z
UID:86668-1776884400-1777496400@ilchibrainyoga.com
SUMMARY:【修学院】4月22日（水）29日（水）　我理朗（アリラン）ARIRANG 気功 体験会
DESCRIPTION:我理朗気功の効果・我理朗気功トレーニング\nゆったりとした動作と呼吸で体と心のエネルギーを整えましょう。\n初心者の方でも安心して体験できます。 \n開催日：4月22日（水）29日（水）\n時間：：19:00～21：00\n会場名：イルチブレインヨガ修学院スタジオ\n会場住所：京都市左京区修学院大林町5-3　堀亀ビル3階\n参加費：2000円\nトレーナー：吉浦あゆ美\n持ち物：動きやすい服装、タオル、飲み物\n問合せ電話：075-724-4341 \n\nLINEからのお申し込みはこちら⇒https://lin.ee/d7i5aHh \n\n\n  \n\n\n\n\n	\n	\n	 \n	\n		\n			\n				ご予約内容\n						（必須）\n						\n				 \n			\n			\n				体験レッスンイベント体験レッスン+オーラ撮影オーラ撮影問合せ\n※ 入会予約はこちらからお申し込みください\n				 \n			\n		\n		\n			\n				お名前\n						（必須）\n						\n				 \n			\n			\n				\n				 \n			\n		\n		\n			\n				メールアドレス\n						（必須）\n						\n				 \n			\n			\n				\n※ 携帯電話のメールアドレスをご入力の際は、ドメイン指定の設定をされている場合”＠ilchibrainyoga.com”からのメールを受け取ることができるように設定してください。\n				 \n			\n		\n		\n			\n				お電話番号（携帯可）\n						（必須）\n						\n				 \n			\n			\n				イルチブレインヨガ各店舗からの連絡が可能な番号をご入力ください。\n\n				 \n			\n		\n		\n			\n				ご予約希望日時\n				 \n			\n			\n				ご予約希望日時をお選びください\n【希望日】タイムスケジュールに記載があるクラスからお選びください\n\n時間帯を選択してください10時台のクラス14時台のクラス19時台のクラス午前のイベント午後のイベント夜のイベント\n				 \n				※ ご予約状況等によりご希望の日時に添えない場合もございます。その際は事前に調整を行う連絡をさせていただきますので予めご了承ください。\n\n				 \n			\n		\n		\n			\n				こちらのスタジオを何でお知りになりましたか？\n						 （必須）\n						\n				 \n			\n			\n				チラシ看板書籍雑誌紹介Yahoo検索Google検索口コミその他Webサイト\n				 \n			\n		\n		\n			\n				ご関心があること、習得したいこと（複数可）\n				 \n			\n			\n				自然治癒力アップ集中力アップダイエット体質改善ストレス軽減丹田強化呼吸法瞑想法その他（備考欄にご入力ください）\n				 \n			\n		\n		\n			\n				備考欄\n				 \n			\n			\n				\n				 \n			\n		\n	\n	個人情報の取扱い\n		について、同意の上送信します。\n※ ご入力頂いた情報は、株式会社DAHN WORLD JAPANからのご案内をさせて頂く以外の目的では使用致しません。\n		\n	 \n	\n	\n	 \n	※ 送信ボタンを押すとすぐ送信されます。このページで入力内容を確認してください。\n\n自動で完了メールが配信されます。\n	 \nΔ \n\n\n\n株式会社DAHN WORLD JAPAN　ダンワールドジャパン
URL:https://ilchibrainyoga.com/event/shugakuin-19/
LOCATION:イルチブレインヨガ修学院スタジオ\, 左京区修学院大林町5-3　堀亀ビル3階\, 京都市\, 京都府\, 606-8081\, Japan
CATEGORIES:京都,修学院,関西
ATTACH;FMTTYPE=image/jpeg:https://ilchibrainyoga.com/wp-content/uploads/2026/03/ok_20240114JP-広報用写真撮影_DSC0401-scaled.jpg
END:VEVENT
BEGIN:VEVENT
DTSTART;TZID=Asia/Tokyo:20260424T013000
DTEND;TZID=Asia/Tokyo:20260429T083000
DTSTAMP:20260420T125331
CREATED:20260407T055145Z
LAST-MODIFIED:20260414T071151Z
UID:88393-1776994200-1777451400@ilchibrainyoga.com
SUMMARY:【吉祥寺】4月24日(金)  29日(水) 心身をリセット！「本当の自分」に出会うアリラン気功体験会
DESCRIPTION:「アリラン」の本当の意味をご存知ですか？ \nそれは、単なる歌の名前ではなく、**「真の自分　我(あ)、理(り) 知る・探す、悟る、朗（らん）喜び」**という、自分自身と深く出会う喜びを意味しています。\n日々の忙しさで置き去りにしていた「本当の自分」を感じ、心と体の土台を整えてみませんか？ \n✓こんなお悩みはありませんか？\n• 疲れが抜けにくく、気力が続かない\n• 感情の波があり、なんとなく心が不安定\n• 考えごとが多くて、いつも頭が重い感じがする \n✓体験会の3つのポイント\n1. お腹を温め、腸をほぐす\n内臓からじんわり温めることで、全身の巡りをスムーズにします。\n2. 下半身の強化（第1・第2チャクラ）\n生命力の源を活性化。 \nどっしりとした安心感と「ぶれない自分」を養います。\n3. 深いマインドフルネス体験\n「地に足のついた感覚」を取り戻し、思考をスッキリとリセット。 \n足元が安定すると、心は驚くほど軽くなります。\n初心者の方でもゆったりとご参加いただけるプログラムです。 \n📅 開催日程\n• 4月24日(金) 13:30～15:30\n• 4月29日(水) 18:30～20:30\n※上記以外の日時をご希望の場合も、お気軽にご相談ください！ \n📍 参加費\n1\,000円\n📍 会場・アクセス\nイルチブレインヨガ吉祥寺スタジオ\n住所：武蔵野市吉祥寺北町1-1-18 ジェイスタジオビルディング2階\n（吉祥寺駅北口から徒歩10分） \n📝 概要\n• トレーナー： 片岡 史江\n• 持ち物： 動きやすい服装、お水 \n✉️ お申し込み・お問い合わせ☎ 0422-26-5300（9:00〜21:00 / 月曜定休）\n\nLINEからも申し込み可能：https://lin.ee/6Csjn1F \n\n\n  \n\n\n\n\n	\n	\n	 \n	\n		\n			\n				ご予約内容\n						（必須）\n						\n				 \n			\n			\n				体験レッスンイベント体験レッスン+オーラ撮影オーラ撮影問合せ\n				 \n				※ 入会予約はこちらからお申し込みください\n				 \n			\n		\n		\n			\n				お名前\n						（必須）\n						\n				 \n			\n			\n				\n				 \n			\n		\n		\n			\n				メールアドレス\n						（必須）\n						\n				 \n			\n			\n				\n※ 携帯電話のメールアドレスをご入力の際は、ドメイン指定の設定をされている場合”＠ilchibrainyoga.com”からのメールを受け取ることができるように設定してください。\n				 \n			\n		\n		\n			\n				お電話番号（携帯可）\n						（必須）\n						\n				 \n			\n			\n				イルチブレインヨガ各店舗からの連絡が可能な番号をご入力ください。\n\n				 \n			\n		\n		\n			\n				ご予約希望日時\n				 \n			\n			\n				ご予約希望日時をお選びください\n【希望日】タイムスケジュールに記載があるクラスからお選びください\n\n時間帯を選択してください10時台のクラス14時台のクラス19時台のクラス午前のイベント午後のイベント夜のイベント\n				 \n				※ ご予約状況等によりご希望の日時に添えない場合もございます。その際は事前に調整を行う連絡をさせていただきますので予めご了承ください。\n\n				 \n			\n		\n		\n			\n				こちらのスタジオを何でお知りになりましたか？\n						 （必須）\n						\n				 \n			\n			\n				チラシ看板書籍雑誌紹介Yahoo検索Google検索口コミその他Webサイト\n				 \n			\n		\n		\n			\n				ご関心があること、習得したいこと（複数可）\n				 \n			\n			\n				自然治癒力アップ集中力アップダイエット体質改善ストレス軽減丹田強化呼吸法瞑想法その他（備考欄にご入力ください）\n				 \n			\n		\n		\n			\n				備考欄\n				 \n			\n			\n				\n				 \n			\n		\n	\n	個人情報の取扱い\n		について、同意の上送信します。\n※ ご入力頂いた情報は、株式会社DAHN WORLD JAPANからのご案内をさせて頂く以外の目的では使用致しません。\n		\n	 \n	\n	\n	 \n	※ 送信ボタンを押すとすぐ送信されます。このページで入力内容を確認してください。\n\n自動で完了メールが配信されます。\n	 \nΔ \n\n\n\n株式会社DAHN WORLD JAPAN　ダンワールドジャパン
URL:https://ilchibrainyoga.com/event/kichijyoji-22/
LOCATION:イルチブレインヨガ吉祥寺スタジオ\, 東京都武蔵野市吉祥寺北町1-1-18　J Studio Bldg.2F\, 0422-49-2781
CATEGORIES:吉祥寺,東京,関東
ATTACH;FMTTYPE=image/jpeg:https://ilchibrainyoga.com/wp-content/uploads/2026/03/気功２.jpg
END:VEVENT
BEGIN:VEVENT
DTSTART;TZID=Asia/Tokyo:20260425T191500
DTEND;TZID=Asia/Tokyo:20260427T204500
DTSTAMP:20260420T125331
CREATED:20260403T073719Z
LAST-MODIFIED:20260403T075430Z
UID:88274-1777144500-1777322700@ilchibrainyoga.com
SUMMARY:【全スタジオ】3ボディ 7チャクラ 特別トレーニング ～気功　エネルギーの流れを感じ、コントロールする方法を学ぶトレーニング～
DESCRIPTION:私たちの心と体を整え、\nブレインフォンを目覚めさせる\nとても貴重な時間を\nご用意いたしました。 \n３つのボディ\n７つのチャクラ\nを目覚めさせ、エネルギーの流れを感じ、\nコントロールする方法を学ぶトレーニングです。 \n日時：4月25日（ 土）19:15~20:45\n場所：各スタジオ（スタジオ内でオンライン参加）\n参加費：無料 \nぜひお近くのスタジオでご体験ください！ \n\n\n  \n\n\n\n\n	\n		\n			ご希望の店舗\n				（必須）\n				\n			 \n		\n		\n			▼都道府県を選択してください北海道福島県東京都神奈川県千葉県埼玉県静岡県愛知県岐阜県奈良県京都府滋賀県大阪府兵庫県岡山県香川県広島県福岡県\n			 \n			\n				▼スタジオ・教室を選択してください\n—以下から選択してください—札幌スタジオ\n				 \n			\n			\n				▼スタジオ・教室を選択してください\n—以下から選択してください—いわき教室\n				 \n			\n			\n				▼スタジオ・教室を選択してください\n—以下から選択してください—新宿四谷スタジオ池袋スタジオ成増スタジオ吉祥寺スタジオ中野スタジオ八王子教室錦糸町スタジオ銀座スタジオ町田スタジオ\n				 \n			\n			\n				▼スタジオ・教室を選択してください\n—以下から選択してください—横浜スタジオ上大岡スタジオ辻堂スタジオ横須賀スタジオ\n				 \n			\n			\n				▼スタジオ・教室を選択してください\n—以下から選択してください—所沢スタジオ大宮スタジオ\n				 \n			\n			\n				▼スタジオ・教室を選択してください\n—以下から選択してください—船橋スタジオ松戸スタジオ\n				 \n			\n			\n				▼スタジオ・教室を選択してください\n—以下から選択してください—静岡スタジオ\n				 \n			\n			\n				▼スタジオ・教室を選択してください\n—以下から選択してください—名古屋スタジオ金山スタジオ一社スタジオ八事スタジオ新瑞橋教室豊田スタジオ名古屋楠教室岡崎スタジオ\n				 \n			\n			\n				▼スタジオ・教室を選択してください\n—以下から選択してください—岐阜スタジオ\n				 \n			\n			\n				▼スタジオ・教室を選択してください\n—以下から選択してください—奈良スタジオ星和台スタジオ橿原スタジオ生駒スタジオ吉野教室\n				 \n			\n			\n				▼スタジオ・教室を選択してください\n—以下から選択してください—京都四条烏丸スタジオ修学院スタジオ伏見スタジオ\n				 \n			\n			\n				▼スタジオ・教室を選択してください\n—以下から選択してください—膳所スタジオ\n				 \n			\n			\n				▼スタジオ・教室を選択してください\n—以下から選択してください—梅田スタジオ堺東スタジオ枚方スタジオ寝屋川スタジオ石橋スタジオ京橋スタジオ\n				 \n			\n			\n				▼スタジオ・教室を選択してください\n—以下から選択してください—明石スタジオ姫路スタジオゆもと教室宝塚スタジオ西宮スタジオ甲子園口教室御影スタジオ垂水スタジオ神戸新長田スタジオ六甲道スタジオはりま大津教室\n				 \n			\n			\n				▼スタジオ・教室を選択してください\n—以下から選択してください—岡山スタジオ\n				 \n			\n			\n				▼スタジオ・教室を選択してください\n—以下から選択してください—高松教室\n				 \n			\n			\n				▼スタジオ・教室を選択してください\n—以下から選択してください—広島スタジオ矢賀スタジオ\n				 \n			\n			\n				▼スタジオ・教室を選択してください\n—以下から選択してください—天神スタジオ高須スタジオ小倉スタジオ下曽根スタジオ\n				 \n			\n		\n		\n			\n				お名前\n					（必須）\n					\n				 \n			\n			\n				\n				 \n			\n		\n		\n			\n				お電話番号\n					（必須）\n					\n				 \n			\n			\n				店舗からの連絡が可能な番号をご入力ください\n				 \n			\n		\n		\n			\n				メールアドレス\n					（必須）\n					\n				 \n			\n			\n				\n※ 携帯電話のメールアドレスをご記入の際は、ドメイン指定の設定をされている場合”＠ilchibrainyoga.com”からメールを受け取ることができるように設定してください。\n				 \n			\n		\n		\n			\n				こちらのイベントを何でお知りになりましたか？\n						 （必須）\n						\n				 \n			\n			\n				チラシ看板紹介Yahoo検索Google検索口コミInstagramその他Webサイト\n				 \n			\n		\n		\n			\n				ご関心があること、習得したいこと（複数可）\n				 \n			\n			\n				健康増進ストレスケア呼吸法瞑想法チャクラ気功エネルギー感情コントロールその他（備考欄にご入力ください）\n				 \n			\n		\n		\n			\n				備考欄\n				 \n			\n			\n				\n				 \n			\n		\n		\n			\n				個人情報の取り扱いについて\n					（必須）\n					\n				 \n			\n			\n				個人情報の取扱について同意します\nご入力頂いた情報は、株式会社DAHN WORLD JAPANからのご案内をさせて頂く以外の目的では使用致しません。\n				 \n			\n		\n	\n	\n		※ 送信ボタンを押すとすぐ送信されます。このページで入力内容を確認してください。\n		 \n		\n		 \n		自動で完了メールが配信されます。\n		 \n	\nΔ \n\n\n\n株式会社DAHN WORLD JAPAN　ダンワールドジャパン
URL:https://ilchibrainyoga.com/event/3body7chakra/
CATEGORIES:いわき,はりま大津,ゆもと,一社,上大岡,下曽根,中野,京橋,京都四条烏丸,伏見,修学院,八事,八王子,六甲道,吉祥寺,吉野,名古屋,名古屋楠,垂水,堺東,大宮,天神,奈良,姫路,宝塚,寝屋川,小倉,岡山,岡崎,広島,御影,成増,所沢,新宿,新瑞橋,明石,星和台,札幌,松戸,枚方,梅田,横浜,横須賀,橿原,池袋,生駒,甲子園口,町田,矢賀,石橋,神戸新長田,膳所,船橋,藤沢,西宮,豊田,辻堂,金山,銀座,錦糸町,静岡,高須
ATTACH;FMTTYPE=image/jpeg:https://ilchibrainyoga.com/wp-content/uploads/2026/04/スクリーンショット-2026-04-03-164126.jpg
END:VEVENT
END:VCALENDAR