BEGIN:VCALENDAR
VERSION:2.0
PRODID:-//イルチブレインヨガ公式サイト - ECPv6.15.16//NONSGML v1.0//EN
CALSCALE:GREGORIAN
METHOD:PUBLISH
X-ORIGINAL-URL:https://ilchibrainyoga.com
X-WR-CALDESC:イルチブレインヨガ公式サイト のイベント
REFRESH-INTERVAL;VALUE=DURATION:PT1H
X-Robots-Tag:noindex
X-PUBLISHED-TTL:PT1H
BEGIN:VTIMEZONE
TZID:Asia/Tokyo
BEGIN:STANDARD
TZOFFSETFROM:+0900
TZOFFSETTO:+0900
TZNAME:JST
DTSTART:20250101T000000
END:STANDARD
END:VTIMEZONE
BEGIN:VEVENT
DTSTART;TZID=Asia/Tokyo:20260411T100000
DTEND;TZID=Asia/Tokyo:20260411T120000
DTSTAMP:20260422T071005
CREATED:20260327T045535Z
LAST-MODIFIED:20260327T045535Z
UID:87916-1775901600-1775908800@ilchibrainyoga.com
SUMMARY:【札幌】～アリランARIRANG気功ワークショップ～
DESCRIPTION:簡単な動きで自分自身と向き合い、自分を感じていきます。\n本来備わっている生命のリズムを目覚めさせ、\n呼吸・意識・やさしい誘導を通して、心身の状態を整えていきます。 \n・疲れが抜けにくい\n・気持ちが落ち着かない\n・頭が休まらない \nそんな日常的な不調を感じている方におすすめです。\n初めての方も安心して参加できます。 \n開催日：4月11日（土）\n時間：10:00～12:00受付9:40～9:50\n会場名：札幌市生涯学習センター　ちえりあ\n会場住所：札幌市西区宮の沢1条1丁目1-10（地下鉄宮の沢駅直結）\n参加費：1\,500円 LINE登録で500円引\nトレーナー：馬場明美\n持ち物：動きやすい服装、タオル、お飲み物\n問合せ電話：011-222-2995 \n\nLINEからのお申し込みはこちら⇒https://lin.ee/2W4m69Q \n\n\n  \n\n\n\n\n	\n	\n	 \n	\n		\n			\n				ご予約内容\n						（必須）\n						\n				 \n			\n			\n				体験レッスンイベント体験レッスン + オーラ撮影オーラ撮影問合せ\n　※ 入会予約はこちらからお申し込みください\n				 \n			\n		\n		\n			\n				お名前\n						（必須）\n						\n				 \n			\n			\n				\n				 \n			\n		\n		\n			\n				メールアドレス\n						（必須）\n						\n				 \n			\n			\n				\n※ 携帯電話のメールアドレスをご入力の際は、ドメイン指定の設定をされている場合”＠ilchibrainyoga.com”からのメールを受け取ることができるように設定してください。\n				 \n			\n		\n		\n			\n				お電話番号（携帯可）\n						（必須）\n						\n				 \n			\n			\n				イルチブレインヨガ各店舗からの連絡が可能な番号をご入力ください。\n\n				 \n			\n		\n		\n			\n				ご予約希望日時\n				 \n			\n			\n				ご予約希望日時をお選びください\n【希望日】タイムスケジュールに記載があるクラスからお選びください\n\n時間帯を選択してください10時台のクラス14時台のクラス18時台のクラス午前のイベント午後のイベント夜のイベント\n				 \n				※ ご予約状況等によりご希望の日時に添えない場合もございます。その際は事前に調整を行う連絡をさせていただきますので予めご了承ください。\n\n				 \n			\n		\n		\n			\n				こちらのスタジオを何でお知りになりましたか？\n						 （必須）\n						\n				 \n			\n			\n				チラシ看板書籍雑誌紹介Yahoo検索Google検索口コミその他Webサイト\n				 \n			\n		\n		\n			\n				ご関心があること、習得したいこと（複数可）\n				 \n			\n			\n				自然治癒力アップ集中力アップダイエット体質改善ストレス軽減丹田強化呼吸法瞑想法その他（備考欄にご入力ください）\n				 \n			\n		\n		\n			\n				備考欄\n				 \n			\n			\n				\n				 \n			\n		\n	\n	個人情報の取扱い\n		について、同意の上送信します。\n※ ご入力頂いた情報は、株式会社DAHN WORLD JAPANからのご案内をさせて頂く以外の目的では使用致しません。\n		\n	 \n	\n	\n	 \n	※ 送信ボタンを押すとすぐ送信されます。このページで入力内容を確認してください。\n\n自動で完了メールが配信されます。\n	 \nΔ \n\n\n\n株式会社DAHN WORLD JAPAN　ダンワールドジャパン
URL:https://ilchibrainyoga.com/event/sapporo-23/
LOCATION:札幌市生涯学習センター　ちえりあ\, 札幌市西区宮の沢1条1丁目1-10
CATEGORIES:北海道,北海道・東北,札幌
ATTACH;FMTTYPE=image/png:https://ilchibrainyoga.com/wp-content/uploads/2026/03/２-1.png
END:VEVENT
BEGIN:VEVENT
DTSTART;TZID=Asia/Tokyo:20260411T130000
DTEND;TZID=Asia/Tokyo:20260411T134000
DTSTAMP:20260422T071005
CREATED:20260308T052149Z
LAST-MODIFIED:20260404T074906Z
UID:86162-1775912400-1775914800@ilchibrainyoga.com
SUMMARY:【高須】アリラン気功体験会 ～エネルギーを充電～
DESCRIPTION:どなたでもお気軽に、初めてでも大丈夫です。\n・気功って何？\n・気を感じてみたい！\n・体が硬いけど💦\n・少し動きたい！ \n誰でも簡単にできる動作です。\nゆっくりした呼吸、エネルギーの循環を感じてみましょう。\n心身ともに充電できる気功です。 \n開催日：4月11日(土)\n時間：13：00～13：40\n会場名：ILCHIブレインヨガ高須スタジオ\n会場住所：北九州市若松区高須南2丁目1-15　FTCビル3階\n参加費：500円\nトレーナー：上田奈和、万田心江子\n持ち物：動きやすい服装、飲物 \n問合せ電話：093-742-3200 \n\nスタジオLINEからのお申し込みはこちら⇒https://lin.ee/OjBdaDF \n\n\n  \n\n\n\n\n	\n	\n	 \n	\n		\n			\n				ご予約内容\n						（必須）\n						\n				 \n			\n			\n				体験レッスンイベント体験レッスン+オーラ撮影オーラ撮影問合せ\n※ 入会予約はこちらからお申し込みください\n				 \n			\n		\n		\n			\n				お名前\n						（必須）\n						\n				 \n			\n			\n				\n				 \n			\n		\n		\n			\n				メールアドレス\n						（必須）\n						\n				 \n			\n			\n				\n※ 携帯電話のメールアドレスをご入力の際は、ドメイン指定の設定をされている場合”＠ilchibrainyoga.com”からのメールを受け取ることができるように設定してください。\n				 \n			\n		\n		\n			\n				お電話番号（携帯可）\n						（必須）\n						\n				 \n			\n			\n				イルチブレインヨガ各店舗からの連絡が可能な番号をご入力ください。\n\n				 \n			\n		\n		\n			\n				ご予約希望日時\n				 \n			\n			\n				ご予約希望日時をお選びください\n【希望日】タイムスケジュールに記載があるクラスからお選びください\n\n時間帯を選択してください10時台のクラス14時台のクラス19時台のクラスこどもクラス午前のイベント午後のイベント夜のイベント\n				 \n				※ ご予約状況等によりご希望の日時に添えない場合もございます。その際は事前に調整を行う連絡をさせていただきますので予めご了承ください。\n\n				 \n			\n		\n		\n			\n				こちらのスタジオを何でお知りになりましたか？\n						 （必須）\n						\n				 \n			\n			\n				チラシ看板書籍雑誌紹介Yahoo検索Google検索口コミその他Webサイト\n				 \n			\n		\n		\n			\n				ご関心があること、習得したいこと（複数可）\n				 \n			\n			\n				自然治癒力アップ集中力アップダイエット体質改善ストレス軽減丹田強化呼吸法瞑想法その他（備考欄にご入力ください）\n				 \n			\n		\n		\n			\n				備考欄\n				 \n			\n			\n				\n				 \n			\n		\n	\n	個人情報の取扱い\n		について、同意の上送信します。\n※ ご入力頂いた情報は、株式会社DAHN WORLD JAPANからのご案内をさせて頂く以外の目的では使用致しません。\n		\n	 \n	\n	\n	 \n	※ 送信ボタンを押すとすぐ送信されます。このページで入力内容を確認してください。\n\n自動で完了メールが配信されます。\n	 \nΔ \n\n\n\n株式会社DAHN WORLD JAPAN　ダンワールドジャパン
URL:https://ilchibrainyoga.com/event/takasu-9/
LOCATION:イルチブレインヨガ高須スタジオ\, 福岡県北九州市若松区高須南2-1-15 FTCビル3F
CATEGORIES:九州,福岡,高須
ATTACH;FMTTYPE=image/png:https://ilchibrainyoga.com/wp-content/uploads/2025/11/気功-2人-新モデル.png
END:VEVENT
BEGIN:VEVENT
DTSTART;TZID=Asia/Tokyo:20260411T133000
DTEND;TZID=Asia/Tokyo:20260411T153000
DTSTAMP:20260422T071005
CREATED:20260310T012751Z
LAST-MODIFIED:20260405T152434Z
UID:86219-1775914200-1775921400@ilchibrainyoga.com
SUMMARY:【岐阜】 春から始める！生活気功 “アリラン気功”体験会
DESCRIPTION:ブレイン体操、呼吸瞑想、アリラン気功\n開催日：4月11日（土）\n時間：13:30〜15:30\n会場名：みんなの森ぎふメデイアコスモス　おどるスタジオ\n会場住所：岐阜市司町40番地5\n参加費：1\,000円\nトレーナー：小石民代\n持ち物：動ける服装、水、タオル\n問合せ電話：058-266-7270 \n\nLINEからのお申し込みはこちら⇒https://lin.ee/A7dXgIv \n\n\n  \n\n\n\n\n	\n	\n	 \n	\n		\n			\n				ご予約内容\n						（必須）\n						\n				 \n			\n			\n				体験レッスンイベント体験レッスン+オーラ撮影オーラ撮影問合せ\n				 \n				※ 入会予約はこちらからお申し込みください\n				 \n			\n		\n		\n			\n				お名前\n						（必須）\n						\n				 \n			\n			\n				\n				 \n			\n		\n		\n			\n				メールアドレス\n						（必須）\n						\n				 \n			\n			\n				\n※ 携帯電話のメールアドレスをご入力の際は、ドメイン指定の設定をされている場合”＠ilchibrainyoga.com”からのメールを受け取ることができるように設定してください。\n				 \n			\n		\n		\n			\n				お電話番号（携帯可）\n						（必須）\n						\n				 \n			\n			\n				イルチブレインヨガ各店舗からの連絡が可能な番号をご入力ください。\n\n				 \n			\n		\n		\n			\n				ご予約希望日時\n				 \n			\n			\n				ご予約希望日時をお選びください\n【希望日】タイムスケジュールに記載があるクラスからお選びください\n\n時間帯を選択してください10時台のクラス14時台のクラス19時台のクラス午前のイベント午後のイベント夜のイベント\n				 \n				※ ご予約状況等によりご希望の日時に添えない場合もございます。その際は事前に調整を行う連絡をさせていただきますので予めご了承ください。\n\n				 \n			\n		\n		\n			\n				こちらのスタジオを何でお知りになりましたか？\n						 （必須）\n						\n				 \n			\n			\n				チラシ看板書籍雑誌紹介Yahoo検索Google検索口コミその他Webサイト\n				 \n			\n		\n		\n			\n				ご関心があること、習得したいこと（複数可）\n				 \n			\n			\n				自然治癒力アップ集中力アップダイエット体質改善ストレス軽減丹田強化呼吸法瞑想法その他（備考欄にご入力ください）\n				 \n			\n		\n		\n			\n				備考欄\n				 \n			\n			\n				\n				 \n			\n		\n	\n	個人情報の取扱い\n		について、同意の上送信します。\n※ ご入力頂いた情報は、株式会社DAHN WORLD JAPANからのご案内をさせて頂く以外の目的では使用致しません。\n		\n	 \n	\n	\n	 \n	※ 送信ボタンを押すとすぐ送信されます。このページで入力内容を確認してください。\n\n自動で完了メールが配信されます。\n	 \nΔ \n\n\n\n株式会社DAHN WORLD JAPAN
URL:https://ilchibrainyoga.com/event/gifu-24/
LOCATION:みんなの森ぎふメデイアコスモス　おどるスタジオ\, 岐阜市司町40番地5
CATEGORIES:中部,岐阜,岐阜
ATTACH;FMTTYPE=image/jpeg:https://ilchibrainyoga.com/wp-content/uploads/2026/03/岐阜２.jpg
END:VEVENT
BEGIN:VEVENT
DTSTART;TZID=Asia/Tokyo:20260411T140000
DTEND;TZID=Asia/Tokyo:20260411T153000
DTSTAMP:20260422T071005
CREATED:20260315T041020Z
LAST-MODIFIED:20260320T053306Z
UID:86721-1775916000-1775921400@ilchibrainyoga.com
SUMMARY:【堺東】我理朗（アリラン）ARIRANG　気功　体験会
DESCRIPTION:我理朗気功の効果・我理朗気功トレーニング\n簡単な動きで自分の感覚と生命のリズムを目覚めさせ心身の状態を整えていきます。 \n開催日：4月11日（土）\n時間：14：00～15：30\n会場名：イルチブレインヨガ堺東スタジオ\n会場住所：堺市堺区新町5－32新町ビル6階\n参加費：2\,000円\nトレーナー：山本和歌子\n持ち物：動きやすい服装、タオル、お飲み物\n問合せ電話：072-227-0631 \n\nLINEからのお申し込みはこちら→https://lin.ee/GsaCYCC \n\n\n  \n\n\n\n\n	\n	\n	 \n	\n		\n			\n				ご予約内容\n						（必須）\n						\n				 \n			\n			\n				体験レッスンイベント体験レッスン+オーラ撮影オーラ撮影問合せ\n				 \n				※ 入会予約はこちらからお申し込みください\n				 \n			\n		\n		\n			\n				お名前\n						（必須）\n						\n				 \n			\n			\n				\n				 \n			\n		\n		\n			\n				メールアドレス\n						（必須）\n						\n				 \n			\n			\n				\n※ 携帯電話のメールアドレスをご入力の際は、ドメイン指定の設定をされている場合”＠ilchibrainyoga.com”からのメールを受け取ることができるように設定してください。\n				 \n			\n		\n		\n			\n				お電話番号（携帯可）\n						（必須）\n						\n				 \n			\n			\n				イルチブレインヨガ各店舗からの連絡が可能な番号をご入力ください。\n\n				 \n			\n		\n		\n			\n				ご予約希望日時\n				 \n			\n			\n				ご予約希望日時をお選びください\n【希望日】タイムスケジュールに記載があるクラスからお選びください\n\n時間帯を選択してください10時台のクラス14時台のクラス19時台のクラス午前のイベント午後のイベント夜のイベント\n				 \n				※ ご予約状況等によりご希望の日時に添えない場合もございます。その際は事前に調整を行う連絡をさせていただきますので予めご了承ください。\n\n				 \n			\n		\n		\n			\n				こちらのスタジオを何でお知りになりましたか？\n						 （必須）\n						\n				 \n			\n			\n				チラシ看板書籍雑誌紹介Yahoo検索Google検索口コミその他Webサイト\n				 \n			\n		\n		\n			\n				ご関心があること、習得したいこと（複数可）\n				 \n			\n			\n				自然治癒力アップ集中力アップダイエット体質改善ストレス軽減丹田強化呼吸法瞑想法その他（備考欄にご入力ください）\n				 \n			\n		\n		\n			\n				備考欄\n				 \n			\n			\n				\n				 \n			\n		\n	\n	個人情報の取扱い\n		について、同意の上送信します。\n※ ご入力頂いた情報は、株式会社DAHN WORLD JAPANからのご案内をさせて頂く以外の目的では使用致しません。\n		\n	 \n	\n	\n	 \n	※ 送信ボタンを押すとすぐ送信されます。このページで入力内容を確認してください。\n\n自動で完了メールが配信されます。\n	 \nΔ \n\n\n\n株式会社DAHN WORLD JAPAN　ダンワールドジャパン
URL:https://ilchibrainyoga.com/event/sakaihigashi-37/
LOCATION:イルチブレインヨガ堺東スタジオ\, 大阪府堺市堺区新町５−３２ 新町ビル 605\, 〒590-0079
CATEGORIES:堺東,大阪,関西
ATTACH;FMTTYPE=image/jpeg:https://ilchibrainyoga.com/wp-content/uploads/2026/03/ok_20240114JP-広報用写真撮影_DSC0401-scaled.jpg
END:VEVENT
BEGIN:VEVENT
DTSTART;TZID=Asia/Tokyo:20260411T140000
DTEND;TZID=Asia/Tokyo:20260411T160000
DTSTAMP:20260422T071005
CREATED:20260309T031606Z
LAST-MODIFIED:20260403T082125Z
UID:86214-1775916000-1775923200@ilchibrainyoga.com
SUMMARY:【松戸】初心者OK！世界でも注目のアリラン 3つの体と7つのチャクラを整えるARIRAN気功瞑想体験会
DESCRIPTION:初心者でも簡単にできるARIRAN気功で、体をやさしく動かしながら自律神経のバランスを整えます。\n春のストレスやだるさをリセットし、体・心・エネルギーを軽く元気な状態へ導きます。\nアリランは本来の自分を知る喜びを目覚めさせるトレーニングです。\n3つの体と7つのチャクラを整えながら、新しい自分をスタートしてみませんか。 \n開催日・時間：\n4月11日（土）14:00〜16:00 \n会場名：\nイルチブレインヨガ松戸スタジオ\n会場住所：\n松戸市松戸1334-5 小川ビル3階\n参加費：\n2000円\nトレーナー：鈴木みこう\n持ち物：動きやすい服装、タオル、お飲み物\n電話：047－369-5977 \n\nLINEからのお申し込みはこちら⇒https://lin.ee/ts0lLJP \n\n\n  \n\n\n\n\n	\n	\n	 \n	\n		\n			\n				ご予約内容\n						（必須）\n						\n				 \n			\n			\n				体験レッスンイベント体験レッスン+オーラ撮影オーラ撮影問合せ\n※ 入会予約はこちらからお申し込みください\n				 \n			\n		\n		\n			\n				お名前\n						（必須）\n						\n				 \n			\n			\n				\n				 \n			\n		\n		\n			\n				メールアドレス\n						（必須）\n						\n				 \n			\n			\n				\n※ 携帯電話のメールアドレスをご入力の際は、ドメイン指定の設定をされている場合”＠ilchibrainyoga.com”からのメールを受け取ることができるように設定してください。\n				 \n			\n		\n		\n			\n				お電話番号（携帯可）\n						（必須）\n						\n				 \n			\n			\n				イルチブレインヨガ各店舗からの連絡が可能な番号をご入力ください。\n\n				 \n			\n		\n		\n			\n				ご予約希望日時\n				 \n			\n			\n				ご予約希望日時をお選びください\n【希望日】タイムスケジュールに記載があるクラスからお選びください\n\n時間帯を選択してください10時台のクラス14時台のクラス19時台のクラス午前のイベント午後のイベント夜のイベント\n				 \n				※ ご予約状況等によりご希望の日時に添えない場合もございます。その際は事前に調整を行う連絡をさせていただきますので予めご了承ください。\n\n				 \n			\n		\n		\n			\n				こちらのスタジオを何でお知りになりましたか？\n						 （必須）\n						\n				 \n			\n			\n				チラシ看板書籍雑誌紹介Yahoo検索Google検索口コミその他Webサイト\n				 \n			\n		\n		\n			\n				ご関心があること、習得したいこと（複数可）\n				 \n			\n			\n				自然治癒力アップ集中力アップダイエット体質改善ストレス軽減丹田強化呼吸法瞑想法その他（備考欄にご入力ください）\n				 \n			\n		\n		\n			\n				備考欄\n				 \n			\n			\n				\n				 \n			\n		\n	\n	個人情報の取扱い\n		について、同意の上送信します。\n※ ご入力頂いた情報は、株式会社DAHN WORLD JAPANからのご案内をさせて頂く以外の目的では使用致しません。\n		\n	 \n	\n	\n	 \n	※ 送信ボタンを押すとすぐ送信されます。このページで入力内容を確認してください。\n\n自動で完了メールが配信されます。\n	 \nΔ \n\n\n\n株式会社DAHN WORLD JAPAN　ダンワールドジャパン
URL:https://ilchibrainyoga.com/event/matudo-7/
LOCATION:イルチブレインヨガ松戸スタジオ\, 松戸市松戸1834‐5\,小川ビル3階\, 日本
CATEGORIES:千葉,松戸,関東
ATTACH;FMTTYPE=image/png:https://ilchibrainyoga.com/wp-content/uploads/2025/11/気功-2人-新モデル.png
END:VEVENT
END:VCALENDAR