BEGIN:VCALENDAR
VERSION:2.0
PRODID:-//イルチブレインヨガ公式サイト - ECPv6.15.16//NONSGML v1.0//EN
CALSCALE:GREGORIAN
METHOD:PUBLISH
X-WR-CALNAME:イルチブレインヨガ公式サイト
X-ORIGINAL-URL:https://ilchibrainyoga.com
X-WR-CALDESC:イルチブレインヨガ公式サイト のイベント
REFRESH-INTERVAL;VALUE=DURATION:PT1H
X-Robots-Tag:noindex
X-PUBLISHED-TTL:PT1H
BEGIN:VTIMEZONE
TZID:Asia/Tokyo
BEGIN:STANDARD
TZOFFSETFROM:+0900
TZOFFSETTO:+0900
TZNAME:JST
DTSTART:20250101T000000
END:STANDARD
END:VTIMEZONE
BEGIN:VEVENT
DTSTART;TZID=Asia/Tokyo:20260425T093000
DTEND;TZID=Asia/Tokyo:20260430T204000
DTSTAMP:20260424T191337
CREATED:20260210T014814Z
LAST-MODIFIED:20260424T074054Z
UID:85153-1777109400-1777581600@ilchibrainyoga.com
SUMMARY:【新宿四谷】4/30（木）まで　Kヒーリングヨガ（ARIRANG気功瞑想）
DESCRIPTION:一日の疲れ、ストレス、どうケアしていますか？\n新しいヨガ！Kヒーリングヨガでストレスリセットし、明日の力を充電しませんか？ \n💗丹田叩き、腸運動でエネルギーアップ\n💗ARIRANG気功＆瞑想でリラックス、自分と繋がる \nエネルギーを整え、自分を解放する時間となります。\n新宿四谷スタジオの新しく、静かで落ち着いた空間でゆっくりと自分と出会うリセット時間\n6人以下の少人数グループセッションで気楽にエネルギーチャージを😄\nお待ちしています！ \n★前日までにご予約お願いします。 \n《日時》\n9時30分～（火水金土日）\n13時30分～（火水金土日）\n16時30分〜（火水金）\n18時30分～（火）\n19時～（水木金）\n※体験時間は２時間弱かかります。 \n《参加費》\n1000円（税込み） \n《場所》\nイルチブレインヨガ新宿四谷スタジオ\n新宿区四谷2－2－2　四谷三和ビル９階 \n《持ち物》\n動きやすい服装（更衣室完備）\n※マットは無料でお貸しします。\nTel　03‐3358-2753 \n\nLINEからのお申し込みはこちら⇒https://lin.ee/PCIxwlO \n\n\n  \n\n\n\n\n	\n	\n	 \n	\n		\n			\n				ご予約内容\n						（必須）\n						\n				 \n			\n			\n				体験レッスンイベント体験レッスン+オーラ撮影オーラ撮影問合せ\n※ 入会予約はこちらからお申し込みください\n				 \n			\n		\n		\n			\n				お名前\n						（必須）\n						\n				 \n			\n			\n				\n				 \n			\n		\n		\n			\n				メールアドレス\n						（必須）\n						\n				 \n			\n			\n				\n※ 携帯電話のメールアドレスをご入力の際は、ドメイン指定の設定をされている場合”＠ilchibrainyoga.com”からのメールを受け取ることができるように設定してください。\n				 \n			\n		\n		\n			\n				お電話番号（携帯可）\n						（必須）\n						\n				 \n			\n			\n				イルチブレインヨガ各店舗からの連絡が可能な番号をご入力ください。\n\n				 \n			\n		\n		\n			\n				ご予約希望日時\n				 \n			\n			\n				ご予約希望日時をお選びください\n【希望日】タイムスケジュールに記載があるクラスからお選びください\n\n時間帯を選択してください10時台のクラス14時台のクラス19時台のクラス午前のイベント午後のイベント夜のイベント\n				 \n				※ ご予約状況等によりご希望の日時に添えない場合もございます。その際は事前に調整を行う連絡をさせていただきますので予めご了承ください。\n\n				 \n			\n		\n		\n			\n				こちらのスタジオを何でお知りになりましたか？\n						 （必須）\n						\n				 \n			\n			\n				チラシ看板書籍雑誌紹介Yahoo検索Google検索口コミその他Webサイト\n				 \n			\n		\n		\n			\n				ご関心があること、習得したいこと（複数可）\n				 \n			\n			\n				自然治癒力アップ集中力アップダイエット体質改善ストレス軽減丹田強化呼吸法瞑想法その他（備考欄にご入力ください）\n				 \n			\n		\n		\n			\n				備考欄\n				 \n			\n			\n				\n				 \n			\n		\n	\n	個人情報の取扱い\n		について、同意の上送信します。\n※ ご入力頂いた情報は、株式会社DAHN WORLD JAPANからのご案内をさせて頂く以外の目的では使用致しません。\n		\n	 \n	\n	\n	 \n	※ 送信ボタンを押すとすぐ送信されます。このページで入力内容を確認してください。\n\n自動で完了メールが配信されます。\n	 \nΔ \n\n\n\n株式会社DAHN WORLD JAPAN　ダンワールドジャパン
URL:https://ilchibrainyoga.com/event/shinjyuku-20/
LOCATION:イルチブレインヨガ新宿四谷スタジオ\, 新宿区四谷2－2－2　四谷三和ビル９階
CATEGORIES:新宿,東京,関東
ATTACH;FMTTYPE=image/jpeg:https://ilchibrainyoga.com/wp-content/uploads/2026/02/新宿.jpg
END:VEVENT
BEGIN:VEVENT
DTSTART;TZID=Asia/Tokyo:20260425T133000
DTEND;TZID=Asia/Tokyo:20260429T140000
DTSTAMP:20260424T191337
CREATED:20260311T052509Z
LAST-MODIFIED:20260422T092235Z
UID:86442-1777123800-1777471200@ilchibrainyoga.com
SUMMARY:【下曽根】アリラン気功体験会～エネルギーを充電〜
DESCRIPTION:どなたでもお気軽に、初めてでも大丈夫です。\n誰でも簡単にできる動作でゆっくりした呼吸、エネルギーの循環を感じてみましょう。\n心身共に充電できる気功です。\n気になる方はぜひご参加ください。 \n・気功って何？\n・気を感じてみたい！\n・体が硬い\n・体を整えたい \n📍 会場\nイルチブレインヨガ下曽根スタジオ\n（北九州市小倉南区田原3-1-18 102）\n日程：火曜水曜土曜\n時間：13時30分～（30分）\n参加費：500円\n準備するもの：動きやすい服装、飲物\n問合せ電話：090-1921-3350 \n\nLINEからのお申し込みはこちら⇒https://lin.ee/dN980St \n\n\n  \n\n\n\n\n	\n	\n	 \n	\n		\n			\n				ご予約内容\n						（必須）\n						\n				 \n			\n			\n				体験レッスンイベント体験レッスン+オーラ撮影オーラ撮影問合せ\n※ 入会予約はこちらからお申し込みください\n				 \n			\n		\n		\n			\n				お名前\n						（必須）\n						\n				 \n			\n			\n				\n				 \n			\n		\n		\n			\n				メールアドレス\n						（必須）\n						\n				 \n			\n			\n				\n※ 携帯電話のメールアドレスをご入力の際は、ドメイン指定の設定をされている場合”＠ilchibrainyoga.com”からのメールを受け取ることができるように設定してください。\n				 \n			\n		\n		\n			\n				お電話番号（携帯可）\n						（必須）\n						\n				 \n			\n			\n				イルチブレインヨガ各店舗からの連絡が可能な番号をご入力ください。\n\n				 \n			\n		\n		\n			\n				ご予約希望日時\n				 \n			\n			\n				ご予約希望日時をお選びください\n【希望日】タイムスケジュールに記載があるクラスからお選びください\n\n時間帯を選択してください10時台のクラス19時台のクラスこどもクラス午前のイベント午後のイベント夜のイベント\n				 \n				※ ご予約状況等によりご希望の日時に添えない場合もございます。その際は事前に調整を行う連絡をさせていただきますので予めご了承ください。\n\n				 \n			\n		\n		\n			\n				こちらのスタジオを何でお知りになりましたか？\n						 （必須）\n						\n				 \n			\n			\n				チラシ看板書籍雑誌紹介Yahoo検索Google検索口コミその他Webサイト\n				 \n			\n		\n		\n			\n				ご関心があること、習得したいこと（複数可）\n				 \n			\n			\n				自然治癒力アップ集中力アップダイエット体質改善ストレス軽減丹田強化呼吸法瞑想法その他（備考欄にご入力ください）\n				 \n			\n		\n		\n			\n				備考欄\n				 \n			\n			\n				\n				 \n			\n		\n	\n	個人情報の取扱い\n		について、同意の上送信します。\n※ ご入力頂いた情報は、株式会社DAHN WORLD JAPANからのご案内をさせて頂く以外の目的では使用致しません。\n		\n	 \n	\n	\n	 \n	※ 送信ボタンを押すとすぐ送信されます。このページで入力内容を確認してください。\n\n自動で完了メールが配信されます。\n	 \nΔ \n\n\n\n株式会社DAHN WORLD JAPAN　ダンワールドジャパン
URL:https://ilchibrainyoga.com/event/shimosone-18/
LOCATION:イルチブレインヨガ下曽根スタジオ\, 福岡県北九州市小倉南区田原 3丁目1-18 ルポ田原24 102\, Japan
CATEGORIES:下曽根,九州,福岡
ATTACH;FMTTYPE=image/jpeg:https://ilchibrainyoga.com/wp-content/uploads/2026/03/気功２.jpg
END:VEVENT
BEGIN:VEVENT
DTSTART;TZID=Asia/Tokyo:20260428T140000
DTEND;TZID=Asia/Tokyo:20260428T160000
DTSTAMP:20260424T191337
CREATED:20260412T080959Z
LAST-MODIFIED:20260420T052017Z
UID:88659-1777384800-1777392000@ilchibrainyoga.com
SUMMARY:【上大岡】 ARIRANG気功体験会
DESCRIPTION:シンプルな動きによって、呼吸や体のバランスが整うアリラン気功を体験してみませんか？\nストレスも多く、忙しい日々、外側に引っ張られていた意識を、気功を通して今ここに戻していく時、\n心も穏やかになり、自分の中で休む感覚が生まれます。体も心も乱れやすい春にぴったりです！ \n開催日：\n4月28日（火）14：00～16：00 \n会場名：イルチブレインヨガ上大岡スタジオ\n会場住所：横浜市港南区上大岡西3－1－11 サンシャインビル４F\n参加費：1500円\nトレーナー：福田由香子\n持ち物：動きやすい服装、飲み物、タオル\n問合せ電話：045－842-8480 \n\nLINEからのお申し込みはこちら⇒https://lin.ee/uCH13Gu \n\n\n  \n\n\n\n\n	\n	\n	 \n	\n		\n			\n				ご予約内容\n						（必須）\n						\n				 \n			\n			\n				体験レッスンイベント体験レッスン+オーラ撮影オーラ撮影問合せ\n　※ 入会予約はこちらからお申し込みください\n				 \n			\n		\n		\n			\n				お名前\n						（必須）\n						\n				 \n			\n			\n				\n				 \n			\n		\n		\n			\n				メールアドレス\n						（必須）\n						\n				 \n			\n			\n				\n※ 携帯電話のメールアドレスをご入力の際は、ドメイン指定の設定をされている場合”＠ilchibrainyoga.com”からのメールを受け取ることができるように設定してください。\n				 \n			\n		\n		\n			\n				お電話番号（携帯可）\n						（必須）\n						\n				 \n			\n			\n				イルチブレインヨガ各店舗からの連絡が可能な番号をご入力ください。\n\n				 \n			\n		\n		\n			\n				ご予約希望日時\n				 \n			\n			\n				ご予約希望日時をお選びください\n【希望日】タイムスケジュールに記載があるクラスからお選びください\n\n時間帯を選択してください10時台のクラス14時台のクラス19時台のクラス午前のイベント午後のイベント夜のイベント\n				 \n				※ ご予約状況等によりご希望の日時に添えない場合もございます。その際は事前に調整を行う連絡をさせていただきますので予めご了承ください。\n\n				 \n			\n		\n		\n			\n				こちらのスタジオを何でお知りになりましたか？\n						 （必須）\n						\n				 \n			\n			\n				チラシ看板書籍雑誌紹介Yahoo検索Google検索口コミその他Webサイト\n				 \n			\n		\n		\n			\n				ご関心があること、習得したいこと（複数可）\n				 \n			\n			\n				自然治癒力アップ集中力アップダイエット体質改善ストレス軽減丹田強化呼吸法瞑想法その他（備考欄にご入力ください）\n				 \n			\n		\n		\n			\n				備考欄\n				 \n			\n			\n				\n				 \n			\n		\n	\n	個人情報の取扱い\n		について、同意の上送信します。\n※ ご入力頂いた情報は、株式会社DAHN WORLD JAPANからのご案内をさせて頂く以外の目的では使用致しません。\n		\n	 \n	\n	\n	 \n	※ 送信ボタンを押すとすぐ送信されます。このページで入力内容を確認してください。\n\n自動で完了メールが配信されます。\n	 \nΔ \n\n\n\n株式会社DAHN WORLD JAPAN　ダンワールドジャパン
URL:https://ilchibrainyoga.com/event/kamiooka-10/
LOCATION:イルチブレインヨガ上大岡スタジオ\, 神奈川県横浜市港南区上大岡西3-1-11 サンシャインビル 4F\, Japan
CATEGORIES:上大岡,神奈川,関東
ATTACH;FMTTYPE=image/jpeg:https://ilchibrainyoga.com/wp-content/uploads/2026/03/気功２.jpg
END:VEVENT
END:VCALENDAR