BEGIN:VCALENDAR
VERSION:2.0
PRODID:-//イルチブレインヨガ公式サイト - ECPv6.15.16//NONSGML v1.0//EN
CALSCALE:GREGORIAN
METHOD:PUBLISH
X-WR-CALNAME:イルチブレインヨガ公式サイト
X-ORIGINAL-URL:https://ilchibrainyoga.com
X-WR-CALDESC:イルチブレインヨガ公式サイト のイベント
REFRESH-INTERVAL;VALUE=DURATION:PT1H
X-Robots-Tag:noindex
X-PUBLISHED-TTL:PT1H
BEGIN:VTIMEZONE
TZID:Asia/Tokyo
BEGIN:STANDARD
TZOFFSETFROM:+0900
TZOFFSETTO:+0900
TZNAME:JST
DTSTART:20250101T000000
END:STANDARD
END:VTIMEZONE
BEGIN:VEVENT
DTSTART;TZID=Asia/Tokyo:20260228T100000
DTEND;TZID=Asia/Tokyo:20260228T180000
DTSTAMP:20260420T143125
CREATED:20260121T022457Z
LAST-MODIFIED:20260121T022457Z
UID:84759-1772272800-1772301600@ilchibrainyoga.com
SUMMARY:【姫路】姫路ヒーリングマーケット
DESCRIPTION:オーラ撮影\n生きているものすべてにある生体エネルギー。\nそれを色で表したものがオーラです🌈\n専用の機械を使い、撮影します。\n色によって特徴があり、その人の気質、体の状態が分かります。\nまた、交感神経と副交感神経のバランスや体と心と脳のバランスもわかります。 \n【日程】2月28日(土)  10：00～18：00\n【会場】アクリエひめじ\n　　　　姫路市神屋町143-2\n【参加費】　1\,000円\n【ご予約】　０７９－２８３－６３６３ \n\nLINEからのお申し込みはこちら⇒https://lin.ee/7jrsfbQ \n\n\n  \n\n\n\n\n	\n	\n	 \n	\n		\n			\n				ご予約内容\n						（必須）\n						\n				 \n			\n			\n				体験レッスンイベント体験レッスン+オーラ撮影オーラ撮影問合せ\n※ 入会予約はこちらからお申し込みください\n				 \n			\n		\n		\n			\n				お名前\n						（必須）\n						\n				 \n			\n			\n				\n				 \n			\n		\n		\n			\n				メールアドレス\n						（必須）\n						\n				 \n			\n			\n				\n※ 携帯電話のメールアドレスをご入力の際は、ドメイン指定の設定をされている場合”＠ilchibrainyoga.com”からのメールを受け取ることができるように設定してください。\n				 \n			\n		\n		\n			\n				お電話番号（携帯可）\n						（必須）\n						\n				 \n			\n			\n				イルチブレインヨガ各店舗からの連絡が可能な番号をご入力ください。\n\n				 \n			\n		\n		\n			\n				ご予約希望日時\n				 \n			\n			\n				ご予約希望日時をお選びください\n【希望日】タイムスケジュールに記載があるクラスからお選びください\n\n時間帯を選択してください10時台のクラス14時台のクラス18時台のクラス午前のイベント午後のイベント夜のイベント\n				 \n				※ ご予約状況等によりご希望の日時に添えない場合もございます。その際は事前に調整を行う連絡をさせていただきますので予めご了承ください。\n\n				 \n			\n		\n		\n			\n				こちらのスタジオを何でお知りになりましたか？\n						 （必須）\n						\n				 \n			\n			\n				チラシ看板書籍雑誌紹介Yahoo検索Google検索口コミその他Webサイト\n				 \n			\n		\n		\n			\n				ご関心があること、習得したいこと（複数可）\n				 \n			\n			\n				自然治癒力アップ集中力アップダイエット体質改善ストレス軽減丹田強化呼吸法瞑想法その他（備考欄にご入力ください）\n				 \n			\n		\n		\n			\n				備考欄\n				 \n			\n			\n				\n				 \n			\n		\n	\n	個人情報の取扱い\n		について、同意の上送信します。\n※ ご入力頂いた情報は、株式会社DAHN WORLD JAPANからのご案内をさせて頂く以外の目的では使用致しません。\n		\n	 \n	\n	\n	 \n	※ 送信ボタンを押すとすぐ送信されます。このページで入力内容を確認してください。\n\n自動で完了メールが配信されます。\n	 \nΔ \n\n\n\n株式会社DAHN WORLD JAPAN　ダンワールドジャパン
URL:https://ilchibrainyoga.com/event/himeji-39/
LOCATION:アクリエひめじ\, 姫路市神屋町143-2
CATEGORIES:兵庫,姫路
ATTACH;FMTTYPE=image/jpeg:https://ilchibrainyoga.com/wp-content/uploads/2025/08/横浜２.jpg
END:VEVENT
BEGIN:VEVENT
DTSTART;TZID=Asia/Tokyo:20260124T140000
DTEND;TZID=Asia/Tokyo:20260124T153000
DTSTAMP:20260420T143125
CREATED:20260115T052654Z
LAST-MODIFIED:20260115T052654Z
UID:84698-1769263200-1769268600@ilchibrainyoga.com
SUMMARY:【姫路】心身リフレッシュ！心も軽く！！頭もクリアに！！！ 【体と心 ぽかぽかヨガ・瞑想体験会】
DESCRIPTION:なんだろう？！この心地よいスッキリ感！ \n年が明け、1年の中でも寒さが厳しい時期ですね。\n東洋のトレーニングをベースにした、\nかんたんな動きで全身のめぐりをサポート！\nお腹の中からぽかぽか温めて、寒さに負けない体づくりをしませんか？\n難しいポーズなし。体が硬くても大丈夫です！ \nこんな方におすすめ（期待できる変化）\n⭐︎ 気分転換・ストレスのリセットに\n⭐︎ 集中して取り組む力を養いたい\n⭐︎ 肩や腰周りのガチガチ・重だるさをスッキリさせたい\n⭐︎ はつらつとした健康維持に\n⭐︎ 毎日の体力をキープしたい\n⭐︎ 冬の温活・ポカポカ習慣に\n⭐︎ スッキリしたシルエット＆心地よい休息のために★ \n【日時】　1/24(土) 14:00~15:30\n【場所】　網干市民センター 第3和室\n　　　姫路市網干区垣内中町120番地\n【参加費】　900円(税込)\n【内容】  腸をほぐす運動\n　　　呼吸、丹田活性化体操\n　　　エネルギー瞑想 など\n【持ち物】  ヨガマットかバスタオル、飲み物\n動きやすい服装で お越しください。\n🌟先着 7名様\n【ご予約】　０７９－２８３－６３６３ \n\nLINEからのお申し込みはこちら⇒https://lin.ee/7jrsfbQ \n\n\n  \n\n\n\n\n	\n	\n	 \n	\n		\n			\n				ご予約内容\n						（必須）\n						\n				 \n			\n			\n				体験レッスンイベント体験レッスン+オーラ撮影オーラ撮影問合せ\n※ 入会予約はこちらからお申し込みください\n				 \n			\n		\n		\n			\n				お名前\n						（必須）\n						\n				 \n			\n			\n				\n				 \n			\n		\n		\n			\n				メールアドレス\n						（必須）\n						\n				 \n			\n			\n				\n※ 携帯電話のメールアドレスをご入力の際は、ドメイン指定の設定をされている場合”＠ilchibrainyoga.com”からのメールを受け取ることができるように設定してください。\n				 \n			\n		\n		\n			\n				お電話番号（携帯可）\n						（必須）\n						\n				 \n			\n			\n				イルチブレインヨガ各店舗からの連絡が可能な番号をご入力ください。\n\n				 \n			\n		\n		\n			\n				ご予約希望日時\n				 \n			\n			\n				ご予約希望日時をお選びください\n【希望日】タイムスケジュールに記載があるクラスからお選びください\n\n時間帯を選択してください10時台のクラス14時台のクラス18時台のクラス午前のイベント午後のイベント夜のイベント\n				 \n				※ ご予約状況等によりご希望の日時に添えない場合もございます。その際は事前に調整を行う連絡をさせていただきますので予めご了承ください。\n\n				 \n			\n		\n		\n			\n				こちらのスタジオを何でお知りになりましたか？\n						 （必須）\n						\n				 \n			\n			\n				チラシ看板書籍雑誌紹介Yahoo検索Google検索口コミその他Webサイト\n				 \n			\n		\n		\n			\n				ご関心があること、習得したいこと（複数可）\n				 \n			\n			\n				自然治癒力アップ集中力アップダイエット体質改善ストレス軽減丹田強化呼吸法瞑想法その他（備考欄にご入力ください）\n				 \n			\n		\n		\n			\n				備考欄\n				 \n			\n			\n				\n				 \n			\n		\n	\n	個人情報の取扱い\n		について、同意の上送信します。\n※ ご入力頂いた情報は、株式会社DAHN WORLD JAPANからのご案内をさせて頂く以外の目的では使用致しません。\n		\n	 \n	\n	\n	 \n	※ 送信ボタンを押すとすぐ送信されます。このページで入力内容を確認してください。\n\n自動で完了メールが配信されます。\n	 \nΔ \n\n\n\n株式会社DAHN WORLD JAPAN　ダンワールドジャパン
URL:https://ilchibrainyoga.com/event/himeji-36/
LOCATION:網干市民センター 第3和室\, 姫路市網干区垣内中町120番地
CATEGORIES:兵庫,姫路
ATTACH;FMTTYPE=image/jpeg:https://ilchibrainyoga.com/wp-content/uploads/2024/12/1人瞑想.jpg
END:VEVENT
END:VCALENDAR